BEGIN:VCALENDAR
VERSION:2.0
PRODID:-//Our Lady of Mt. Carmel - ECPv6.15.20//NONSGML v1.0//EN
CALSCALE:GREGORIAN
METHOD:PUBLISH
X-WR-CALNAME:Our Lady of Mt. Carmel
X-ORIGINAL-URL:https://www.olmcfssp.org
X-WR-CALDESC:Events for Our Lady of Mt. Carmel
REFRESH-INTERVAL;VALUE=DURATION:PT1H
X-Robots-Tag:noindex
X-PUBLISHED-TTL:PT1H
BEGIN:VTIMEZONE
TZID:America/Denver
BEGIN:DAYLIGHT
TZOFFSETFROM:-0700
TZOFFSETTO:-0600
TZNAME:MDT
DTSTART:20250309T090000
END:DAYLIGHT
BEGIN:STANDARD
TZOFFSETFROM:-0600
TZOFFSETTO:-0700
TZNAME:MST
DTSTART:20251102T080000
END:STANDARD
BEGIN:DAYLIGHT
TZOFFSETFROM:-0700
TZOFFSETTO:-0600
TZNAME:MDT
DTSTART:20260308T090000
END:DAYLIGHT
BEGIN:STANDARD
TZOFFSETFROM:-0600
TZOFFSETTO:-0700
TZNAME:MST
DTSTART:20261101T080000
END:STANDARD
BEGIN:DAYLIGHT
TZOFFSETFROM:-0700
TZOFFSETTO:-0600
TZNAME:MDT
DTSTART:20270314T090000
END:DAYLIGHT
BEGIN:STANDARD
TZOFFSETFROM:-0600
TZOFFSETTO:-0700
TZNAME:MST
DTSTART:20271107T080000
END:STANDARD
END:VTIMEZONE
BEGIN:VEVENT
DTSTART;TZID=America/Denver:20260218T190000
DTEND;TZID=America/Denver:20260218T203000
DTSTAMP:20260421T145751
CREATED:20240712T221257Z
LAST-MODIFIED:20260214T030829Z
UID:9498-1771441200-1771446600@www.olmcfssp.org
SUMMARY:Choir Practice
DESCRIPTION:
URL:https://www.olmcfssp.org/calendar/choir-practice-157/
END:VEVENT
BEGIN:VEVENT
DTSTART;TZID=America/Denver:20260217T170000
DTEND;TZID=America/Denver:20260217T180000
DTSTAMP:20260421T145751
CREATED:20240712T215016Z
LAST-MODIFIED:20260214T015330Z
UID:9140-1771347600-1771351200@www.olmcfssp.org
SUMMARY:Shepherds of Christ Prayer Group
DESCRIPTION:
URL:https://www.olmcfssp.org/calendar/shepherds-of-christ-prayer-group-159/
END:VEVENT
BEGIN:VEVENT
DTSTART;TZID=America/Denver:20260217T093000
DTEND;TZID=America/Denver:20260217T110000
DTSTAMP:20260421T145751
CREATED:20240712T221123Z
LAST-MODIFIED:20260214T045340Z
UID:9459-1771320600-1771326000@www.olmcfssp.org
SUMMARY:Tuesday Morning Book Club
DESCRIPTION:The Tuesday morning book club meets to read and discuss a selected book that assists with spiritual growth and knowledge of our wonderful Catholic faith. All members of the parish are welcome to drop by and check us out.
URL:https://www.olmcfssp.org/calendar/tuesday-morning-book-club-158/
END:VEVENT
BEGIN:VEVENT
DTSTART;TZID=America/Denver:20260216T180000
DTEND;TZID=America/Denver:20260216T190000
DTSTAMP:20260421T145751
CREATED:20240712T220709Z
LAST-MODIFIED:20260213T020828Z
UID:9400-1771264800-1771268400@www.olmcfssp.org
SUMMARY:Legion of Mary Meeting
DESCRIPTION:The legion exists to be a sign of Mary’s maternal love for the world and a means of enlisting all her children in the Church’s evangelizing work. It is at the disposal of the parish priest for any form of service deemed useful for the welfare of the Church.
URL:https://www.olmcfssp.org/calendar/legion-of-mary-meeting-314/
END:VEVENT
BEGIN:VEVENT
DTSTART;TZID=America/Denver:20260215T170000
DTEND;TZID=America/Denver:20260215T180000
DTSTAMP:20260421T145751
CREATED:20240712T215016Z
LAST-MODIFIED:20260214T015330Z
UID:9139-1771174800-1771178400@www.olmcfssp.org
SUMMARY:Sung Vespers
DESCRIPTION:
URL:https://www.olmcfssp.org/calendar/sung-vespers-145/
END:VEVENT
BEGIN:VEVENT
DTSTART;TZID=America/Denver:20260215T140000
DTEND;TZID=America/Denver:20260215T170000
DTSTAMP:20260421T145751
CREATED:20240712T220709Z
LAST-MODIFIED:20260213T020828Z
UID:9399-1771164000-1771174800@www.olmcfssp.org
SUMMARY:Laeta Vita
DESCRIPTION:Leata Vita (Joyful Life) is a group for single women ages 18-35. The purpose of our group is to meet and grow in fellowship with other women who are in a similar season of life. We meet two times a month. The first meeting of the month consists of discussing a book as part of our book club and socializing with each other. The second meeting of the month consists of a fun outing or activity (and every now and then something charitable for the parish or some other organization)\, meant to give the members a chance to get out and have some fun.
URL:https://www.olmcfssp.org/calendar/laeta-vita-64/
END:VEVENT
BEGIN:VEVENT
DTSTART;TZID=America/Denver:20260215T123000
DTEND;TZID=America/Denver:20260215T140000
DTSTAMP:20260421T145751
CREATED:20240712T221122Z
LAST-MODIFIED:20260214T045340Z
UID:9458-1771158600-1771164000@www.olmcfssp.org
SUMMARY:Creation Study Group
DESCRIPTION:This group is dedicated to studying the traditional Catholic teaching on creation and Genesis as believed and taught by the Doctors\, Fathers\, Councils and Popes for two thousand years. We explore various aspects of the creation/evolutionism debate and the effects of evolutionary thought on culture\, science and the Church. As Pope St Pius X said about Modernism\, that it is the “synthesis of all heresies.” And “the chief of their doctrines\, that of evolution.” \nAll are welcome to attend and contribute their experience and expertise.
URL:https://www.olmcfssp.org/calendar/creation-study-group-28/
END:VEVENT
BEGIN:VEVENT
DTSTART;TZID=America/Denver:20260214T130000
DTEND;TZID=America/Denver:20260214T160000
DTSTAMP:20260421T145751
CREATED:20240712T220709Z
LAST-MODIFIED:20260213T020828Z
UID:9398-1771074000-1771084800@www.olmcfssp.org
SUMMARY:Hibernia Music Group
DESCRIPTION:An OLMC acoustic music group. We play traditional Irish\, Folk and Americana music. All are welcome to join us\, beginner or advanced\, Instrumentalist or Vocalist. Our goal is to sharpen our skills\, increase our musical knowledge\, have good Catholic fellowship\, and share our music.
URL:https://www.olmcfssp.org/calendar/hibernia-music-group-70/
END:VEVENT
BEGIN:VEVENT
DTSTART;TZID=America/Denver:20260214T093000
DTEND;TZID=America/Denver:20260214T130000
DTSTAMP:20260421T145751
CREATED:20240712T221454Z
LAST-MODIFIED:20260214T022334Z
UID:9527-1771061400-1771074000@www.olmcfssp.org
SUMMARY:St. Teresa of Jesus Association
DESCRIPTION:A formation in the spirituality of St. Teresa of Jesus within a Study Group composed of men and women over the age of 25 years. This formation includes daily Mass\, Lectio Divina\, Divine Office and the living a life of apostolic endeavors: ministering to our families and the world.  The members endeavor to give glory to God\, to honor our Blessed Lady of Carmel and to aid our Holy Mother the Church by their prayers.
URL:https://www.olmcfssp.org/calendar/st-teresa-of-jesus-association-35/
END:VEVENT
BEGIN:VEVENT
DTSTART;TZID=America/Denver:20260214T093000
DTEND;TZID=America/Denver:20260214T113000
DTSTAMP:20260421T145751
CREATED:20240712T215737Z
LAST-MODIFIED:20260214T052328Z
UID:9272-1771061400-1771068600@www.olmcfssp.org
SUMMARY:Holy Name Society Meeting
DESCRIPTION:The Holy Name Society is an organization of men striving to grow in holiness. The group is open to all men of the parish over the age of 18. Meetings include Mass\, the recitation of the Holy Rosary\, breakfast and a spiritual talk.
URL:https://www.olmcfssp.org/calendar/holy-name-society-meeting-34/
END:VEVENT
BEGIN:VEVENT
DTSTART;TZID=America/Denver:20260212T174500
DTEND;TZID=America/Denver:20260212T184500
DTSTAMP:20260421T145751
CREATED:20240712T215015Z
LAST-MODIFIED:20260210T185046Z
UID:9137-1770918300-1770921900@www.olmcfssp.org
SUMMARY:Holy Face Devotion Group
DESCRIPTION:His Holy Face Ministry’s mission is to bring the Face of God back into the world to breathe life into souls by making reparation for the sins committed against the majesty of God and the Catholic Church. Join us as a community in making public reparation before a 2nd class relic image of the Veil of St. Veronica on the second Tuesday or third Saturday of each month after the 8:30 AM mass. We also offer presentations on the Holy Face Devotion\, a Home Enthronement Program with the image\, and a Parish Enthronement Program to share with a wider audience.
URL:https://www.olmcfssp.org/calendar/holy-face-devotion-group-43/
LOCATION:Church
END:VEVENT
BEGIN:VEVENT
DTSTART;TZID=America/Denver:20260212T093000
DTEND;TZID=America/Denver:20260212T103000
DTSTAMP:20260421T145751
CREATED:20240712T220709Z
LAST-MODIFIED:20260206T030826Z
UID:9397-1770888600-1770892200@www.olmcfssp.org
SUMMARY:Legion of Mary Meeting
DESCRIPTION:The legion exists to be a sign of Mary’s maternal love for the world and a means of enlisting all her children in the Church’s evangelizing work. It is at the disposal of the parish priest for any form of service deemed useful for the welfare of the Church.
URL:https://www.olmcfssp.org/calendar/legion-of-mary-meeting-313/
END:VEVENT
BEGIN:VEVENT
DTSTART;TZID=America/Denver:20260211T190000
DTEND;TZID=America/Denver:20260211T203000
DTSTAMP:20260421T145751
CREATED:20240712T221257Z
LAST-MODIFIED:20260207T040832Z
UID:9497-1770836400-1770841800@www.olmcfssp.org
SUMMARY:Choir Practice
DESCRIPTION:
URL:https://www.olmcfssp.org/calendar/choir-practice-156/
END:VEVENT
BEGIN:VEVENT
DTSTART;TZID=America/Denver:20260210T170000
DTEND;TZID=America/Denver:20260210T180000
DTSTAMP:20260421T145751
CREATED:20240712T215016Z
LAST-MODIFIED:20260207T025330Z
UID:9138-1770742800-1770746400@www.olmcfssp.org
SUMMARY:Shepherds of Christ Prayer Group
DESCRIPTION:
URL:https://www.olmcfssp.org/calendar/shepherds-of-christ-prayer-group-158/
END:VEVENT
BEGIN:VEVENT
DTSTART;TZID=America/Denver:20260210T093000
DTEND;TZID=America/Denver:20260210T110000
DTSTAMP:20260421T145751
CREATED:20240712T221122Z
LAST-MODIFIED:20260207T055332Z
UID:9457-1770715800-1770721200@www.olmcfssp.org
SUMMARY:Tuesday Morning Book Club
DESCRIPTION:The Tuesday morning book club meets to read and discuss a selected book that assists with spiritual growth and knowledge of our wonderful Catholic faith. All members of the parish are welcome to drop by and check us out.
URL:https://www.olmcfssp.org/calendar/tuesday-morning-book-club-157/
END:VEVENT
BEGIN:VEVENT
DTSTART;TZID=America/Denver:20260209T180000
DTEND;TZID=America/Denver:20260209T190000
DTSTAMP:20260421T145751
CREATED:20240712T220709Z
LAST-MODIFIED:20260206T030826Z
UID:9396-1770660000-1770663600@www.olmcfssp.org
SUMMARY:Legion of Mary Meeting
DESCRIPTION:The legion exists to be a sign of Mary’s maternal love for the world and a means of enlisting all her children in the Church’s evangelizing work. It is at the disposal of the parish priest for any form of service deemed useful for the welfare of the Church.
URL:https://www.olmcfssp.org/calendar/legion-of-mary-meeting-312/
END:VEVENT
BEGIN:VEVENT
DTSTART;TZID=America/Denver:20260208T170000
DTEND;TZID=America/Denver:20260208T180000
DTSTAMP:20260421T145751
CREATED:20240712T215015Z
LAST-MODIFIED:20260207T025330Z
UID:9136-1770570000-1770573600@www.olmcfssp.org
SUMMARY:Sung Vespers
DESCRIPTION:
URL:https://www.olmcfssp.org/calendar/sung-vespers-144/
END:VEVENT
BEGIN:VEVENT
DTSTART;TZID=America/Denver:20260208T123000
DTEND;TZID=America/Denver:20260208T140000
DTSTAMP:20260421T145751
CREATED:20240712T220709Z
LAST-MODIFIED:20260206T030826Z
UID:9395-1770553800-1770559200@www.olmcfssp.org
SUMMARY:Knights of Columbus Meeting
DESCRIPTION:As faithful Catholics\, we are called to be salt and light in this material world. As traditional Catholics within the Church Universal\, we are sometimes called\, in charity\, to bring more illumination and flavor to our fellow Catholics. Let us join with him in spreading the message within the Knights of Columbus.
URL:https://www.olmcfssp.org/calendar/knights-of-columbus-meeting-35/
END:VEVENT
BEGIN:VEVENT
DTSTART;TZID=America/Denver:20260207T093000
DTEND;TZID=America/Denver:20260207T113000
DTSTAMP:20260421T145751
CREATED:20240712T215737Z
LAST-MODIFIED:20260207T062329Z
UID:9271-1770456600-1770463800@www.olmcfssp.org
SUMMARY:Confraternity of Christian Mothers
DESCRIPTION:All women aged 16 and up of all walks of life are invited to attend. Some of us are called to physical motherhood\, but we are all called to spiritual motherhood. 
URL:https://www.olmcfssp.org/calendar/confraternity-of-christian-mothers-80/
END:VEVENT
BEGIN:VEVENT
DTSTART;TZID=America/Denver:20260205T093000
DTEND;TZID=America/Denver:20260205T103000
DTSTAMP:20260421T145751
CREATED:20240712T220709Z
LAST-MODIFIED:20260130T030825Z
UID:9394-1770283800-1770287400@www.olmcfssp.org
SUMMARY:Legion of Mary Meeting
DESCRIPTION:The legion exists to be a sign of Mary’s maternal love for the world and a means of enlisting all her children in the Church’s evangelizing work. It is at the disposal of the parish priest for any form of service deemed useful for the welfare of the Church.
URL:https://www.olmcfssp.org/calendar/legion-of-mary-meeting-311/
END:VEVENT
BEGIN:VEVENT
DTSTART;TZID=America/Denver:20260204T190000
DTEND;TZID=America/Denver:20260204T203000
DTSTAMP:20260421T145751
CREATED:20240712T221257Z
LAST-MODIFIED:20260131T040827Z
UID:9496-1770231600-1770237000@www.olmcfssp.org
SUMMARY:Choir Practice
DESCRIPTION:
URL:https://www.olmcfssp.org/calendar/choir-practice-155/
END:VEVENT
BEGIN:VEVENT
DTSTART;TZID=America/Denver:20260204T183000
DTEND;TZID=America/Denver:20260204T203000
DTSTAMP:20260421T145751
CREATED:20240712T221454Z
LAST-MODIFIED:20260131T032329Z
UID:9526-1770229800-1770237000@www.olmcfssp.org
SUMMARY:Safety Team Meeting
DESCRIPTION:The purpose of the OLMC Safety Team is to provide a safe and secure environment for all parishioners and visitors. Primarily\, this is accomplished by the observation of people\, places and events and your assessment of situations and then to follow through with appropriate action.
URL:https://www.olmcfssp.org/calendar/safety-team-meeting-36/
END:VEVENT
BEGIN:VEVENT
DTSTART;TZID=America/Denver:20260203T170000
DTEND;TZID=America/Denver:20260203T180000
DTSTAMP:20260421T145751
CREATED:20240712T215015Z
LAST-MODIFIED:20260131T023829Z
UID:9135-1770138000-1770141600@www.olmcfssp.org
SUMMARY:Shepherds of Christ Prayer Group
DESCRIPTION:
URL:https://www.olmcfssp.org/calendar/shepherds-of-christ-prayer-group-157/
END:VEVENT
BEGIN:VEVENT
DTSTART;TZID=America/Denver:20260203T093000
DTEND;TZID=America/Denver:20260203T110000
DTSTAMP:20260421T145751
CREATED:20240712T221122Z
LAST-MODIFIED:20260131T055327Z
UID:9456-1770111000-1770116400@www.olmcfssp.org
SUMMARY:Tuesday Morning Book Club
DESCRIPTION:The Tuesday morning book club meets to read and discuss a selected book that assists with spiritual growth and knowledge of our wonderful Catholic faith. All members of the parish are welcome to drop by and check us out.
URL:https://www.olmcfssp.org/calendar/tuesday-morning-book-club-156/
END:VEVENT
BEGIN:VEVENT
DTSTART;TZID=America/Denver:20260202T180000
DTEND;TZID=America/Denver:20260202T190000
DTSTAMP:20260421T145751
CREATED:20240712T220709Z
LAST-MODIFIED:20260130T030825Z
UID:9393-1770055200-1770058800@www.olmcfssp.org
SUMMARY:Legion of Mary Meeting
DESCRIPTION:The legion exists to be a sign of Mary’s maternal love for the world and a means of enlisting all her children in the Church’s evangelizing work. It is at the disposal of the parish priest for any form of service deemed useful for the welfare of the Church.
URL:https://www.olmcfssp.org/calendar/legion-of-mary-meeting-310/
END:VEVENT
BEGIN:VEVENT
DTSTART;TZID=America/Denver:20260201T170000
DTEND;TZID=America/Denver:20260201T180000
DTSTAMP:20260421T145751
CREATED:20240712T215015Z
LAST-MODIFIED:20260131T023829Z
UID:9134-1769965200-1769968800@www.olmcfssp.org
SUMMARY:Sung Vespers
DESCRIPTION:
URL:https://www.olmcfssp.org/calendar/sung-vespers-143/
END:VEVENT
BEGIN:VEVENT
DTSTART;TZID=America/Denver:20260201T140000
DTEND;TZID=America/Denver:20260201T170000
DTSTAMP:20260421T145751
CREATED:20240712T220709Z
LAST-MODIFIED:20260130T030825Z
UID:9392-1769954400-1769965200@www.olmcfssp.org
SUMMARY:Laeta Vita
DESCRIPTION:Leata Vita (Joyful Life) is a group for single women ages 18-35. The purpose of our group is to meet and grow in fellowship with other women who are in a similar season of life. We meet two times a month. The first meeting of the month consists of discussing a book as part of our book club and socializing with each other. The second meeting of the month consists of a fun outing or activity (and every now and then something charitable for the parish or some other organization)\, meant to give the members a chance to get out and have some fun.
URL:https://www.olmcfssp.org/calendar/laeta-vita-63/
END:VEVENT
BEGIN:VEVENT
DTSTART;TZID=America/Denver:20260129T093000
DTEND;TZID=America/Denver:20260129T103000
DTSTAMP:20260421T145751
CREATED:20240712T220709Z
LAST-MODIFIED:20260123T030830Z
UID:9391-1769679000-1769682600@www.olmcfssp.org
SUMMARY:Legion of Mary Meeting
DESCRIPTION:The legion exists to be a sign of Mary’s maternal love for the world and a means of enlisting all her children in the Church’s evangelizing work. It is at the disposal of the parish priest for any form of service deemed useful for the welfare of the Church.
URL:https://www.olmcfssp.org/calendar/legion-of-mary-meeting-309/
END:VEVENT
BEGIN:VEVENT
DTSTART;TZID=America/Denver:20260128T190000
DTEND;TZID=America/Denver:20260128T203000
DTSTAMP:20260421T145751
CREATED:20240712T221257Z
LAST-MODIFIED:20260124T040835Z
UID:9495-1769626800-1769632200@www.olmcfssp.org
SUMMARY:Choir Practice
DESCRIPTION:
URL:https://www.olmcfssp.org/calendar/choir-practice-154/
END:VEVENT
BEGIN:VEVENT
DTSTART;TZID=America/Denver:20260128T180000
DTEND;TZID=America/Denver:20260128T210000
DTSTAMP:20260421T145751
CREATED:20240712T220709Z
LAST-MODIFIED:20260123T030830Z
UID:9390-1769623200-1769634000@www.olmcfssp.org
SUMMARY:Hibernia Music Group
DESCRIPTION:An OLMC acoustic music group. We play traditional Irish\, Folk and Americana music. All are welcome to join us\, beginner or advanced\, Instrumentalist or Vocalist. Our goal is to sharpen our skills\, increase our musical knowledge\, have good Catholic fellowship\, and share our music.
URL:https://www.olmcfssp.org/calendar/hibernia-music-group-69/
END:VEVENT
END:VCALENDAR