BEGIN:VCALENDAR
VERSION:2.0
PRODID:-//Our Lady of Mt. Carmel - ECPv6.15.20//NONSGML v1.0//EN
CALSCALE:GREGORIAN
METHOD:PUBLISH
X-ORIGINAL-URL:https://www.olmcfssp.org
X-WR-CALDESC:Events for Our Lady of Mt. Carmel
REFRESH-INTERVAL;VALUE=DURATION:PT1H
X-Robots-Tag:noindex
X-PUBLISHED-TTL:PT1H
BEGIN:VTIMEZONE
TZID:America/Denver
BEGIN:DAYLIGHT
TZOFFSETFROM:-0700
TZOFFSETTO:-0600
TZNAME:MDT
DTSTART:20240310T090000
END:DAYLIGHT
BEGIN:STANDARD
TZOFFSETFROM:-0600
TZOFFSETTO:-0700
TZNAME:MST
DTSTART:20241103T080000
END:STANDARD
BEGIN:DAYLIGHT
TZOFFSETFROM:-0700
TZOFFSETTO:-0600
TZNAME:MDT
DTSTART:20250309T090000
END:DAYLIGHT
BEGIN:STANDARD
TZOFFSETFROM:-0600
TZOFFSETTO:-0700
TZNAME:MST
DTSTART:20251102T080000
END:STANDARD
BEGIN:DAYLIGHT
TZOFFSETFROM:-0700
TZOFFSETTO:-0600
TZNAME:MDT
DTSTART:20260308T090000
END:DAYLIGHT
BEGIN:STANDARD
TZOFFSETFROM:-0600
TZOFFSETTO:-0700
TZNAME:MST
DTSTART:20261101T080000
END:STANDARD
END:VTIMEZONE
BEGIN:VEVENT
DTSTART;TZID=America/Denver:20250118T093000
DTEND;TZID=America/Denver:20250118T110000
DTSTAMP:20260420T234901
CREATED:20241214T003835Z
LAST-MODIFIED:20250118T005325Z
UID:11026-1737192600-1737198000@www.olmcfssp.org
SUMMARY:Catholic Inquiry Class
DESCRIPTION:All those interested in learning about the Catholic Faith are welcome to attend this class taught by Fr Krager. There is no fee and no obligation to convert. If you are non-Catholic or away from the Church\, you are strongly encouraged to come. Please encourage anyone you think might be interested to come. The worst they can say is no! Email Fr Krager with any questions.
URL:https://www.olmcfssp.org/calendar/catholic-inquiry-class-2/
END:VEVENT
BEGIN:VEVENT
DTSTART;TZID=America/Denver:20250118T093000
DTEND;TZID=America/Denver:20250118T120000
DTSTAMP:20260420T234901
CREATED:20231027T172915Z
LAST-MODIFIED:20231103T182346Z
UID:6560-1737192600-1737201600@www.olmcfssp.org
SUMMARY:Altar & Rosary Society Meeting
DESCRIPTION:The Altar and Rosary Society is an organization of women who foster and spread devotion to the Holy Rosary\, maintain the cleanliness of the church sanctuary\, wash and iron altar linens\, and arrange flowers for the altar.
URL:https://www.olmcfssp.org/calendar/altar-rosary-society-meeting-24/
END:VEVENT
BEGIN:VEVENT
DTSTART;TZID=America/Denver:20250119T123000
DTEND;TZID=America/Denver:20250119T140000
DTSTAMP:20260420T234901
CREATED:20231027T173401Z
LAST-MODIFIED:20250118T005325Z
UID:7053-1737289800-1737295200@www.olmcfssp.org
SUMMARY:Creation Study Group
DESCRIPTION:This group is dedicated to studying the traditional Catholic teaching on creation and Genesis as believed and taught by the Doctors\, Fathers\, Councils and Popes for two thousand years. We explore various aspects of the creation/evolutionism debate and the effects of evolutionary thought on culture\, science and the Church. As Pope St Pius X said about Modernism\, that it is the “synthesis of all heresies.” And “the chief of their doctrines\, that of evolution.” \nAll are welcome to attend and contribute their experience and expertise.
URL:https://www.olmcfssp.org/calendar/creation-study-group-15/
END:VEVENT
BEGIN:VEVENT
DTSTART;TZID=America/Denver:20250119T140000
DTEND;TZID=America/Denver:20250119T170000
DTSTAMP:20260420T234901
CREATED:20231027T173139Z
LAST-MODIFIED:20250117T005328Z
UID:6860-1737295200-1737306000@www.olmcfssp.org
SUMMARY:Laeta Vita
DESCRIPTION:Leata Vita (Joyful Life) is a group for single women ages 18-35. The purpose of our group is to meet and grow in fellowship with other women who are in a similar season of life. We meet two times a month. The first meeting of the month consists of discussing a book as part of our book club and socializing with each other. The second meeting of the month consists of a fun outing or activity (and every now and then something charitable for the parish or some other organization)\, meant to give the members a chance to get out and have some fun.
URL:https://www.olmcfssp.org/calendar/laeta-vita-37/
END:VEVENT
BEGIN:VEVENT
DTSTART;TZID=America/Denver:20250119T170000
DTEND;TZID=America/Denver:20250119T180000
DTSTAMP:20260420T234901
CREATED:20231027T172457Z
LAST-MODIFIED:20250118T000827Z
UID:6321-1737306000-1737309600@www.olmcfssp.org
SUMMARY:Sung Vespers
DESCRIPTION:
URL:https://www.olmcfssp.org/calendar/sung-vespers-89/
END:VEVENT
BEGIN:VEVENT
DTSTART;TZID=America/Denver:20250120T180000
DTEND;TZID=America/Denver:20250120T190000
DTSTAMP:20260420T234901
CREATED:20231027T173139Z
LAST-MODIFIED:20250117T005328Z
UID:6861-1737396000-1737399600@www.olmcfssp.org
SUMMARY:Legion of Mary Meeting
DESCRIPTION:The legion exists to be a sign of Mary’s maternal love for the world and a means of enlisting all her children in the Church’s evangelizing work. It is at the disposal of the parish priest for any form of service deemed useful for the welfare of the Church.
URL:https://www.olmcfssp.org/calendar/legion-of-mary-meeting-202/
END:VEVENT
BEGIN:VEVENT
DTSTART;TZID=America/Denver:20250121T093000
DTEND;TZID=America/Denver:20250121T110000
DTSTAMP:20260420T234901
CREATED:20231027T173401Z
LAST-MODIFIED:20231027T173401Z
UID:7054-1737451800-1737457200@www.olmcfssp.org
SUMMARY:Tuesday Morning Book Club
DESCRIPTION:The Tuesday morning book club meets to read and discuss a selected book that assists with spiritual growth and knowledge of our wonderful Catholic faith. All members of the parish are welcome to drop by and check us out.
URL:https://www.olmcfssp.org/calendar/tuesday-morning-book-club-103/
END:VEVENT
BEGIN:VEVENT
DTSTART;TZID=America/Denver:20250121T170000
DTEND;TZID=America/Denver:20250121T180000
DTSTAMP:20260420T234901
CREATED:20231027T172457Z
LAST-MODIFIED:20250118T000827Z
UID:6322-1737478800-1737482400@www.olmcfssp.org
SUMMARY:Shepherds of Christ Prayer Group
DESCRIPTION:
URL:https://www.olmcfssp.org/calendar/shepherds-of-christ-prayer-group-103/
END:VEVENT
BEGIN:VEVENT
DTSTART;TZID=America/Denver:20250122T180000
DTEND;TZID=America/Denver:20250122T210000
DTSTAMP:20260420T234901
CREATED:20231027T173139Z
LAST-MODIFIED:20250117T005328Z
UID:6862-1737568800-1737579600@www.olmcfssp.org
SUMMARY:Hibernia Music Group
DESCRIPTION:An OLMC acoustic music group. We play traditional Irish\, Folk and Americana music. All are welcome to join us\, beginner or advanced\, Instrumentalist or Vocalist. Our goal is to sharpen our skills\, increase our musical knowledge\, have good Catholic fellowship\, and share our music.
URL:https://www.olmcfssp.org/calendar/hibernia-music-group-45/
END:VEVENT
BEGIN:VEVENT
DTSTART;TZID=America/Denver:20250122T190000
DTEND;TZID=America/Denver:20250122T203000
DTSTAMP:20260420T234901
CREATED:20231027T173635Z
LAST-MODIFIED:20250118T015325Z
UID:7197-1737572400-1737577800@www.olmcfssp.org
SUMMARY:Choir Practice
DESCRIPTION:
URL:https://www.olmcfssp.org/calendar/choir-practice-101/
END:VEVENT
BEGIN:VEVENT
DTSTART;TZID=America/Denver:20250123T093000
DTEND;TZID=America/Denver:20250123T103000
DTSTAMP:20260420T234901
CREATED:20231027T173139Z
LAST-MODIFIED:20250117T005328Z
UID:6863-1737624600-1737628200@www.olmcfssp.org
SUMMARY:Legion of Mary Meeting
DESCRIPTION:The legion exists to be a sign of Mary’s maternal love for the world and a means of enlisting all her children in the Church’s evangelizing work. It is at the disposal of the parish priest for any form of service deemed useful for the welfare of the Church.
URL:https://www.olmcfssp.org/calendar/legion-of-mary-meeting-203/
END:VEVENT
BEGIN:VEVENT
DTSTART;TZID=America/Denver:20250125T083000
DTEND;TZID=America/Denver:20250125T160000
DTSTAMP:20260420T234901
CREATED:20240802T232337Z
LAST-MODIFIED:20250125T033826Z
UID:9950-1737793800-1737820800@www.olmcfssp.org
SUMMARY:FNE
DESCRIPTION:The Federation of North American Explorers is an authentic Catholic scouting program with groups for boys and girls between the age of 6-17. Please direct any questions to info@olmcexplorers.org
URL:https://www.olmcfssp.org/calendar/fne-11/
END:VEVENT
BEGIN:VEVENT
DTSTART;TZID=America/Denver:20250125T093000
DTEND;TZID=America/Denver:20250125T110000
DTSTAMP:20260420T234901
CREATED:20241214T003836Z
LAST-MODIFIED:20250125T005330Z
UID:11030-1737797400-1737802800@www.olmcfssp.org
SUMMARY:Catholic Inquiry Class
DESCRIPTION:All those interested in learning about the Catholic Faith are welcome to attend this class taught by Fr Krager. There is no fee and no obligation to convert. If you are non-Catholic or away from the Church\, you are strongly encouraged to come. Please encourage anyone you think might be interested to come. The worst they can say is no! Email Fr Krager with any questions.
URL:https://www.olmcfssp.org/calendar/catholic-inquiry-class-3/
END:VEVENT
BEGIN:VEVENT
DTSTART;TZID=America/Denver:20250125T101500
DTEND;TZID=America/Denver:20250125T110000
DTSTAMP:20260420T234901
CREATED:20240712T215459Z
LAST-MODIFIED:20250125T033826Z
UID:9213-1737800100-1737802800@www.olmcfssp.org
SUMMARY:Planned Parenthood Prayer Vigil
DESCRIPTION:Please join us for our monthly parish prayer vigil at Planned Parenthood starting at 10:15 am. The facility is located at 7155 E 38th Ave. in Denver.
URL:https://www.olmcfssp.org/calendar/planned-parenthood-prayer-vigil-38/
END:VEVENT
BEGIN:VEVENT
DTSTART;TZID=America/Denver:20250126T123000
DTEND;TZID=America/Denver:20250126T141500
DTSTAMP:20260420T234901
CREATED:20231027T173139Z
LAST-MODIFIED:20231027T173139Z
UID:6864-1737894600-1737900900@www.olmcfssp.org
SUMMARY:Carmel Rookies Chess Club
DESCRIPTION:Players must RSVP to Mr. Mudd at rdm3rdm3@gmail.com to reserve their spot as space is limited.
URL:https://www.olmcfssp.org/calendar/carmel-rookies-chess-club-27/
END:VEVENT
BEGIN:VEVENT
DTSTART;TZID=America/Denver:20250126T123000
DTEND;TZID=America/Denver:20250126T141500
DTSTAMP:20260420T234901
CREATED:20240712T220702Z
LAST-MODIFIED:20250124T005326Z
UID:9306-1737894600-1737900900@www.olmcfssp.org
SUMMARY:Carmel Rookies Chess Club
DESCRIPTION:Carmel Rookies Chess Club for players under 18. Players/parents must RSVP to Mr. Mudd at rdm3rdm3@gmail.com to reserve their spot as space is limited.
URL:https://www.olmcfssp.org/calendar/carmel-rookies-chess-club-58/
END:VEVENT
BEGIN:VEVENT
DTSTART;TZID=America/Denver:20250126T170000
DTEND;TZID=America/Denver:20250126T180000
DTSTAMP:20260420T234901
CREATED:20231027T172458Z
LAST-MODIFIED:20250125T000825Z
UID:6323-1737910800-1737914400@www.olmcfssp.org
SUMMARY:Sung Vespers
DESCRIPTION:
URL:https://www.olmcfssp.org/calendar/sung-vespers-90/
END:VEVENT
BEGIN:VEVENT
DTSTART;TZID=America/Denver:20250127T180000
DTEND;TZID=America/Denver:20250127T190000
DTSTAMP:20260420T234901
CREATED:20231027T173140Z
LAST-MODIFIED:20250124T005326Z
UID:6865-1738000800-1738004400@www.olmcfssp.org
SUMMARY:Legion of Mary Meeting
DESCRIPTION:The legion exists to be a sign of Mary’s maternal love for the world and a means of enlisting all her children in the Church’s evangelizing work. It is at the disposal of the parish priest for any form of service deemed useful for the welfare of the Church.
URL:https://www.olmcfssp.org/calendar/legion-of-mary-meeting-204/
END:VEVENT
BEGIN:VEVENT
DTSTART;TZID=America/Denver:20250128T093000
DTEND;TZID=America/Denver:20250128T110000
DTSTAMP:20260420T234901
CREATED:20231027T173401Z
LAST-MODIFIED:20231027T173401Z
UID:7055-1738056600-1738062000@www.olmcfssp.org
SUMMARY:Tuesday Morning Book Club
DESCRIPTION:The Tuesday morning book club meets to read and discuss a selected book that assists with spiritual growth and knowledge of our wonderful Catholic faith. All members of the parish are welcome to drop by and check us out.
URL:https://www.olmcfssp.org/calendar/tuesday-morning-book-club-104/
END:VEVENT
BEGIN:VEVENT
DTSTART;TZID=America/Denver:20250128T170000
DTEND;TZID=America/Denver:20250128T180000
DTSTAMP:20260420T234901
CREATED:20231027T172458Z
LAST-MODIFIED:20250125T000825Z
UID:6324-1738083600-1738087200@www.olmcfssp.org
SUMMARY:Shepherds of Christ Prayer Group
DESCRIPTION:
URL:https://www.olmcfssp.org/calendar/shepherds-of-christ-prayer-group-104/
END:VEVENT
BEGIN:VEVENT
DTSTART;TZID=America/Denver:20250129T190000
DTEND;TZID=America/Denver:20250129T203000
DTSTAMP:20260420T234901
CREATED:20231027T173635Z
LAST-MODIFIED:20250125T015326Z
UID:7198-1738177200-1738182600@www.olmcfssp.org
SUMMARY:Choir Practice
DESCRIPTION:
URL:https://www.olmcfssp.org/calendar/choir-practice-102/
END:VEVENT
BEGIN:VEVENT
DTSTART;TZID=America/Denver:20250130T093000
DTEND;TZID=America/Denver:20250130T103000
DTSTAMP:20260420T234901
CREATED:20231027T173140Z
LAST-MODIFIED:20250124T005326Z
UID:6866-1738229400-1738233000@www.olmcfssp.org
SUMMARY:Legion of Mary Meeting
DESCRIPTION:The legion exists to be a sign of Mary’s maternal love for the world and a means of enlisting all her children in the Church’s evangelizing work. It is at the disposal of the parish priest for any form of service deemed useful for the welfare of the Church.
URL:https://www.olmcfssp.org/calendar/legion-of-mary-meeting-205/
END:VEVENT
BEGIN:VEVENT
DTSTART;TZID=America/Denver:20250201T093000
DTEND;TZID=America/Denver:20250201T110000
DTSTAMP:20260420T234901
CREATED:20241214T003836Z
LAST-MODIFIED:20250201T005328Z
UID:11031-1738402200-1738407600@www.olmcfssp.org
SUMMARY:Catholic Inquiry Class
DESCRIPTION:All those interested in learning about the Catholic Faith are welcome to attend this class taught by Fr Krager. There is no fee and no obligation to convert. If you are non-Catholic or away from the Church\, you are strongly encouraged to come. Please encourage anyone you think might be interested to come. The worst they can say is no! Email Fr Krager with any questions.
URL:https://www.olmcfssp.org/calendar/catholic-inquiry-class-4/
END:VEVENT
BEGIN:VEVENT
DTSTART;TZID=America/Denver:20250201T093000
DTEND;TZID=America/Denver:20250201T113000
DTSTAMP:20260420T234901
CREATED:20240110T230802Z
LAST-MODIFIED:20250201T030827Z
UID:8754-1738402200-1738409400@www.olmcfssp.org
SUMMARY:Confraternity of Christian Mothers
DESCRIPTION:All women aged 16 and up of all walks of life are invited to attend. Some of us are called to physical motherhood\, but we are all called to spiritual motherhood. 
URL:https://www.olmcfssp.org/calendar/confraternity-of-christian-mothers-68/
END:VEVENT
BEGIN:VEVENT
DTSTART;TZID=America/Denver:20250202T140000
DTEND;TZID=America/Denver:20250202T170000
DTSTAMP:20260420T234901
CREATED:20231027T173140Z
LAST-MODIFIED:20250131T005328Z
UID:6867-1738504800-1738515600@www.olmcfssp.org
SUMMARY:Laeta Vita
DESCRIPTION:Leata Vita (Joyful Life) is a group for single women ages 18-35. The purpose of our group is to meet and grow in fellowship with other women who are in a similar season of life. We meet two times a month. The first meeting of the month consists of discussing a book as part of our book club and socializing with each other. The second meeting of the month consists of a fun outing or activity (and every now and then something charitable for the parish or some other organization)\, meant to give the members a chance to get out and have some fun.
URL:https://www.olmcfssp.org/calendar/laeta-vita-38/
END:VEVENT
BEGIN:VEVENT
DTSTART;TZID=America/Denver:20250202T170000
DTEND;TZID=America/Denver:20250202T180000
DTSTAMP:20260420T234901
CREATED:20231027T172458Z
LAST-MODIFIED:20250201T000832Z
UID:6325-1738515600-1738519200@www.olmcfssp.org
SUMMARY:Sung Vespers
DESCRIPTION:
URL:https://www.olmcfssp.org/calendar/sung-vespers-91/
END:VEVENT
BEGIN:VEVENT
DTSTART;TZID=America/Denver:20250203T180000
DTEND;TZID=America/Denver:20250203T190000
DTSTAMP:20260420T234901
CREATED:20231027T173140Z
LAST-MODIFIED:20250131T005328Z
UID:6868-1738605600-1738609200@www.olmcfssp.org
SUMMARY:Legion of Mary Meeting
DESCRIPTION:The legion exists to be a sign of Mary’s maternal love for the world and a means of enlisting all her children in the Church’s evangelizing work. It is at the disposal of the parish priest for any form of service deemed useful for the welfare of the Church.
URL:https://www.olmcfssp.org/calendar/legion-of-mary-meeting-206/
END:VEVENT
BEGIN:VEVENT
DTSTART;TZID=America/Denver:20250204T093000
DTEND;TZID=America/Denver:20250204T110000
DTSTAMP:20260420T234901
CREATED:20231027T173402Z
LAST-MODIFIED:20231027T173402Z
UID:7056-1738661400-1738666800@www.olmcfssp.org
SUMMARY:Tuesday Morning Book Club
DESCRIPTION:The Tuesday morning book club meets to read and discuss a selected book that assists with spiritual growth and knowledge of our wonderful Catholic faith. All members of the parish are welcome to drop by and check us out.
URL:https://www.olmcfssp.org/calendar/tuesday-morning-book-club-105/
END:VEVENT
BEGIN:VEVENT
DTSTART;TZID=America/Denver:20250204T170000
DTEND;TZID=America/Denver:20250204T180000
DTSTAMP:20260420T234901
CREATED:20231027T172458Z
LAST-MODIFIED:20250201T000832Z
UID:6326-1738688400-1738692000@www.olmcfssp.org
SUMMARY:Shepherds of Christ Prayer Group
DESCRIPTION:
URL:https://www.olmcfssp.org/calendar/shepherds-of-christ-prayer-group-105/
END:VEVENT
BEGIN:VEVENT
DTSTART;TZID=America/Denver:20250205T183000
DTEND;TZID=America/Denver:20250205T203000
DTSTAMP:20260420T234901
CREATED:20231027T174344Z
LAST-MODIFIED:20250201T003829Z
UID:7301-1738780200-1738787400@www.olmcfssp.org
SUMMARY:Safety Team Meeting
DESCRIPTION:The purpose of the OLMC Safety Team is to provide a safe and secure environment for all parishioners and visitors. Primarily\, this is accomplished by the observation of people\, places and events and your assessment of situations and then to follow through with appropriate action.
URL:https://www.olmcfssp.org/calendar/safety-team-meeting-24/
END:VEVENT
END:VCALENDAR