BEGIN:VCALENDAR
VERSION:2.0
PRODID:-//Our Lady of Mt. Carmel - ECPv6.15.20//NONSGML v1.0//EN
CALSCALE:GREGORIAN
METHOD:PUBLISH
X-WR-CALNAME:Our Lady of Mt. Carmel
X-ORIGINAL-URL:https://www.olmcfssp.org
X-WR-CALDESC:Events for Our Lady of Mt. Carmel
REFRESH-INTERVAL;VALUE=DURATION:PT1H
X-Robots-Tag:noindex
X-PUBLISHED-TTL:PT1H
BEGIN:VTIMEZONE
TZID:America/Denver
BEGIN:DAYLIGHT
TZOFFSETFROM:-0700
TZOFFSETTO:-0600
TZNAME:MDT
DTSTART:20240310T090000
END:DAYLIGHT
BEGIN:STANDARD
TZOFFSETFROM:-0600
TZOFFSETTO:-0700
TZNAME:MST
DTSTART:20241103T080000
END:STANDARD
BEGIN:DAYLIGHT
TZOFFSETFROM:-0700
TZOFFSETTO:-0600
TZNAME:MDT
DTSTART:20250309T090000
END:DAYLIGHT
BEGIN:STANDARD
TZOFFSETFROM:-0600
TZOFFSETTO:-0700
TZNAME:MST
DTSTART:20251102T080000
END:STANDARD
BEGIN:DAYLIGHT
TZOFFSETFROM:-0700
TZOFFSETTO:-0600
TZNAME:MDT
DTSTART:20260308T090000
END:DAYLIGHT
BEGIN:STANDARD
TZOFFSETFROM:-0600
TZOFFSETTO:-0700
TZNAME:MST
DTSTART:20261101T080000
END:STANDARD
END:VTIMEZONE
BEGIN:VEVENT
DTSTART;TZID=America/Denver:20250127T180000
DTEND;TZID=America/Denver:20250127T190000
DTSTAMP:20260421T052046
CREATED:20231027T173140Z
LAST-MODIFIED:20250124T005326Z
UID:6865-1738000800-1738004400@www.olmcfssp.org
SUMMARY:Legion of Mary Meeting
DESCRIPTION:The legion exists to be a sign of Mary’s maternal love for the world and a means of enlisting all her children in the Church’s evangelizing work. It is at the disposal of the parish priest for any form of service deemed useful for the welfare of the Church.
URL:https://www.olmcfssp.org/calendar/legion-of-mary-meeting-204/
END:VEVENT
BEGIN:VEVENT
DTSTART;TZID=America/Denver:20250128T093000
DTEND;TZID=America/Denver:20250128T110000
DTSTAMP:20260421T052046
CREATED:20231027T173401Z
LAST-MODIFIED:20231027T173401Z
UID:7055-1738056600-1738062000@www.olmcfssp.org
SUMMARY:Tuesday Morning Book Club
DESCRIPTION:The Tuesday morning book club meets to read and discuss a selected book that assists with spiritual growth and knowledge of our wonderful Catholic faith. All members of the parish are welcome to drop by and check us out.
URL:https://www.olmcfssp.org/calendar/tuesday-morning-book-club-104/
END:VEVENT
BEGIN:VEVENT
DTSTART;TZID=America/Denver:20250128T170000
DTEND;TZID=America/Denver:20250128T180000
DTSTAMP:20260421T052046
CREATED:20231027T172458Z
LAST-MODIFIED:20250125T000825Z
UID:6324-1738083600-1738087200@www.olmcfssp.org
SUMMARY:Shepherds of Christ Prayer Group
DESCRIPTION:
URL:https://www.olmcfssp.org/calendar/shepherds-of-christ-prayer-group-104/
END:VEVENT
BEGIN:VEVENT
DTSTART;TZID=America/Denver:20250129T190000
DTEND;TZID=America/Denver:20250129T203000
DTSTAMP:20260421T052046
CREATED:20231027T173635Z
LAST-MODIFIED:20250125T015326Z
UID:7198-1738177200-1738182600@www.olmcfssp.org
SUMMARY:Choir Practice
DESCRIPTION:
URL:https://www.olmcfssp.org/calendar/choir-practice-102/
END:VEVENT
BEGIN:VEVENT
DTSTART;TZID=America/Denver:20250130T093000
DTEND;TZID=America/Denver:20250130T103000
DTSTAMP:20260421T052046
CREATED:20231027T173140Z
LAST-MODIFIED:20250124T005326Z
UID:6866-1738229400-1738233000@www.olmcfssp.org
SUMMARY:Legion of Mary Meeting
DESCRIPTION:The legion exists to be a sign of Mary’s maternal love for the world and a means of enlisting all her children in the Church’s evangelizing work. It is at the disposal of the parish priest for any form of service deemed useful for the welfare of the Church.
URL:https://www.olmcfssp.org/calendar/legion-of-mary-meeting-205/
END:VEVENT
BEGIN:VEVENT
DTSTART;TZID=America/Denver:20250201T093000
DTEND;TZID=America/Denver:20250201T110000
DTSTAMP:20260421T052046
CREATED:20241214T003836Z
LAST-MODIFIED:20250201T005328Z
UID:11031-1738402200-1738407600@www.olmcfssp.org
SUMMARY:Catholic Inquiry Class
DESCRIPTION:All those interested in learning about the Catholic Faith are welcome to attend this class taught by Fr Krager. There is no fee and no obligation to convert. If you are non-Catholic or away from the Church\, you are strongly encouraged to come. Please encourage anyone you think might be interested to come. The worst they can say is no! Email Fr Krager with any questions.
URL:https://www.olmcfssp.org/calendar/catholic-inquiry-class-4/
END:VEVENT
BEGIN:VEVENT
DTSTART;TZID=America/Denver:20250201T093000
DTEND;TZID=America/Denver:20250201T113000
DTSTAMP:20260421T052047
CREATED:20240110T230802Z
LAST-MODIFIED:20250201T030827Z
UID:8754-1738402200-1738409400@www.olmcfssp.org
SUMMARY:Confraternity of Christian Mothers
DESCRIPTION:All women aged 16 and up of all walks of life are invited to attend. Some of us are called to physical motherhood\, but we are all called to spiritual motherhood. 
URL:https://www.olmcfssp.org/calendar/confraternity-of-christian-mothers-68/
END:VEVENT
BEGIN:VEVENT
DTSTART;TZID=America/Denver:20250202T140000
DTEND;TZID=America/Denver:20250202T170000
DTSTAMP:20260421T052047
CREATED:20231027T173140Z
LAST-MODIFIED:20250131T005328Z
UID:6867-1738504800-1738515600@www.olmcfssp.org
SUMMARY:Laeta Vita
DESCRIPTION:Leata Vita (Joyful Life) is a group for single women ages 18-35. The purpose of our group is to meet and grow in fellowship with other women who are in a similar season of life. We meet two times a month. The first meeting of the month consists of discussing a book as part of our book club and socializing with each other. The second meeting of the month consists of a fun outing or activity (and every now and then something charitable for the parish or some other organization)\, meant to give the members a chance to get out and have some fun.
URL:https://www.olmcfssp.org/calendar/laeta-vita-38/
END:VEVENT
BEGIN:VEVENT
DTSTART;TZID=America/Denver:20250202T170000
DTEND;TZID=America/Denver:20250202T180000
DTSTAMP:20260421T052047
CREATED:20231027T172458Z
LAST-MODIFIED:20250201T000832Z
UID:6325-1738515600-1738519200@www.olmcfssp.org
SUMMARY:Sung Vespers
DESCRIPTION:
URL:https://www.olmcfssp.org/calendar/sung-vespers-91/
END:VEVENT
BEGIN:VEVENT
DTSTART;TZID=America/Denver:20250203T180000
DTEND;TZID=America/Denver:20250203T190000
DTSTAMP:20260421T052047
CREATED:20231027T173140Z
LAST-MODIFIED:20250131T005328Z
UID:6868-1738605600-1738609200@www.olmcfssp.org
SUMMARY:Legion of Mary Meeting
DESCRIPTION:The legion exists to be a sign of Mary’s maternal love for the world and a means of enlisting all her children in the Church’s evangelizing work. It is at the disposal of the parish priest for any form of service deemed useful for the welfare of the Church.
URL:https://www.olmcfssp.org/calendar/legion-of-mary-meeting-206/
END:VEVENT
BEGIN:VEVENT
DTSTART;TZID=America/Denver:20250204T093000
DTEND;TZID=America/Denver:20250204T110000
DTSTAMP:20260421T052047
CREATED:20231027T173402Z
LAST-MODIFIED:20231027T173402Z
UID:7056-1738661400-1738666800@www.olmcfssp.org
SUMMARY:Tuesday Morning Book Club
DESCRIPTION:The Tuesday morning book club meets to read and discuss a selected book that assists with spiritual growth and knowledge of our wonderful Catholic faith. All members of the parish are welcome to drop by and check us out.
URL:https://www.olmcfssp.org/calendar/tuesday-morning-book-club-105/
END:VEVENT
BEGIN:VEVENT
DTSTART;TZID=America/Denver:20250204T170000
DTEND;TZID=America/Denver:20250204T180000
DTSTAMP:20260421T052047
CREATED:20231027T172458Z
LAST-MODIFIED:20250201T000832Z
UID:6326-1738688400-1738692000@www.olmcfssp.org
SUMMARY:Shepherds of Christ Prayer Group
DESCRIPTION:
URL:https://www.olmcfssp.org/calendar/shepherds-of-christ-prayer-group-105/
END:VEVENT
BEGIN:VEVENT
DTSTART;TZID=America/Denver:20250205T183000
DTEND;TZID=America/Denver:20250205T203000
DTSTAMP:20260421T052047
CREATED:20231027T174344Z
LAST-MODIFIED:20250201T003829Z
UID:7301-1738780200-1738787400@www.olmcfssp.org
SUMMARY:Safety Team Meeting
DESCRIPTION:The purpose of the OLMC Safety Team is to provide a safe and secure environment for all parishioners and visitors. Primarily\, this is accomplished by the observation of people\, places and events and your assessment of situations and then to follow through with appropriate action.
URL:https://www.olmcfssp.org/calendar/safety-team-meeting-24/
END:VEVENT
BEGIN:VEVENT
DTSTART;TZID=America/Denver:20250205T190000
DTEND;TZID=America/Denver:20250205T203000
DTSTAMP:20260421T052047
CREATED:20231027T173635Z
LAST-MODIFIED:20250201T015328Z
UID:7199-1738782000-1738787400@www.olmcfssp.org
SUMMARY:Choir Practice
DESCRIPTION:
URL:https://www.olmcfssp.org/calendar/choir-practice-103/
END:VEVENT
BEGIN:VEVENT
DTSTART;TZID=America/Denver:20250206T093000
DTEND;TZID=America/Denver:20250206T103000
DTSTAMP:20260421T052047
CREATED:20231027T173140Z
LAST-MODIFIED:20250131T005328Z
UID:6869-1738834200-1738837800@www.olmcfssp.org
SUMMARY:Legion of Mary Meeting
DESCRIPTION:The legion exists to be a sign of Mary’s maternal love for the world and a means of enlisting all her children in the Church’s evangelizing work. It is at the disposal of the parish priest for any form of service deemed useful for the welfare of the Church.
URL:https://www.olmcfssp.org/calendar/legion-of-mary-meeting-207/
END:VEVENT
BEGIN:VEVENT
DTSTART;TZID=America/Denver:20250207T093000
DTEND;TZID=America/Denver:20250208T080000
DTSTAMP:20260421T052047
CREATED:20230922T160151Z
LAST-MODIFIED:20250208T000839Z
UID:5856-1738920600-1739001600@www.olmcfssp.org
SUMMARY:First Friday Adoration
DESCRIPTION:
URL:https://www.olmcfssp.org/calendar/first-friday-adoration-24/
END:VEVENT
BEGIN:VEVENT
DTSTART;TZID=America/Denver:20250207T194500
DTEND;TZID=America/Denver:20250207T213000
DTSTAMP:20260421T052047
CREATED:20241214T003836Z
LAST-MODIFIED:20250208T005327Z
UID:11032-1738957500-1738963800@www.olmcfssp.org
SUMMARY:St. Gerard Majella Child Loss Support Group
DESCRIPTION:Are you feeling alone in your grief? Come find consolation with fellow moms. Whether you knew your child only moments or a lifetime\, a loss is a loss\, and you are most welcome. Join us after the 7pm Mass until 9:30pm. Refreshments provided. Any questions please call or text Angie Flees 720-936-5315.
URL:https://www.olmcfssp.org/calendar/st-gerard-majella-child-loss-support-group-2/
END:VEVENT
BEGIN:VEVENT
DTSTART;TZID=America/Denver:20250208T083000
DTEND;TZID=America/Denver:20250208T160000
DTSTAMP:20260421T052047
CREATED:20240802T232337Z
LAST-MODIFIED:20250208T035330Z
UID:9951-1739003400-1739030400@www.olmcfssp.org
SUMMARY:FNE
DESCRIPTION:
URL:https://www.olmcfssp.org/calendar/fne-12/
END:VEVENT
BEGIN:VEVENT
DTSTART;TZID=America/Denver:20250208T093000
DTEND;TZID=America/Denver:20250208T110000
DTSTAMP:20260421T052047
CREATED:20241214T003836Z
LAST-MODIFIED:20250208T005327Z
UID:11033-1739007000-1739012400@www.olmcfssp.org
SUMMARY:Catholic Inquiry Class
DESCRIPTION:All those interested in learning about the Catholic Faith are welcome to attend this class taught by Fr Krager. There is no fee and no obligation to convert. If you are non-Catholic or away from the Church\, you are strongly encouraged to come. Please encourage anyone you think might be interested to come. The worst they can say is no! Email Fr Krager with any questions.
URL:https://www.olmcfssp.org/calendar/catholic-inquiry-class-5/
END:VEVENT
BEGIN:VEVENT
DTSTART;TZID=America/Denver:20250208T093000
DTEND;TZID=America/Denver:20250208T113000
DTSTAMP:20260421T052047
CREATED:20231027T172916Z
LAST-MODIFIED:20250208T030826Z
UID:6562-1739007000-1739014200@www.olmcfssp.org
SUMMARY:Holy Name Society Meeting
DESCRIPTION:The Holy Name Society is an organization of men striving to grow in holiness. The group is open to all men of the parish over the age of 18. Meetings include Mass\, the recitation of the Holy Rosary\, breakfast and a spiritual talk.
URL:https://www.olmcfssp.org/calendar/holy-name-society-meeting-22/
END:VEVENT
BEGIN:VEVENT
DTSTART;TZID=America/Denver:20250208T093000
DTEND;TZID=America/Denver:20250208T130000
DTSTAMP:20260421T052047
CREATED:20231027T174344Z
LAST-MODIFIED:20250208T003826Z
UID:7302-1739007000-1739019600@www.olmcfssp.org
SUMMARY:St. Teresa of Jesus Association
DESCRIPTION:A formation in the spirituality of St. Teresa of Jesus within a Study Group composed of men and women over the age of 25 years. This formation includes daily Mass\, Lectio Divina\, Divine Office and the living a life of apostolic endeavors: ministering to our families and the world.  The members endeavor to give glory to God\, to honor our Blessed Lady of Carmel and to aid our Holy Mother the Church by their prayers.
URL:https://www.olmcfssp.org/calendar/st-teresa-of-jesus-association-23/
END:VEVENT
BEGIN:VEVENT
DTSTART;TZID=America/Denver:20250208T130000
DTEND;TZID=America/Denver:20250208T160000
DTSTAMP:20260421T052047
CREATED:20231027T173141Z
LAST-MODIFIED:20250207T005328Z
UID:6870-1739019600-1739030400@www.olmcfssp.org
SUMMARY:Hibernia Music Group
DESCRIPTION:An OLMC acoustic music group. We play traditional Irish\, Folk and Americana music. All are welcome to join us\, beginner or advanced\, Instrumentalist or Vocalist. Our goal is to sharpen our skills\, increase our musical knowledge\, have good Catholic fellowship\, and share our music.
URL:https://www.olmcfssp.org/calendar/hibernia-music-group-46/
END:VEVENT
BEGIN:VEVENT
DTSTART;TZID=America/Denver:20250209T123000
DTEND;TZID=America/Denver:20250209T140000
DTSTAMP:20260421T052047
CREATED:20231027T173141Z
LAST-MODIFIED:20250207T005328Z
UID:6871-1739104200-1739109600@www.olmcfssp.org
SUMMARY:Knights of Columbus Meeting
DESCRIPTION:As faithful Catholics\, we are called to be salt and light in this material world. As traditional Catholics within the Church Universal\, we are sometimes called\, in charity\, to bring more illumination and flavor to our fellow Catholics. Let us join with him in spreading the message within the Knights of Columbus.
URL:https://www.olmcfssp.org/calendar/knights-of-columbus-meeting-23/
END:VEVENT
BEGIN:VEVENT
DTSTART;TZID=America/Denver:20250209T170000
DTEND;TZID=America/Denver:20250209T180000
DTSTAMP:20260421T052047
CREATED:20231027T172459Z
LAST-MODIFIED:20250208T000839Z
UID:6328-1739120400-1739124000@www.olmcfssp.org
SUMMARY:Sung Vespers
DESCRIPTION:
URL:https://www.olmcfssp.org/calendar/sung-vespers-92/
END:VEVENT
BEGIN:VEVENT
DTSTART;TZID=America/Denver:20250210T180000
DTEND;TZID=America/Denver:20250210T190000
DTSTAMP:20260421T052047
CREATED:20231027T173141Z
LAST-MODIFIED:20250207T005328Z
UID:6872-1739210400-1739214000@www.olmcfssp.org
SUMMARY:Legion of Mary Meeting
DESCRIPTION:The legion exists to be a sign of Mary’s maternal love for the world and a means of enlisting all her children in the Church’s evangelizing work. It is at the disposal of the parish priest for any form of service deemed useful for the welfare of the Church.
URL:https://www.olmcfssp.org/calendar/legion-of-mary-meeting-208/
END:VEVENT
BEGIN:VEVENT
DTSTART;TZID=America/Denver:20250211T093000
DTEND;TZID=America/Denver:20250211T103000
DTSTAMP:20260421T052047
CREATED:20240110T185518Z
LAST-MODIFIED:20250208T000839Z
UID:8712-1739266200-1739269800@www.olmcfssp.org
SUMMARY:Holy Face Devotion Group
DESCRIPTION:His Holy Face Ministry’s mission is to bring the Face of God back into the world to breathe life into souls by making reparation for the sins committed against the majesty of God and the Catholic Church. Join us as a community in making public reparation before a 2nd class relic image of the Veil of St. Veronica on the second Tuesday or third Saturday of each month after the 8:30 AM mass. We also offer presentations on the Holy Face Devotion\, a Home Enthronement Program with the image\, and a Parish Enthronement Program to share with a wider audience.
URL:https://www.olmcfssp.org/calendar/holy-face-devotion-group-31/
END:VEVENT
BEGIN:VEVENT
DTSTART;TZID=America/Denver:20250211T093000
DTEND;TZID=America/Denver:20250211T110000
DTSTAMP:20260421T052047
CREATED:20231027T173402Z
LAST-MODIFIED:20231027T173402Z
UID:7057-1739266200-1739271600@www.olmcfssp.org
SUMMARY:Tuesday Morning Book Club
DESCRIPTION:The Tuesday morning book club meets to read and discuss a selected book that assists with spiritual growth and knowledge of our wonderful Catholic faith. All members of the parish are welcome to drop by and check us out.
URL:https://www.olmcfssp.org/calendar/tuesday-morning-book-club-106/
END:VEVENT
BEGIN:VEVENT
DTSTART;TZID=America/Denver:20250211T170000
DTEND;TZID=America/Denver:20250211T180000
DTSTAMP:20260421T052047
CREATED:20231027T172459Z
LAST-MODIFIED:20250208T000839Z
UID:6329-1739293200-1739296800@www.olmcfssp.org
SUMMARY:Shepherds of Christ Prayer Group
DESCRIPTION:
URL:https://www.olmcfssp.org/calendar/shepherds-of-christ-prayer-group-106/
END:VEVENT
BEGIN:VEVENT
DTSTART;TZID=America/Denver:20250212T190000
DTEND;TZID=America/Denver:20250212T203000
DTSTAMP:20260421T052047
CREATED:20231027T173635Z
LAST-MODIFIED:20250208T015327Z
UID:7200-1739386800-1739392200@www.olmcfssp.org
SUMMARY:Choir Practice
DESCRIPTION:
URL:https://www.olmcfssp.org/calendar/choir-practice-104/
END:VEVENT
BEGIN:VEVENT
DTSTART;TZID=America/Denver:20250213T093000
DTEND;TZID=America/Denver:20250213T103000
DTSTAMP:20260421T052047
CREATED:20231027T173141Z
LAST-MODIFIED:20250207T005328Z
UID:6873-1739439000-1739442600@www.olmcfssp.org
SUMMARY:Legion of Mary Meeting
DESCRIPTION:The legion exists to be a sign of Mary’s maternal love for the world and a means of enlisting all her children in the Church’s evangelizing work. It is at the disposal of the parish priest for any form of service deemed useful for the welfare of the Church.
URL:https://www.olmcfssp.org/calendar/legion-of-mary-meeting-209/
END:VEVENT
END:VCALENDAR