BEGIN:VCALENDAR
VERSION:2.0
PRODID:-//Our Lady of Mt. Carmel - ECPv6.15.20//NONSGML v1.0//EN
CALSCALE:GREGORIAN
METHOD:PUBLISH
X-ORIGINAL-URL:https://www.olmcfssp.org
X-WR-CALDESC:Events for Our Lady of Mt. Carmel
REFRESH-INTERVAL;VALUE=DURATION:PT1H
X-Robots-Tag:noindex
X-PUBLISHED-TTL:PT1H
BEGIN:VTIMEZONE
TZID:America/Denver
BEGIN:DAYLIGHT
TZOFFSETFROM:-0700
TZOFFSETTO:-0600
TZNAME:MDT
DTSTART:20250309T090000
END:DAYLIGHT
BEGIN:STANDARD
TZOFFSETFROM:-0600
TZOFFSETTO:-0700
TZNAME:MST
DTSTART:20251102T080000
END:STANDARD
BEGIN:DAYLIGHT
TZOFFSETFROM:-0700
TZOFFSETTO:-0600
TZNAME:MDT
DTSTART:20260308T090000
END:DAYLIGHT
BEGIN:STANDARD
TZOFFSETFROM:-0600
TZOFFSETTO:-0700
TZNAME:MST
DTSTART:20261101T080000
END:STANDARD
BEGIN:DAYLIGHT
TZOFFSETFROM:-0700
TZOFFSETTO:-0600
TZNAME:MDT
DTSTART:20270314T090000
END:DAYLIGHT
BEGIN:STANDARD
TZOFFSETFROM:-0600
TZOFFSETTO:-0700
TZNAME:MST
DTSTART:20271107T080000
END:STANDARD
END:VTIMEZONE
BEGIN:VEVENT
DTSTART;TZID=America/Denver:20260210T170000
DTEND;TZID=America/Denver:20260210T180000
DTSTAMP:20260421T181839
CREATED:20240712T215016Z
LAST-MODIFIED:20260207T025330Z
UID:9138-1770742800-1770746400@www.olmcfssp.org
SUMMARY:Shepherds of Christ Prayer Group
DESCRIPTION:
URL:https://www.olmcfssp.org/calendar/shepherds-of-christ-prayer-group-158/
END:VEVENT
BEGIN:VEVENT
DTSTART;TZID=America/Denver:20260211T190000
DTEND;TZID=America/Denver:20260211T203000
DTSTAMP:20260421T181839
CREATED:20240712T221257Z
LAST-MODIFIED:20260207T040832Z
UID:9497-1770836400-1770841800@www.olmcfssp.org
SUMMARY:Choir Practice
DESCRIPTION:
URL:https://www.olmcfssp.org/calendar/choir-practice-156/
END:VEVENT
BEGIN:VEVENT
DTSTART;TZID=America/Denver:20260212T093000
DTEND;TZID=America/Denver:20260212T103000
DTSTAMP:20260421T181839
CREATED:20240712T220709Z
LAST-MODIFIED:20260206T030826Z
UID:9397-1770888600-1770892200@www.olmcfssp.org
SUMMARY:Legion of Mary Meeting
DESCRIPTION:The legion exists to be a sign of Mary’s maternal love for the world and a means of enlisting all her children in the Church’s evangelizing work. It is at the disposal of the parish priest for any form of service deemed useful for the welfare of the Church.
URL:https://www.olmcfssp.org/calendar/legion-of-mary-meeting-313/
END:VEVENT
BEGIN:VEVENT
DTSTART;TZID=America/Denver:20260212T174500
DTEND;TZID=America/Denver:20260212T184500
DTSTAMP:20260421T181839
CREATED:20240712T215015Z
LAST-MODIFIED:20260210T185046Z
UID:9137-1770918300-1770921900@www.olmcfssp.org
SUMMARY:Holy Face Devotion Group
DESCRIPTION:His Holy Face Ministry’s mission is to bring the Face of God back into the world to breathe life into souls by making reparation for the sins committed against the majesty of God and the Catholic Church. Join us as a community in making public reparation before a 2nd class relic image of the Veil of St. Veronica on the second Tuesday or third Saturday of each month after the 8:30 AM mass. We also offer presentations on the Holy Face Devotion\, a Home Enthronement Program with the image\, and a Parish Enthronement Program to share with a wider audience.
URL:https://www.olmcfssp.org/calendar/holy-face-devotion-group-43/
LOCATION:Church
END:VEVENT
BEGIN:VEVENT
DTSTART;TZID=America/Denver:20260214T093000
DTEND;TZID=America/Denver:20260214T113000
DTSTAMP:20260421T181839
CREATED:20240712T215737Z
LAST-MODIFIED:20260214T052328Z
UID:9272-1771061400-1771068600@www.olmcfssp.org
SUMMARY:Holy Name Society Meeting
DESCRIPTION:The Holy Name Society is an organization of men striving to grow in holiness. The group is open to all men of the parish over the age of 18. Meetings include Mass\, the recitation of the Holy Rosary\, breakfast and a spiritual talk.
URL:https://www.olmcfssp.org/calendar/holy-name-society-meeting-34/
END:VEVENT
BEGIN:VEVENT
DTSTART;TZID=America/Denver:20260214T093000
DTEND;TZID=America/Denver:20260214T130000
DTSTAMP:20260421T181839
CREATED:20240712T221454Z
LAST-MODIFIED:20260214T022334Z
UID:9527-1771061400-1771074000@www.olmcfssp.org
SUMMARY:St. Teresa of Jesus Association
DESCRIPTION:A formation in the spirituality of St. Teresa of Jesus within a Study Group composed of men and women over the age of 25 years. This formation includes daily Mass\, Lectio Divina\, Divine Office and the living a life of apostolic endeavors: ministering to our families and the world.  The members endeavor to give glory to God\, to honor our Blessed Lady of Carmel and to aid our Holy Mother the Church by their prayers.
URL:https://www.olmcfssp.org/calendar/st-teresa-of-jesus-association-35/
END:VEVENT
BEGIN:VEVENT
DTSTART;TZID=America/Denver:20260214T130000
DTEND;TZID=America/Denver:20260214T160000
DTSTAMP:20260421T181839
CREATED:20240712T220709Z
LAST-MODIFIED:20260213T020828Z
UID:9398-1771074000-1771084800@www.olmcfssp.org
SUMMARY:Hibernia Music Group
DESCRIPTION:An OLMC acoustic music group. We play traditional Irish\, Folk and Americana music. All are welcome to join us\, beginner or advanced\, Instrumentalist or Vocalist. Our goal is to sharpen our skills\, increase our musical knowledge\, have good Catholic fellowship\, and share our music.
URL:https://www.olmcfssp.org/calendar/hibernia-music-group-70/
END:VEVENT
BEGIN:VEVENT
DTSTART;TZID=America/Denver:20260215T123000
DTEND;TZID=America/Denver:20260215T140000
DTSTAMP:20260421T181839
CREATED:20240712T221122Z
LAST-MODIFIED:20260214T045340Z
UID:9458-1771158600-1771164000@www.olmcfssp.org
SUMMARY:Creation Study Group
DESCRIPTION:This group is dedicated to studying the traditional Catholic teaching on creation and Genesis as believed and taught by the Doctors\, Fathers\, Councils and Popes for two thousand years. We explore various aspects of the creation/evolutionism debate and the effects of evolutionary thought on culture\, science and the Church. As Pope St Pius X said about Modernism\, that it is the “synthesis of all heresies.” And “the chief of their doctrines\, that of evolution.” \nAll are welcome to attend and contribute their experience and expertise.
URL:https://www.olmcfssp.org/calendar/creation-study-group-28/
END:VEVENT
BEGIN:VEVENT
DTSTART;TZID=America/Denver:20260215T140000
DTEND;TZID=America/Denver:20260215T170000
DTSTAMP:20260421T181839
CREATED:20240712T220709Z
LAST-MODIFIED:20260213T020828Z
UID:9399-1771164000-1771174800@www.olmcfssp.org
SUMMARY:Laeta Vita
DESCRIPTION:Leata Vita (Joyful Life) is a group for single women ages 18-35. The purpose of our group is to meet and grow in fellowship with other women who are in a similar season of life. We meet two times a month. The first meeting of the month consists of discussing a book as part of our book club and socializing with each other. The second meeting of the month consists of a fun outing or activity (and every now and then something charitable for the parish or some other organization)\, meant to give the members a chance to get out and have some fun.
URL:https://www.olmcfssp.org/calendar/laeta-vita-64/
END:VEVENT
BEGIN:VEVENT
DTSTART;TZID=America/Denver:20260215T170000
DTEND;TZID=America/Denver:20260215T180000
DTSTAMP:20260421T181839
CREATED:20240712T215016Z
LAST-MODIFIED:20260214T015330Z
UID:9139-1771174800-1771178400@www.olmcfssp.org
SUMMARY:Sung Vespers
DESCRIPTION:
URL:https://www.olmcfssp.org/calendar/sung-vespers-145/
END:VEVENT
BEGIN:VEVENT
DTSTART;TZID=America/Denver:20260216T180000
DTEND;TZID=America/Denver:20260216T190000
DTSTAMP:20260421T181839
CREATED:20240712T220709Z
LAST-MODIFIED:20260213T020828Z
UID:9400-1771264800-1771268400@www.olmcfssp.org
SUMMARY:Legion of Mary Meeting
DESCRIPTION:The legion exists to be a sign of Mary’s maternal love for the world and a means of enlisting all her children in the Church’s evangelizing work. It is at the disposal of the parish priest for any form of service deemed useful for the welfare of the Church.
URL:https://www.olmcfssp.org/calendar/legion-of-mary-meeting-314/
END:VEVENT
BEGIN:VEVENT
DTSTART;TZID=America/Denver:20260217T093000
DTEND;TZID=America/Denver:20260217T110000
DTSTAMP:20260421T181839
CREATED:20240712T221123Z
LAST-MODIFIED:20260214T045340Z
UID:9459-1771320600-1771326000@www.olmcfssp.org
SUMMARY:Tuesday Morning Book Club
DESCRIPTION:The Tuesday morning book club meets to read and discuss a selected book that assists with spiritual growth and knowledge of our wonderful Catholic faith. All members of the parish are welcome to drop by and check us out.
URL:https://www.olmcfssp.org/calendar/tuesday-morning-book-club-158/
END:VEVENT
BEGIN:VEVENT
DTSTART;TZID=America/Denver:20260217T170000
DTEND;TZID=America/Denver:20260217T180000
DTSTAMP:20260421T181839
CREATED:20240712T215016Z
LAST-MODIFIED:20260214T015330Z
UID:9140-1771347600-1771351200@www.olmcfssp.org
SUMMARY:Shepherds of Christ Prayer Group
DESCRIPTION:
URL:https://www.olmcfssp.org/calendar/shepherds-of-christ-prayer-group-159/
END:VEVENT
BEGIN:VEVENT
DTSTART;TZID=America/Denver:20260218T190000
DTEND;TZID=America/Denver:20260218T203000
DTSTAMP:20260421T181839
CREATED:20240712T221257Z
LAST-MODIFIED:20260214T030829Z
UID:9498-1771441200-1771446600@www.olmcfssp.org
SUMMARY:Choir Practice
DESCRIPTION:
URL:https://www.olmcfssp.org/calendar/choir-practice-157/
END:VEVENT
BEGIN:VEVENT
DTSTART;TZID=America/Denver:20260219T093000
DTEND;TZID=America/Denver:20260219T103000
DTSTAMP:20260421T181839
CREATED:20240712T220709Z
LAST-MODIFIED:20260213T020828Z
UID:9401-1771493400-1771497000@www.olmcfssp.org
SUMMARY:Legion of Mary Meeting
DESCRIPTION:The legion exists to be a sign of Mary’s maternal love for the world and a means of enlisting all her children in the Church’s evangelizing work. It is at the disposal of the parish priest for any form of service deemed useful for the welfare of the Church.
URL:https://www.olmcfssp.org/calendar/legion-of-mary-meeting-315/
END:VEVENT
BEGIN:VEVENT
DTSTART;TZID=America/Denver:20260219T093000
DTEND;TZID=America/Denver:20260219T110000
DTSTAMP:20260421T181839
CREATED:20240712T221454Z
LAST-MODIFIED:20260214T022334Z
UID:9528-1771493400-1771498800@www.olmcfssp.org
SUMMARY:St. Therese Book Club
DESCRIPTION:Come and study the works of St. Therese as a group. All are welcome.
URL:https://www.olmcfssp.org/calendar/st-therese-book-club-36/
END:VEVENT
BEGIN:VEVENT
DTSTART;TZID=America/Denver:20260221T093000
DTEND;TZID=America/Denver:20260221T120000
DTSTAMP:20260421T181839
CREATED:20240712T215737Z
LAST-MODIFIED:20260221T052330Z
UID:9273-1771666200-1771675200@www.olmcfssp.org
SUMMARY:Altar and Rosary Society Meeting
DESCRIPTION:The Altar and Rosary Society is an organization of women who foster and spread devotion to the Holy Rosary\, maintain the cleanliness of the church sanctuary\, wash and iron altar linens\, and arrange flowers for the altar.
URL:https://www.olmcfssp.org/calendar/altar-and-rosary-society-meeting-29/
END:VEVENT
BEGIN:VEVENT
DTSTART;TZID=America/Denver:20260222T123000
DTEND;TZID=America/Denver:20260222T141500
DTSTAMP:20260421T181839
CREATED:20240712T220709Z
LAST-MODIFIED:20260220T020834Z
UID:9402-1771763400-1771769700@www.olmcfssp.org
SUMMARY:Carmel Rookies Chess Club
DESCRIPTION:Carmel Rookies Chess Club for players under 18. Players/parents must RSVP to Mr. Mudd at rdm3rdm3@gmail.com to reserve their spot as space is limited.
URL:https://www.olmcfssp.org/calendar/carmel-rookies-chess-club-71/
END:VEVENT
BEGIN:VEVENT
DTSTART;TZID=America/Denver:20260222T170000
DTEND;TZID=America/Denver:20260222T180000
DTSTAMP:20260421T181839
CREATED:20240712T215016Z
LAST-MODIFIED:20260221T020832Z
UID:9141-1771779600-1771783200@www.olmcfssp.org
SUMMARY:Sung Vespers
DESCRIPTION:
URL:https://www.olmcfssp.org/calendar/sung-vespers-146/
END:VEVENT
BEGIN:VEVENT
DTSTART;TZID=America/Denver:20260223T180000
DTEND;TZID=America/Denver:20260223T190000
DTSTAMP:20260421T181839
CREATED:20240712T220709Z
LAST-MODIFIED:20260220T020835Z
UID:9403-1771869600-1771873200@www.olmcfssp.org
SUMMARY:Legion of Mary Meeting
DESCRIPTION:The legion exists to be a sign of Mary’s maternal love for the world and a means of enlisting all her children in the Church’s evangelizing work. It is at the disposal of the parish priest for any form of service deemed useful for the welfare of the Church.
URL:https://www.olmcfssp.org/calendar/legion-of-mary-meeting-316/
END:VEVENT
BEGIN:VEVENT
DTSTART;TZID=America/Denver:20260224T093000
DTEND;TZID=America/Denver:20260224T110000
DTSTAMP:20260421T181839
CREATED:20240712T221123Z
LAST-MODIFIED:20260221T045335Z
UID:9460-1771925400-1771930800@www.olmcfssp.org
SUMMARY:Tuesday Morning Book Club
DESCRIPTION:The Tuesday morning book club meets to read and discuss a selected book that assists with spiritual growth and knowledge of our wonderful Catholic faith. All members of the parish are welcome to drop by and check us out.
URL:https://www.olmcfssp.org/calendar/tuesday-morning-book-club-159/
END:VEVENT
BEGIN:VEVENT
DTSTART;TZID=America/Denver:20260224T170000
DTEND;TZID=America/Denver:20260224T180000
DTSTAMP:20260421T181839
CREATED:20240712T215016Z
LAST-MODIFIED:20260221T020832Z
UID:9142-1771952400-1771956000@www.olmcfssp.org
SUMMARY:Shepherds of Christ Prayer Group
DESCRIPTION:
URL:https://www.olmcfssp.org/calendar/shepherds-of-christ-prayer-group-160/
END:VEVENT
BEGIN:VEVENT
DTSTART;TZID=America/Denver:20260225T180000
DTEND;TZID=America/Denver:20260225T210000
DTSTAMP:20260421T181839
CREATED:20240712T220709Z
LAST-MODIFIED:20260220T020835Z
UID:9404-1772042400-1772053200@www.olmcfssp.org
SUMMARY:Hibernia Music Group
DESCRIPTION:An OLMC acoustic music group. We play traditional Irish\, Folk and Americana music. All are welcome to join us\, beginner or advanced\, Instrumentalist or Vocalist. Our goal is to sharpen our skills\, increase our musical knowledge\, have good Catholic fellowship\, and share our music.
URL:https://www.olmcfssp.org/calendar/hibernia-music-group-71/
END:VEVENT
BEGIN:VEVENT
DTSTART;TZID=America/Denver:20260225T190000
DTEND;TZID=America/Denver:20260225T203000
DTSTAMP:20260421T181839
CREATED:20240712T221257Z
LAST-MODIFIED:20260221T030830Z
UID:9499-1772046000-1772051400@www.olmcfssp.org
SUMMARY:Choir Practice
DESCRIPTION:
URL:https://www.olmcfssp.org/calendar/choir-practice-158/
END:VEVENT
BEGIN:VEVENT
DTSTART;TZID=America/Denver:20260226T093000
DTEND;TZID=America/Denver:20260226T103000
DTSTAMP:20260421T181839
CREATED:20240712T220709Z
LAST-MODIFIED:20260220T020835Z
UID:9405-1772098200-1772101800@www.olmcfssp.org
SUMMARY:Legion of Mary Meeting
DESCRIPTION:The legion exists to be a sign of Mary’s maternal love for the world and a means of enlisting all her children in the Church’s evangelizing work. It is at the disposal of the parish priest for any form of service deemed useful for the welfare of the Church.
URL:https://www.olmcfssp.org/calendar/legion-of-mary-meeting-317/
END:VEVENT
BEGIN:VEVENT
DTSTART;TZID=America/Denver:20260228T101500
DTEND;TZID=America/Denver:20260228T110000
DTSTAMP:20260421T181839
CREATED:20240712T215503Z
LAST-MODIFIED:20260228T050831Z
UID:9226-1772273700-1772276400@www.olmcfssp.org
SUMMARY:Planned Parenthood Prayer Vigil
DESCRIPTION:Please join us for our monthly parish prayer vigil at Planned Parenthood starting at 10:15 am. The facility is located at 7155 E 38th Ave. in Denver.
URL:https://www.olmcfssp.org/calendar/planned-parenthood-prayer-vigil-51/
END:VEVENT
BEGIN:VEVENT
DTSTART;TZID=America/Denver:20260301T140000
DTEND;TZID=America/Denver:20260301T170000
DTSTAMP:20260421T181839
CREATED:20240712T220709Z
LAST-MODIFIED:20260227T020830Z
UID:9406-1772373600-1772384400@www.olmcfssp.org
SUMMARY:Laeta Vita
DESCRIPTION:Leata Vita (Joyful Life) is a group for single women ages 18-35. The purpose of our group is to meet and grow in fellowship with other women who are in a similar season of life. We meet two times a month. The first meeting of the month consists of discussing a book as part of our book club and socializing with each other. The second meeting of the month consists of a fun outing or activity (and every now and then something charitable for the parish or some other organization)\, meant to give the members a chance to get out and have some fun.
URL:https://www.olmcfssp.org/calendar/laeta-vita-65/
END:VEVENT
BEGIN:VEVENT
DTSTART;TZID=America/Denver:20260301T170000
DTEND;TZID=America/Denver:20260301T180000
DTSTAMP:20260421T181839
CREATED:20240712T215016Z
LAST-MODIFIED:20260228T022332Z
UID:9143-1772384400-1772388000@www.olmcfssp.org
SUMMARY:Sung Vespers
DESCRIPTION:
URL:https://www.olmcfssp.org/calendar/sung-vespers-147/
END:VEVENT
BEGIN:VEVENT
DTSTART;TZID=America/Denver:20260302T180000
DTEND;TZID=America/Denver:20260302T190000
DTSTAMP:20260421T181839
CREATED:20240712T220709Z
LAST-MODIFIED:20260227T020830Z
UID:9407-1772474400-1772478000@www.olmcfssp.org
SUMMARY:Legion of Mary Meeting
DESCRIPTION:The legion exists to be a sign of Mary’s maternal love for the world and a means of enlisting all her children in the Church’s evangelizing work. It is at the disposal of the parish priest for any form of service deemed useful for the welfare of the Church.
URL:https://www.olmcfssp.org/calendar/legion-of-mary-meeting-318/
END:VEVENT
BEGIN:VEVENT
DTSTART;TZID=America/Denver:20260303T093000
DTEND;TZID=America/Denver:20260303T110000
DTSTAMP:20260421T181839
CREATED:20240712T221123Z
LAST-MODIFIED:20260228T045337Z
UID:9461-1772530200-1772535600@www.olmcfssp.org
SUMMARY:Tuesday Morning Book Club
DESCRIPTION:The Tuesday morning book club meets to read and discuss a selected book that assists with spiritual growth and knowledge of our wonderful Catholic faith. All members of the parish are welcome to drop by and check us out.
URL:https://www.olmcfssp.org/calendar/tuesday-morning-book-club-160/
END:VEVENT
END:VCALENDAR