BEGIN:VCALENDAR
VERSION:2.0
PRODID:-//Our Lady of Mt. Carmel - ECPv6.15.20//NONSGML v1.0//EN
CALSCALE:GREGORIAN
METHOD:PUBLISH
X-WR-CALNAME:Our Lady of Mt. Carmel
X-ORIGINAL-URL:https://www.olmcfssp.org
X-WR-CALDESC:Events for Our Lady of Mt. Carmel
REFRESH-INTERVAL;VALUE=DURATION:PT1H
X-Robots-Tag:noindex
X-PUBLISHED-TTL:PT1H
BEGIN:VTIMEZONE
TZID:America/Denver
BEGIN:DAYLIGHT
TZOFFSETFROM:-0700
TZOFFSETTO:-0600
TZNAME:MDT
DTSTART:20240310T090000
END:DAYLIGHT
BEGIN:STANDARD
TZOFFSETFROM:-0600
TZOFFSETTO:-0700
TZNAME:MST
DTSTART:20241103T080000
END:STANDARD
BEGIN:DAYLIGHT
TZOFFSETFROM:-0700
TZOFFSETTO:-0600
TZNAME:MDT
DTSTART:20250309T090000
END:DAYLIGHT
BEGIN:STANDARD
TZOFFSETFROM:-0600
TZOFFSETTO:-0700
TZNAME:MST
DTSTART:20251102T080000
END:STANDARD
BEGIN:DAYLIGHT
TZOFFSETFROM:-0700
TZOFFSETTO:-0600
TZNAME:MDT
DTSTART:20260308T090000
END:DAYLIGHT
BEGIN:STANDARD
TZOFFSETFROM:-0600
TZOFFSETTO:-0700
TZNAME:MST
DTSTART:20261101T080000
END:STANDARD
END:VTIMEZONE
BEGIN:VEVENT
DTSTART;TZID=America/Denver:20250308T093000
DTEND;TZID=America/Denver:20250308T130000
DTSTAMP:20260421T192658
CREATED:20231027T174344Z
LAST-MODIFIED:20250308T005330Z
UID:7306-1741426200-1741438800@www.olmcfssp.org
SUMMARY:St. Teresa of Jesus Association
DESCRIPTION:A formation in the spirituality of St. Teresa of Jesus within a Study Group composed of men and women over the age of 25 years. This formation includes daily Mass\, Lectio Divina\, Divine Office and the living a life of apostolic endeavors: ministering to our families and the world.  The members endeavor to give glory to God\, to honor our Blessed Lady of Carmel and to aid our Holy Mother the Church by their prayers.
URL:https://www.olmcfssp.org/calendar/st-teresa-of-jesus-association-24/
END:VEVENT
BEGIN:VEVENT
DTSTART;TZID=America/Denver:20250308T130000
DTEND;TZID=America/Denver:20250308T160000
DTSTAMP:20260421T192658
CREATED:20231027T173144Z
LAST-MODIFIED:20250307T010832Z
UID:6884-1741438800-1741449600@www.olmcfssp.org
SUMMARY:Hibernia Music Group
DESCRIPTION:An OLMC acoustic music group. We play traditional Irish\, Folk and Americana music. All are welcome to join us\, beginner or advanced\, Instrumentalist or Vocalist. Our goal is to sharpen our skills\, increase our musical knowledge\, have good Catholic fellowship\, and share our music.
URL:https://www.olmcfssp.org/calendar/hibernia-music-group-48/
END:VEVENT
BEGIN:VEVENT
DTSTART;TZID=America/Denver:20250309T123000
DTEND;TZID=America/Denver:20250309T140000
DTSTAMP:20260421T192658
CREATED:20231027T173144Z
LAST-MODIFIED:20250307T010832Z
UID:6885-1741523400-1741528800@www.olmcfssp.org
SUMMARY:Knights of Columbus Meeting
DESCRIPTION:As faithful Catholics\, we are called to be salt and light in this material world. As traditional Catholics within the Church Universal\, we are sometimes called\, in charity\, to bring more illumination and flavor to our fellow Catholics. Let us join with him in spreading the message within the Knights of Columbus.
URL:https://www.olmcfssp.org/calendar/knights-of-columbus-meeting-24/
END:VEVENT
BEGIN:VEVENT
DTSTART;TZID=America/Denver:20250309T170000
DTEND;TZID=America/Denver:20250309T180000
DTSTAMP:20260421T192658
CREATED:20231027T172502Z
LAST-MODIFIED:20250308T000829Z
UID:6346-1741539600-1741543200@www.olmcfssp.org
SUMMARY:Sung Vespers
DESCRIPTION:
URL:https://www.olmcfssp.org/calendar/sung-vespers-96/
END:VEVENT
BEGIN:VEVENT
DTSTART;TZID=America/Denver:20250310T180000
DTEND;TZID=America/Denver:20250310T190000
DTSTAMP:20260421T192658
CREATED:20231027T173144Z
LAST-MODIFIED:20250307T010832Z
UID:6886-1741629600-1741633200@www.olmcfssp.org
SUMMARY:Legion of Mary Meeting
DESCRIPTION:The legion exists to be a sign of Mary’s maternal love for the world and a means of enlisting all her children in the Church’s evangelizing work. It is at the disposal of the parish priest for any form of service deemed useful for the welfare of the Church.
URL:https://www.olmcfssp.org/calendar/legion-of-mary-meeting-216/
END:VEVENT
BEGIN:VEVENT
DTSTART;TZID=America/Denver:20250311T093000
DTEND;TZID=America/Denver:20250311T103000
DTSTAMP:20260421T192658
CREATED:20240110T185518Z
LAST-MODIFIED:20250308T000829Z
UID:8713-1741685400-1741689000@www.olmcfssp.org
SUMMARY:Holy Face Devotion Group
DESCRIPTION:His Holy Face Ministry’s mission is to bring the Face of God back into the world to breathe life into souls by making reparation for the sins committed against the majesty of God and the Catholic Church. Join us as a community in making public reparation before a 2nd class relic image of the Veil of St. Veronica on the second Tuesday or third Saturday of each month after the 8:30 AM mass. We also offer presentations on the Holy Face Devotion\, a Home Enthronement Program with the image\, and a Parish Enthronement Program to share with a wider audience.
URL:https://www.olmcfssp.org/calendar/holy-face-devotion-group-32/
END:VEVENT
BEGIN:VEVENT
DTSTART;TZID=America/Denver:20250311T093000
DTEND;TZID=America/Denver:20250311T110000
DTSTAMP:20260421T192658
CREATED:20231027T173403Z
LAST-MODIFIED:20231027T173403Z
UID:7062-1741685400-1741690800@www.olmcfssp.org
SUMMARY:Tuesday Morning Book Club
DESCRIPTION:The Tuesday morning book club meets to read and discuss a selected book that assists with spiritual growth and knowledge of our wonderful Catholic faith. All members of the parish are welcome to drop by and check us out.
URL:https://www.olmcfssp.org/calendar/tuesday-morning-book-club-110/
END:VEVENT
BEGIN:VEVENT
DTSTART;TZID=America/Denver:20250311T170000
DTEND;TZID=America/Denver:20250311T180000
DTSTAMP:20260421T192658
CREATED:20231027T172503Z
LAST-MODIFIED:20250308T000829Z
UID:6347-1741712400-1741716000@www.olmcfssp.org
SUMMARY:Shepherds of Christ Prayer Group
DESCRIPTION:
URL:https://www.olmcfssp.org/calendar/shepherds-of-christ-prayer-group-110/
END:VEVENT
BEGIN:VEVENT
DTSTART;TZID=America/Denver:20250312T190000
DTEND;TZID=America/Denver:20250312T203000
DTSTAMP:20260421T192658
CREATED:20231027T173636Z
LAST-MODIFIED:20250308T020830Z
UID:7204-1741806000-1741811400@www.olmcfssp.org
SUMMARY:Choir Practice
DESCRIPTION:
URL:https://www.olmcfssp.org/calendar/choir-practice-108/
END:VEVENT
BEGIN:VEVENT
DTSTART;TZID=America/Denver:20250313T093000
DTEND;TZID=America/Denver:20250313T103000
DTSTAMP:20260421T192658
CREATED:20231027T173144Z
LAST-MODIFIED:20250307T010832Z
UID:6887-1741858200-1741861800@www.olmcfssp.org
SUMMARY:Legion of Mary Meeting
DESCRIPTION:The legion exists to be a sign of Mary’s maternal love for the world and a means of enlisting all her children in the Church’s evangelizing work. It is at the disposal of the parish priest for any form of service deemed useful for the welfare of the Church.
URL:https://www.olmcfssp.org/calendar/legion-of-mary-meeting-217/
END:VEVENT
BEGIN:VEVENT
DTSTART;TZID=America/Denver:20250315T093000
DTEND;TZID=America/Denver:20250315T110000
DTSTAMP:20260421T192658
CREATED:20241214T003836Z
LAST-MODIFIED:20250315T000836Z
UID:11039-1742031000-1742036400@www.olmcfssp.org
SUMMARY:Catholic Inquiry Class
DESCRIPTION:All those interested in learning about the Catholic Faith are welcome to attend this class taught by Fr Krager. There is no fee and no obligation to convert. If you are non-Catholic or away from the Church\, you are strongly encouraged to come. Please encourage anyone you think might be interested to come. The worst they can say is no! Email Fr Krager with any questions.
URL:https://www.olmcfssp.org/calendar/catholic-inquiry-class-10/
END:VEVENT
BEGIN:VEVENT
DTSTART;TZID=America/Denver:20250315T093000
DTEND;TZID=America/Denver:20250315T120000
DTSTAMP:20260421T192658
CREATED:20231027T172916Z
LAST-MODIFIED:20231103T182346Z
UID:6566-1742031000-1742040000@www.olmcfssp.org
SUMMARY:Altar & Rosary Society Meeting
DESCRIPTION:The Altar and Rosary Society is an organization of women who foster and spread devotion to the Holy Rosary\, maintain the cleanliness of the church sanctuary\, wash and iron altar linens\, and arrange flowers for the altar.
URL:https://www.olmcfssp.org/calendar/altar-rosary-society-meeting-26/
END:VEVENT
BEGIN:VEVENT
DTSTART;TZID=America/Denver:20250316T123000
DTEND;TZID=America/Denver:20250316T140000
DTSTAMP:20260421T192658
CREATED:20231027T173403Z
LAST-MODIFIED:20250315T000836Z
UID:7063-1742128200-1742133600@www.olmcfssp.org
SUMMARY:Creation Study Group
DESCRIPTION:This group is dedicated to studying the traditional Catholic teaching on creation and Genesis as believed and taught by the Doctors\, Fathers\, Councils and Popes for two thousand years. We explore various aspects of the creation/evolutionism debate and the effects of evolutionary thought on culture\, science and the Church. As Pope St Pius X said about Modernism\, that it is the “synthesis of all heresies.” And “the chief of their doctrines\, that of evolution.” \nAll are welcome to attend and contribute their experience and expertise.
URL:https://www.olmcfssp.org/calendar/creation-study-group-17/
END:VEVENT
BEGIN:VEVENT
DTSTART;TZID=America/Denver:20250316T140000
DTEND;TZID=America/Denver:20250316T170000
DTSTAMP:20260421T192658
CREATED:20231027T173145Z
LAST-MODIFIED:20250314T000838Z
UID:6888-1742133600-1742144400@www.olmcfssp.org
SUMMARY:Laeta Vita
DESCRIPTION:Leata Vita (Joyful Life) is a group for single women ages 18-35. The purpose of our group is to meet and grow in fellowship with other women who are in a similar season of life. We meet two times a month. The first meeting of the month consists of discussing a book as part of our book club and socializing with each other. The second meeting of the month consists of a fun outing or activity (and every now and then something charitable for the parish or some other organization)\, meant to give the members a chance to get out and have some fun.
URL:https://www.olmcfssp.org/calendar/laeta-vita-41/
END:VEVENT
BEGIN:VEVENT
DTSTART;TZID=America/Denver:20250316T170000
DTEND;TZID=America/Denver:20250316T180000
DTSTAMP:20260421T192658
CREATED:20231027T172503Z
LAST-MODIFIED:20250314T230834Z
UID:6348-1742144400-1742148000@www.olmcfssp.org
SUMMARY:Sung Vespers
DESCRIPTION:
URL:https://www.olmcfssp.org/calendar/sung-vespers-97/
END:VEVENT
BEGIN:VEVENT
DTSTART;TZID=America/Denver:20250317T180000
DTEND;TZID=America/Denver:20250317T190000
DTSTAMP:20260421T192658
CREATED:20231027T173145Z
LAST-MODIFIED:20250314T000838Z
UID:6889-1742234400-1742238000@www.olmcfssp.org
SUMMARY:Legion of Mary Meeting
DESCRIPTION:The legion exists to be a sign of Mary’s maternal love for the world and a means of enlisting all her children in the Church’s evangelizing work. It is at the disposal of the parish priest for any form of service deemed useful for the welfare of the Church.
URL:https://www.olmcfssp.org/calendar/legion-of-mary-meeting-218/
END:VEVENT
BEGIN:VEVENT
DTSTART;TZID=America/Denver:20250318T093000
DTEND;TZID=America/Denver:20250318T110000
DTSTAMP:20260421T192658
CREATED:20231027T173404Z
LAST-MODIFIED:20231027T173404Z
UID:7064-1742290200-1742295600@www.olmcfssp.org
SUMMARY:Tuesday Morning Book Club
DESCRIPTION:The Tuesday morning book club meets to read and discuss a selected book that assists with spiritual growth and knowledge of our wonderful Catholic faith. All members of the parish are welcome to drop by and check us out.
URL:https://www.olmcfssp.org/calendar/tuesday-morning-book-club-111/
END:VEVENT
BEGIN:VEVENT
DTSTART;TZID=America/Denver:20250318T170000
DTEND;TZID=America/Denver:20250318T180000
DTSTAMP:20260421T192658
CREATED:20231027T172503Z
LAST-MODIFIED:20250314T230834Z
UID:6349-1742317200-1742320800@www.olmcfssp.org
SUMMARY:Shepherds of Christ Prayer Group
DESCRIPTION:
URL:https://www.olmcfssp.org/calendar/shepherds-of-christ-prayer-group-111/
END:VEVENT
BEGIN:VEVENT
DTSTART;TZID=America/Denver:20250319T190000
DTEND;TZID=America/Denver:20250319T203000
DTSTAMP:20260421T192658
CREATED:20231027T173636Z
LAST-MODIFIED:20250315T010828Z
UID:7205-1742410800-1742416200@www.olmcfssp.org
SUMMARY:Choir Practice
DESCRIPTION:
URL:https://www.olmcfssp.org/calendar/choir-practice-109/
END:VEVENT
BEGIN:VEVENT
DTSTART;TZID=America/Denver:20250320T093000
DTEND;TZID=America/Denver:20250320T103000
DTSTAMP:20260421T192658
CREATED:20231027T173145Z
LAST-MODIFIED:20250314T000838Z
UID:6890-1742463000-1742466600@www.olmcfssp.org
SUMMARY:Legion of Mary Meeting
DESCRIPTION:The legion exists to be a sign of Mary’s maternal love for the world and a means of enlisting all her children in the Church’s evangelizing work. It is at the disposal of the parish priest for any form of service deemed useful for the welfare of the Church.
URL:https://www.olmcfssp.org/calendar/legion-of-mary-meeting-219/
END:VEVENT
BEGIN:VEVENT
DTSTART;TZID=America/Denver:20250320T093000
DTEND;TZID=America/Denver:20250320T110000
DTSTAMP:20260421T192658
CREATED:20231027T174344Z
LAST-MODIFIED:20250314T235329Z
UID:7309-1742463000-1742468400@www.olmcfssp.org
SUMMARY:St. Therese Book Club
DESCRIPTION:Come and study the works of St. Therese as a group. All are welcome.
URL:https://www.olmcfssp.org/calendar/st-therese-book-club-25/
END:VEVENT
BEGIN:VEVENT
DTSTART;TZID=America/Denver:20250322T083000
DTEND;TZID=America/Denver:20250322T160000
DTSTAMP:20260421T192658
CREATED:20240802T232337Z
LAST-MODIFIED:20250322T025331Z
UID:9954-1742632200-1742659200@www.olmcfssp.org
SUMMARY:FNE
DESCRIPTION:The Federation of North American Explorers is an authentic Catholic scouting program with groups for boys and girls between the age of 6-17. Please direct any questions to info@olmcexplorers.org
URL:https://www.olmcfssp.org/calendar/fne-15/
END:VEVENT
BEGIN:VEVENT
DTSTART;TZID=America/Denver:20250322T093000
DTEND;TZID=America/Denver:20250322T110000
DTSTAMP:20260421T192658
CREATED:20241214T003836Z
LAST-MODIFIED:20250322T002331Z
UID:11040-1742635800-1742641200@www.olmcfssp.org
SUMMARY:Catholic Inquiry Class
DESCRIPTION:All those interested in learning about the Catholic Faith are welcome to attend this class taught by Fr Krager. There is no fee and no obligation to convert. If you are non-Catholic or away from the Church\, you are strongly encouraged to come. Please encourage anyone you think might be interested to come. The worst they can say is no! Email Fr Krager with any questions.
URL:https://www.olmcfssp.org/calendar/catholic-inquiry-class-11/
END:VEVENT
BEGIN:VEVENT
DTSTART;TZID=America/Denver:20250322T101500
DTEND;TZID=America/Denver:20250322T110000
DTSTAMP:20260421T192658
CREATED:20240712T215500Z
LAST-MODIFIED:20250322T025331Z
UID:9215-1742638500-1742641200@www.olmcfssp.org
SUMMARY:Planned Parenthood Prayer Vigil
DESCRIPTION:Please join us for our monthly parish prayer vigil at Planned Parenthood starting at 10:15 am. The facility is located at 7155 E 38th Ave. in Denver.
URL:https://www.olmcfssp.org/calendar/planned-parenthood-prayer-vigil-40/
END:VEVENT
BEGIN:VEVENT
DTSTART;TZID=America/Denver:20250323T123000
DTEND;TZID=America/Denver:20250323T141500
DTSTAMP:20260421T192658
CREATED:20231103T173838Z
LAST-MODIFIED:20231215T185341Z
UID:7768-1742733000-1742739300@www.olmcfssp.org
SUMMARY:Carmel Rookies Chess Club
DESCRIPTION:Players must RSVP to Mr. Mudd at rdm3rdm3@gmail.com to reserve their spot as space is limited.
URL:https://www.olmcfssp.org/calendar/carmel-rookies-chess-club-49/
END:VEVENT
BEGIN:VEVENT
DTSTART;TZID=America/Denver:20250323T123000
DTEND;TZID=America/Denver:20250323T141500
DTSTAMP:20260421T192658
CREATED:20240712T220702Z
LAST-MODIFIED:20250321T000832Z
UID:9308-1742733000-1742739300@www.olmcfssp.org
SUMMARY:Carmel Rookies Chess Club
DESCRIPTION:Carmel Rookies Chess Club for players under 18. Players/parents must RSVP to Mr. Mudd at rdm3rdm3@gmail.com to reserve their spot as space is limited.
URL:https://www.olmcfssp.org/calendar/carmel-rookies-chess-club-60/
END:VEVENT
BEGIN:VEVENT
DTSTART;TZID=America/Denver:20250323T170000
DTEND;TZID=America/Denver:20250323T180000
DTSTAMP:20260421T192658
CREATED:20231027T172503Z
LAST-MODIFIED:20250321T230832Z
UID:6350-1742749200-1742752800@www.olmcfssp.org
SUMMARY:Sung Vespers
DESCRIPTION:
URL:https://www.olmcfssp.org/calendar/sung-vespers-98/
END:VEVENT
BEGIN:VEVENT
DTSTART;TZID=America/Denver:20250324T180000
DTEND;TZID=America/Denver:20250324T190000
DTSTAMP:20260421T192658
CREATED:20231027T173146Z
LAST-MODIFIED:20250321T000832Z
UID:6892-1742839200-1742842800@www.olmcfssp.org
SUMMARY:Legion of Mary Meeting
DESCRIPTION:The legion exists to be a sign of Mary’s maternal love for the world and a means of enlisting all her children in the Church’s evangelizing work. It is at the disposal of the parish priest for any form of service deemed useful for the welfare of the Church.
URL:https://www.olmcfssp.org/calendar/legion-of-mary-meeting-220/
END:VEVENT
BEGIN:VEVENT
DTSTART;TZID=America/Denver:20250325T093000
DTEND;TZID=America/Denver:20250325T110000
DTSTAMP:20260421T192658
CREATED:20231027T173404Z
LAST-MODIFIED:20231027T173404Z
UID:7065-1742895000-1742900400@www.olmcfssp.org
SUMMARY:Tuesday Morning Book Club
DESCRIPTION:The Tuesday morning book club meets to read and discuss a selected book that assists with spiritual growth and knowledge of our wonderful Catholic faith. All members of the parish are welcome to drop by and check us out.
URL:https://www.olmcfssp.org/calendar/tuesday-morning-book-club-112/
END:VEVENT
BEGIN:VEVENT
DTSTART;TZID=America/Denver:20250325T170000
DTEND;TZID=America/Denver:20250325T180000
DTSTAMP:20260421T192658
CREATED:20231027T172504Z
LAST-MODIFIED:20250321T230832Z
UID:6351-1742922000-1742925600@www.olmcfssp.org
SUMMARY:Shepherds of Christ Prayer Group
DESCRIPTION:
URL:https://www.olmcfssp.org/calendar/shepherds-of-christ-prayer-group-112/
END:VEVENT
END:VCALENDAR