BEGIN:VCALENDAR
VERSION:2.0
PRODID:-//Our Lady of Mt. Carmel - ECPv6.15.20//NONSGML v1.0//EN
CALSCALE:GREGORIAN
METHOD:PUBLISH
X-WR-CALNAME:Our Lady of Mt. Carmel
X-ORIGINAL-URL:https://www.olmcfssp.org
X-WR-CALDESC:Events for Our Lady of Mt. Carmel
REFRESH-INTERVAL;VALUE=DURATION:PT1H
X-Robots-Tag:noindex
X-PUBLISHED-TTL:PT1H
BEGIN:VTIMEZONE
TZID:America/Denver
BEGIN:DAYLIGHT
TZOFFSETFROM:-0700
TZOFFSETTO:-0600
TZNAME:MDT
DTSTART:20240310T090000
END:DAYLIGHT
BEGIN:STANDARD
TZOFFSETFROM:-0600
TZOFFSETTO:-0700
TZNAME:MST
DTSTART:20241103T080000
END:STANDARD
BEGIN:DAYLIGHT
TZOFFSETFROM:-0700
TZOFFSETTO:-0600
TZNAME:MDT
DTSTART:20250309T090000
END:DAYLIGHT
BEGIN:STANDARD
TZOFFSETFROM:-0600
TZOFFSETTO:-0700
TZNAME:MST
DTSTART:20251102T080000
END:STANDARD
BEGIN:DAYLIGHT
TZOFFSETFROM:-0700
TZOFFSETTO:-0600
TZNAME:MDT
DTSTART:20260308T090000
END:DAYLIGHT
BEGIN:STANDARD
TZOFFSETFROM:-0600
TZOFFSETTO:-0700
TZNAME:MST
DTSTART:20261101T080000
END:STANDARD
END:VTIMEZONE
BEGIN:VEVENT
DTSTART;TZID=America/Denver:20250410T093000
DTEND;TZID=America/Denver:20250410T103000
DTSTAMP:20260421T201833
CREATED:20231027T173147Z
LAST-MODIFIED:20250404T000850Z
UID:6899-1744277400-1744281000@www.olmcfssp.org
SUMMARY:Legion of Mary Meeting
DESCRIPTION:The legion exists to be a sign of Mary’s maternal love for the world and a means of enlisting all her children in the Church’s evangelizing work. It is at the disposal of the parish priest for any form of service deemed useful for the welfare of the Church.
URL:https://www.olmcfssp.org/calendar/legion-of-mary-meeting-225/
END:VEVENT
BEGIN:VEVENT
DTSTART;TZID=America/Denver:20250412T083000
DTEND;TZID=America/Denver:20250412T160000
DTSTAMP:20260421T201833
CREATED:20240802T232337Z
LAST-MODIFIED:20250412T025333Z
UID:9955-1744446600-1744473600@www.olmcfssp.org
SUMMARY:FNE
DESCRIPTION:
URL:https://www.olmcfssp.org/calendar/fne-16/
END:VEVENT
BEGIN:VEVENT
DTSTART;TZID=America/Denver:20250412T093000
DTEND;TZID=America/Denver:20250412T110000
DTSTAMP:20260421T201833
CREATED:20241214T003837Z
LAST-MODIFIED:20250412T002331Z
UID:11044-1744450200-1744455600@www.olmcfssp.org
SUMMARY:Catholic Inquiry Class
DESCRIPTION:All those interested in learning about the Catholic Faith are welcome to attend this class taught by Fr Krager. There is no fee and no obligation to convert. If you are non-Catholic or away from the Church\, you are strongly encouraged to come. Please encourage anyone you think might be interested to come. The worst they can say is no! Email Fr Krager with any questions.
URL:https://www.olmcfssp.org/calendar/catholic-inquiry-class-14/
END:VEVENT
BEGIN:VEVENT
DTSTART;TZID=America/Denver:20250412T093000
DTEND;TZID=America/Denver:20250412T113000
DTSTAMP:20260421T201833
CREATED:20231027T172917Z
LAST-MODIFIED:20250412T023846Z
UID:6568-1744450200-1744457400@www.olmcfssp.org
SUMMARY:Holy Name Society Meeting
DESCRIPTION:The Holy Name Society is an organization of men striving to grow in holiness. The group is open to all men of the parish over the age of 18. Meetings include Mass\, the recitation of the Holy Rosary\, breakfast and a spiritual talk.
URL:https://www.olmcfssp.org/calendar/holy-name-society-meeting-24/
END:VEVENT
BEGIN:VEVENT
DTSTART;TZID=America/Denver:20250412T093000
DTEND;TZID=America/Denver:20250412T130000
DTSTAMP:20260421T201833
CREATED:20231027T174344Z
LAST-MODIFIED:20250412T000838Z
UID:7316-1744450200-1744462800@www.olmcfssp.org
SUMMARY:St. Teresa of Jesus Association
DESCRIPTION:A formation in the spirituality of St. Teresa of Jesus within a Study Group composed of men and women over the age of 25 years. This formation includes daily Mass\, Lectio Divina\, Divine Office and the living a life of apostolic endeavors: ministering to our families and the world.  The members endeavor to give glory to God\, to honor our Blessed Lady of Carmel and to aid our Holy Mother the Church by their prayers.
URL:https://www.olmcfssp.org/calendar/st-teresa-of-jesus-association-25/
END:VEVENT
BEGIN:VEVENT
DTSTART;TZID=America/Denver:20250412T130000
DTEND;TZID=America/Denver:20250412T160000
DTSTAMP:20260421T201833
CREATED:20231027T173148Z
LAST-MODIFIED:20250411T000843Z
UID:6910-1744462800-1744473600@www.olmcfssp.org
SUMMARY:Hibernia Music Group
DESCRIPTION:An OLMC acoustic music group. We play traditional Irish\, Folk and Americana music. All are welcome to join us\, beginner or advanced\, Instrumentalist or Vocalist. Our goal is to sharpen our skills\, increase our musical knowledge\, have good Catholic fellowship\, and share our music.
URL:https://www.olmcfssp.org/calendar/hibernia-music-group-50/
END:VEVENT
BEGIN:VEVENT
DTSTART;TZID=America/Denver:20250413T123000
DTEND;TZID=America/Denver:20250413T140000
DTSTAMP:20260421T201833
CREATED:20231027T173148Z
LAST-MODIFIED:20250411T000843Z
UID:6911-1744547400-1744552800@www.olmcfssp.org
SUMMARY:Knights of Columbus Meeting
DESCRIPTION:As faithful Catholics\, we are called to be salt and light in this material world. As traditional Catholics within the Church Universal\, we are sometimes called\, in charity\, to bring more illumination and flavor to our fellow Catholics. Let us join with him in spreading the message within the Knights of Columbus.
URL:https://www.olmcfssp.org/calendar/knights-of-columbus-meeting-25/
END:VEVENT
BEGIN:VEVENT
DTSTART;TZID=America/Denver:20250413T170000
DTEND;TZID=America/Denver:20250413T180000
DTSTAMP:20260421T201833
CREATED:20231027T172505Z
LAST-MODIFIED:20250411T230835Z
UID:6357-1744563600-1744567200@www.olmcfssp.org
SUMMARY:Sung Vespers
DESCRIPTION:
URL:https://www.olmcfssp.org/calendar/sung-vespers-101/
END:VEVENT
BEGIN:VEVENT
DTSTART;TZID=America/Denver:20250414T180000
DTEND;TZID=America/Denver:20250414T190000
DTSTAMP:20260421T201833
CREATED:20231027T173148Z
LAST-MODIFIED:20250411T000843Z
UID:6912-1744653600-1744657200@www.olmcfssp.org
SUMMARY:Legion of Mary Meeting
DESCRIPTION:The legion exists to be a sign of Mary’s maternal love for the world and a means of enlisting all her children in the Church’s evangelizing work. It is at the disposal of the parish priest for any form of service deemed useful for the welfare of the Church.
URL:https://www.olmcfssp.org/calendar/legion-of-mary-meeting-226/
END:VEVENT
BEGIN:VEVENT
DTSTART;TZID=America/Denver:20250415T093000
DTEND;TZID=America/Denver:20250415T110000
DTSTAMP:20260421T201833
CREATED:20231027T173405Z
LAST-MODIFIED:20231027T173405Z
UID:7068-1744709400-1744714800@www.olmcfssp.org
SUMMARY:Tuesday Morning Book Club
DESCRIPTION:The Tuesday morning book club meets to read and discuss a selected book that assists with spiritual growth and knowledge of our wonderful Catholic faith. All members of the parish are welcome to drop by and check us out.
URL:https://www.olmcfssp.org/calendar/tuesday-morning-book-club-115/
END:VEVENT
BEGIN:VEVENT
DTSTART;TZID=America/Denver:20250415T170000
DTEND;TZID=America/Denver:20250415T180000
DTSTAMP:20260421T201833
CREATED:20231027T172505Z
LAST-MODIFIED:20250411T230835Z
UID:6358-1744736400-1744740000@www.olmcfssp.org
SUMMARY:Shepherds of Christ Prayer Group
DESCRIPTION:
URL:https://www.olmcfssp.org/calendar/shepherds-of-christ-prayer-group-115/
END:VEVENT
BEGIN:VEVENT
DTSTART;TZID=America/Denver:20250416T190000
DTEND;TZID=America/Denver:20250416T203000
DTSTAMP:20260421T201833
CREATED:20231027T173637Z
LAST-MODIFIED:20250412T012329Z
UID:7209-1744830000-1744835400@www.olmcfssp.org
SUMMARY:Choir Practice
DESCRIPTION:
URL:https://www.olmcfssp.org/calendar/choir-practice-113/
END:VEVENT
BEGIN:VEVENT
DTSTART;TZID=America/Denver:20250417T093000
DTEND;TZID=America/Denver:20250417T103000
DTSTAMP:20260421T201833
CREATED:20231027T173149Z
LAST-MODIFIED:20250411T000843Z
UID:6913-1744882200-1744885800@www.olmcfssp.org
SUMMARY:Legion of Mary Meeting
DESCRIPTION:The legion exists to be a sign of Mary’s maternal love for the world and a means of enlisting all her children in the Church’s evangelizing work. It is at the disposal of the parish priest for any form of service deemed useful for the welfare of the Church.
URL:https://www.olmcfssp.org/calendar/legion-of-mary-meeting-227/
END:VEVENT
BEGIN:VEVENT
DTSTART;TZID=America/Denver:20250417T093000
DTEND;TZID=America/Denver:20250417T110000
DTSTAMP:20260421T201833
CREATED:20231027T174344Z
LAST-MODIFIED:20250412T000838Z
UID:7319-1744882200-1744887600@www.olmcfssp.org
SUMMARY:St. Therese Book Club
DESCRIPTION:Come and study the works of St. Therese as a group. All are welcome.
URL:https://www.olmcfssp.org/calendar/st-therese-book-club-26/
END:VEVENT
BEGIN:VEVENT
DTSTART;TZID=America/Denver:20250419T093000
DTEND;TZID=America/Denver:20250419T110000
DTSTAMP:20260421T201833
CREATED:20241214T003837Z
LAST-MODIFIED:20250419T003833Z
UID:11045-1745055000-1745060400@www.olmcfssp.org
SUMMARY:Catholic Inquiry Class
DESCRIPTION:All those interested in learning about the Catholic Faith are welcome to attend this class taught by Fr Krager. There is no fee and no obligation to convert. If you are non-Catholic or away from the Church\, you are strongly encouraged to come. Please encourage anyone you think might be interested to come. The worst they can say is no! Email Fr Krager with any questions.
URL:https://www.olmcfssp.org/calendar/catholic-inquiry-class-15/
END:VEVENT
BEGIN:VEVENT
DTSTART;TZID=America/Denver:20250420T123000
DTEND;TZID=America/Denver:20250420T140000
DTSTAMP:20260421T201833
CREATED:20231027T173405Z
LAST-MODIFIED:20250405T002330Z
UID:7069-1745152200-1745157600@www.olmcfssp.org
SUMMARY:Creation Study Group
DESCRIPTION:This group is dedicated to studying the traditional Catholic teaching on creation and Genesis as believed and taught by the Doctors\, Fathers\, Councils and Popes for two thousand years. We explore various aspects of the creation/evolutionism debate and the effects of evolutionary thought on culture\, science and the Church. As Pope St Pius X said about Modernism\, that it is the “synthesis of all heresies.” And “the chief of their doctrines\, that of evolution.” \nAll are welcome to attend and contribute their experience and expertise.
URL:https://www.olmcfssp.org/calendar/creation-study-group-18/
END:VEVENT
BEGIN:VEVENT
DTSTART;TZID=America/Denver:20250420T140000
DTEND;TZID=America/Denver:20250420T170000
DTSTAMP:20260421T201833
CREATED:20231027T173149Z
LAST-MODIFIED:20250404T000850Z
UID:6914-1745157600-1745168400@www.olmcfssp.org
SUMMARY:Laeta Vita
DESCRIPTION:Leata Vita (Joyful Life) is a group for single women ages 18-35. The purpose of our group is to meet and grow in fellowship with other women who are in a similar season of life. We meet two times a month. The first meeting of the month consists of discussing a book as part of our book club and socializing with each other. The second meeting of the month consists of a fun outing or activity (and every now and then something charitable for the parish or some other organization)\, meant to give the members a chance to get out and have some fun.
URL:https://www.olmcfssp.org/calendar/laeta-vita-43/
END:VEVENT
BEGIN:VEVENT
DTSTART;TZID=America/Denver:20250420T170000
DTEND;TZID=America/Denver:20250420T180000
DTSTAMP:20260421T201833
CREATED:20231027T172506Z
LAST-MODIFIED:20250418T230832Z
UID:6359-1745168400-1745172000@www.olmcfssp.org
SUMMARY:Sung Vespers
DESCRIPTION:
URL:https://www.olmcfssp.org/calendar/sung-vespers-102/
END:VEVENT
BEGIN:VEVENT
DTSTART;TZID=America/Denver:20250421T180000
DTEND;TZID=America/Denver:20250421T190000
DTSTAMP:20260421T201833
CREATED:20231027T173149Z
LAST-MODIFIED:20250418T000831Z
UID:6915-1745258400-1745262000@www.olmcfssp.org
SUMMARY:Legion of Mary Meeting
DESCRIPTION:The legion exists to be a sign of Mary’s maternal love for the world and a means of enlisting all her children in the Church’s evangelizing work. It is at the disposal of the parish priest for any form of service deemed useful for the welfare of the Church.
URL:https://www.olmcfssp.org/calendar/legion-of-mary-meeting-228/
END:VEVENT
BEGIN:VEVENT
DTSTART;TZID=America/Denver:20250422T093000
DTEND;TZID=America/Denver:20250422T110000
DTSTAMP:20260421T201833
CREATED:20231027T173405Z
LAST-MODIFIED:20231027T173405Z
UID:7070-1745314200-1745319600@www.olmcfssp.org
SUMMARY:Tuesday Morning Book Club
DESCRIPTION:The Tuesday morning book club meets to read and discuss a selected book that assists with spiritual growth and knowledge of our wonderful Catholic faith. All members of the parish are welcome to drop by and check us out.
URL:https://www.olmcfssp.org/calendar/tuesday-morning-book-club-116/
END:VEVENT
BEGIN:VEVENT
DTSTART;TZID=America/Denver:20250422T170000
DTEND;TZID=America/Denver:20250422T180000
DTSTAMP:20260421T201833
CREATED:20231027T172506Z
LAST-MODIFIED:20250418T230832Z
UID:6360-1745341200-1745344800@www.olmcfssp.org
SUMMARY:Shepherds of Christ Prayer Group
DESCRIPTION:
URL:https://www.olmcfssp.org/calendar/shepherds-of-christ-prayer-group-116/
END:VEVENT
BEGIN:VEVENT
DTSTART;TZID=America/Denver:20250423T180000
DTEND;TZID=America/Denver:20250423T210000
DTSTAMP:20260421T201833
CREATED:20231027T173149Z
LAST-MODIFIED:20250418T000831Z
UID:6916-1745431200-1745442000@www.olmcfssp.org
SUMMARY:Hibernia Music Group
DESCRIPTION:An OLMC acoustic music group. We play traditional Irish\, Folk and Americana music. All are welcome to join us\, beginner or advanced\, Instrumentalist or Vocalist. Our goal is to sharpen our skills\, increase our musical knowledge\, have good Catholic fellowship\, and share our music.
URL:https://www.olmcfssp.org/calendar/hibernia-music-group-51/
END:VEVENT
BEGIN:VEVENT
DTSTART;TZID=America/Denver:20250423T190000
DTEND;TZID=America/Denver:20250423T203000
DTSTAMP:20260421T201833
CREATED:20231027T173637Z
LAST-MODIFIED:20250419T012333Z
UID:7210-1745434800-1745440200@www.olmcfssp.org
SUMMARY:Choir Practice
DESCRIPTION:
URL:https://www.olmcfssp.org/calendar/choir-practice-114/
END:VEVENT
BEGIN:VEVENT
DTSTART;TZID=America/Denver:20250424T093000
DTEND;TZID=America/Denver:20250424T103000
DTSTAMP:20260421T201833
CREATED:20231027T173150Z
LAST-MODIFIED:20250418T000831Z
UID:6917-1745487000-1745490600@www.olmcfssp.org
SUMMARY:Legion of Mary Meeting
DESCRIPTION:The legion exists to be a sign of Mary’s maternal love for the world and a means of enlisting all her children in the Church’s evangelizing work. It is at the disposal of the parish priest for any form of service deemed useful for the welfare of the Church.
URL:https://www.olmcfssp.org/calendar/legion-of-mary-meeting-229/
END:VEVENT
BEGIN:VEVENT
DTSTART;TZID=America/Denver:20250426T083000
DTEND;TZID=America/Denver:20250426T160000
DTSTAMP:20260421T201833
CREATED:20240802T232337Z
LAST-MODIFIED:20250426T030848Z
UID:9956-1745656200-1745683200@www.olmcfssp.org
SUMMARY:FNE
DESCRIPTION:The Federation of North American Explorers is an authentic Catholic scouting program with groups for boys and girls between the age of 6-17. Please direct any questions to info@olmcexplorers.org
URL:https://www.olmcfssp.org/calendar/fne-17/
END:VEVENT
BEGIN:VEVENT
DTSTART;TZID=America/Denver:20250426T093000
DTEND;TZID=America/Denver:20250426T110000
DTSTAMP:20260421T201833
CREATED:20241214T003837Z
LAST-MODIFIED:20250426T003836Z
UID:11046-1745659800-1745665200@www.olmcfssp.org
SUMMARY:Catholic Inquiry Class
DESCRIPTION:All those interested in learning about the Catholic Faith are welcome to attend this class taught by Fr Krager. There is no fee and no obligation to convert. If you are non-Catholic or away from the Church\, you are strongly encouraged to come. Please encourage anyone you think might be interested to come. The worst they can say is no! Email Fr Krager with any questions.
URL:https://www.olmcfssp.org/calendar/catholic-inquiry-class-16/
END:VEVENT
BEGIN:VEVENT
DTSTART;TZID=America/Denver:20250426T093000
DTEND;TZID=America/Denver:20250426T120000
DTSTAMP:20260421T201833
CREATED:20231110T192451Z
LAST-MODIFIED:20250426T025346Z
UID:8268-1745659800-1745668800@www.olmcfssp.org
SUMMARY:Altar and Rosary Society Meeting
DESCRIPTION:The Altar and Rosary Society is an organization of women who foster and spread devotion to the Holy Rosary\, maintain the cleanliness of the church sanctuary\, wash and iron altar linens\, and arrange flowers for the altar.
URL:https://www.olmcfssp.org/calendar/altar-and-rosary-society-meeting-19/
END:VEVENT
BEGIN:VEVENT
DTSTART;TZID=America/Denver:20250426T101500
DTEND;TZID=America/Denver:20250426T110000
DTSTAMP:20260421T201833
CREATED:20240712T215500Z
LAST-MODIFIED:20250426T030848Z
UID:9216-1745662500-1745665200@www.olmcfssp.org
SUMMARY:Planned Parenthood Prayer Vigil
DESCRIPTION:Please join us for our monthly parish prayer vigil at Planned Parenthood starting at 10:15 am. The facility is located at 7155 E 38th Ave. in Denver.
URL:https://www.olmcfssp.org/calendar/planned-parenthood-prayer-vigil-41/
END:VEVENT
BEGIN:VEVENT
DTSTART;TZID=America/Denver:20250426T180000
DTEND;TZID=America/Denver:20250426T210000
DTSTAMP:20260421T201833
CREATED:20250419T022328Z
LAST-MODIFIED:20250426T022327Z
UID:12050-1745690400-1745701200@www.olmcfssp.org
SUMMARY:Leisure and Culture Game Night
DESCRIPTION:
URL:https://www.olmcfssp.org/calendar/leisure-and-culture-game-night-2/
END:VEVENT
BEGIN:VEVENT
DTSTART;TZID=America/Denver:20250427T090000
DTEND;TZID=America/Denver:20250427T130000
DTSTAMP:20260421T201833
CREATED:20250419T022328Z
LAST-MODIFIED:20250426T022327Z
UID:12051-1745744400-1745758800@www.olmcfssp.org
SUMMARY:Bake Sale to Support Discernment Retreat
DESCRIPTION:Bake Sale to Support Discernment Retreat for young ladies from the parish who will be visiting a traditional religious order in Kansas this July. The bake sale will be after the 8am\, 9:30am\, and 11am Masses in the parish hall. Proceeds will go directly to covering the cost of travel and lodging for the retreat.
URL:https://www.olmcfssp.org/calendar/bake-sale-to-support-discernment-retreat/
END:VEVENT
END:VCALENDAR