BEGIN:VCALENDAR
VERSION:2.0
PRODID:-//Our Lady of Mt. Carmel - ECPv6.15.20//NONSGML v1.0//EN
CALSCALE:GREGORIAN
METHOD:PUBLISH
X-WR-CALNAME:Our Lady of Mt. Carmel
X-ORIGINAL-URL:https://www.olmcfssp.org
X-WR-CALDESC:Events for Our Lady of Mt. Carmel
REFRESH-INTERVAL;VALUE=DURATION:PT1H
X-Robots-Tag:noindex
X-PUBLISHED-TTL:PT1H
BEGIN:VTIMEZONE
TZID:America/Denver
BEGIN:DAYLIGHT
TZOFFSETFROM:-0700
TZOFFSETTO:-0600
TZNAME:MDT
DTSTART:20240310T090000
END:DAYLIGHT
BEGIN:STANDARD
TZOFFSETFROM:-0600
TZOFFSETTO:-0700
TZNAME:MST
DTSTART:20241103T080000
END:STANDARD
BEGIN:DAYLIGHT
TZOFFSETFROM:-0700
TZOFFSETTO:-0600
TZNAME:MDT
DTSTART:20250309T090000
END:DAYLIGHT
BEGIN:STANDARD
TZOFFSETFROM:-0600
TZOFFSETTO:-0700
TZNAME:MST
DTSTART:20251102T080000
END:STANDARD
BEGIN:DAYLIGHT
TZOFFSETFROM:-0700
TZOFFSETTO:-0600
TZNAME:MDT
DTSTART:20260308T090000
END:DAYLIGHT
BEGIN:STANDARD
TZOFFSETFROM:-0600
TZOFFSETTO:-0700
TZNAME:MST
DTSTART:20261101T080000
END:STANDARD
END:VTIMEZONE
BEGIN:VEVENT
DTSTART;TZID=America/Denver:20250504T140000
DTEND;TZID=America/Denver:20250504T170000
DTSTAMP:20260422T162431
CREATED:20231027T173151Z
LAST-MODIFIED:20250502T000834Z
UID:6921-1746367200-1746378000@www.olmcfssp.org
SUMMARY:Laeta Vita
DESCRIPTION:Leata Vita (Joyful Life) is a group for single women ages 18-35. The purpose of our group is to meet and grow in fellowship with other women who are in a similar season of life. We meet two times a month. The first meeting of the month consists of discussing a book as part of our book club and socializing with each other. The second meeting of the month consists of a fun outing or activity (and every now and then something charitable for the parish or some other organization)\, meant to give the members a chance to get out and have some fun.
URL:https://www.olmcfssp.org/calendar/laeta-vita-44/
END:VEVENT
BEGIN:VEVENT
DTSTART;TZID=America/Denver:20250504T170000
DTEND;TZID=America/Denver:20250504T180000
DTSTAMP:20260422T162431
CREATED:20231027T172507Z
LAST-MODIFIED:20250502T230830Z
UID:6364-1746378000-1746381600@www.olmcfssp.org
SUMMARY:Sung Vespers
DESCRIPTION:
URL:https://www.olmcfssp.org/calendar/sung-vespers-104/
END:VEVENT
BEGIN:VEVENT
DTSTART;TZID=America/Denver:20250505T180000
DTEND;TZID=America/Denver:20250505T190000
DTSTAMP:20260422T162431
CREATED:20231027T173151Z
LAST-MODIFIED:20250502T000834Z
UID:6922-1746468000-1746471600@www.olmcfssp.org
SUMMARY:Legion of Mary Meeting
DESCRIPTION:The legion exists to be a sign of Mary’s maternal love for the world and a means of enlisting all her children in the Church’s evangelizing work. It is at the disposal of the parish priest for any form of service deemed useful for the welfare of the Church.
URL:https://www.olmcfssp.org/calendar/legion-of-mary-meeting-232/
END:VEVENT
BEGIN:VEVENT
DTSTART;TZID=America/Denver:20250506T093000
DTEND;TZID=America/Denver:20250506T110000
DTSTAMP:20260422T162431
CREATED:20231027T173405Z
LAST-MODIFIED:20231027T173405Z
UID:7072-1746523800-1746529200@www.olmcfssp.org
SUMMARY:Tuesday Morning Book Club
DESCRIPTION:The Tuesday morning book club meets to read and discuss a selected book that assists with spiritual growth and knowledge of our wonderful Catholic faith. All members of the parish are welcome to drop by and check us out.
URL:https://www.olmcfssp.org/calendar/tuesday-morning-book-club-118/
END:VEVENT
BEGIN:VEVENT
DTSTART;TZID=America/Denver:20250506T170000
DTEND;TZID=America/Denver:20250506T180000
DTSTAMP:20260422T162431
CREATED:20231027T172507Z
LAST-MODIFIED:20250502T230830Z
UID:6365-1746550800-1746554400@www.olmcfssp.org
SUMMARY:Shepherds of Christ Prayer Group
DESCRIPTION:
URL:https://www.olmcfssp.org/calendar/shepherds-of-christ-prayer-group-118/
END:VEVENT
BEGIN:VEVENT
DTSTART;TZID=America/Denver:20250507T183000
DTEND;TZID=America/Denver:20250507T203000
DTSTAMP:20260422T162431
CREATED:20231027T174344Z
LAST-MODIFIED:20250503T002330Z
UID:7320-1746642600-1746649800@www.olmcfssp.org
SUMMARY:Safety Team Meeting
DESCRIPTION:The purpose of the OLMC Safety Team is to provide a safe and secure environment for all parishioners and visitors. Primarily\, this is accomplished by the observation of people\, places and events and your assessment of situations and then to follow through with appropriate action.
URL:https://www.olmcfssp.org/calendar/safety-team-meeting-27/
END:VEVENT
BEGIN:VEVENT
DTSTART;TZID=America/Denver:20250507T190000
DTEND;TZID=America/Denver:20250507T203000
DTSTAMP:20260422T162431
CREATED:20231027T173638Z
LAST-MODIFIED:20250503T012337Z
UID:7212-1746644400-1746649800@www.olmcfssp.org
SUMMARY:Choir Practice
DESCRIPTION:
URL:https://www.olmcfssp.org/calendar/choir-practice-116/
END:VEVENT
BEGIN:VEVENT
DTSTART;TZID=America/Denver:20250508T093000
DTEND;TZID=America/Denver:20250508T103000
DTSTAMP:20260422T162431
CREATED:20231027T173151Z
LAST-MODIFIED:20250502T000834Z
UID:6923-1746696600-1746700200@www.olmcfssp.org
SUMMARY:Legion of Mary Meeting
DESCRIPTION:The legion exists to be a sign of Mary’s maternal love for the world and a means of enlisting all her children in the Church’s evangelizing work. It is at the disposal of the parish priest for any form of service deemed useful for the welfare of the Church.
URL:https://www.olmcfssp.org/calendar/legion-of-mary-meeting-233/
END:VEVENT
BEGIN:VEVENT
DTSTART;TZID=America/Denver:20250510T083000
DTEND;TZID=America/Denver:20250510T160000
DTSTAMP:20260422T162431
CREATED:20240802T232337Z
LAST-MODIFIED:20250510T030831Z
UID:9957-1746865800-1746892800@www.olmcfssp.org
SUMMARY:FNE
DESCRIPTION:
URL:https://www.olmcfssp.org/calendar/fne-18/
END:VEVENT
BEGIN:VEVENT
DTSTART;TZID=America/Denver:20250510T093000
DTEND;TZID=America/Denver:20250510T113000
DTSTAMP:20260422T162431
CREATED:20231027T172917Z
LAST-MODIFIED:20250510T025338Z
UID:6571-1746869400-1746876600@www.olmcfssp.org
SUMMARY:Holy Name Society Meeting
DESCRIPTION:The Holy Name Society is an organization of men striving to grow in holiness. The group is open to all men of the parish over the age of 18. Meetings include Mass\, the recitation of the Holy Rosary\, breakfast and a spiritual talk.
URL:https://www.olmcfssp.org/calendar/holy-name-society-meeting-25/
END:VEVENT
BEGIN:VEVENT
DTSTART;TZID=America/Denver:20250510T093000
DTEND;TZID=America/Denver:20250510T130000
DTSTAMP:20260422T162431
CREATED:20231027T174344Z
LAST-MODIFIED:20250510T002334Z
UID:7321-1746869400-1746882000@www.olmcfssp.org
SUMMARY:St. Teresa of Jesus Association
DESCRIPTION:A formation in the spirituality of St. Teresa of Jesus within a Study Group composed of men and women over the age of 25 years. This formation includes daily Mass\, Lectio Divina\, Divine Office and the living a life of apostolic endeavors: ministering to our families and the world.  The members endeavor to give glory to God\, to honor our Blessed Lady of Carmel and to aid our Holy Mother the Church by their prayers.
URL:https://www.olmcfssp.org/calendar/st-teresa-of-jesus-association-26/
END:VEVENT
BEGIN:VEVENT
DTSTART;TZID=America/Denver:20250510T130000
DTEND;TZID=America/Denver:20250510T160000
DTSTAMP:20260422T162431
CREATED:20231027T173151Z
LAST-MODIFIED:20250509T000836Z
UID:6924-1746882000-1746892800@www.olmcfssp.org
SUMMARY:Hibernia Music Group
DESCRIPTION:An OLMC acoustic music group. We play traditional Irish\, Folk and Americana music. All are welcome to join us\, beginner or advanced\, Instrumentalist or Vocalist. Our goal is to sharpen our skills\, increase our musical knowledge\, have good Catholic fellowship\, and share our music.
URL:https://www.olmcfssp.org/calendar/hibernia-music-group-52/
END:VEVENT
BEGIN:VEVENT
DTSTART;TZID=America/Denver:20250511T123000
DTEND;TZID=America/Denver:20250511T140000
DTSTAMP:20260422T162431
CREATED:20231027T173151Z
LAST-MODIFIED:20250509T000836Z
UID:6925-1746966600-1746972000@www.olmcfssp.org
SUMMARY:Knights of Columbus Meeting
DESCRIPTION:As faithful Catholics\, we are called to be salt and light in this material world. As traditional Catholics within the Church Universal\, we are sometimes called\, in charity\, to bring more illumination and flavor to our fellow Catholics. Let us join with him in spreading the message within the Knights of Columbus.
URL:https://www.olmcfssp.org/calendar/knights-of-columbus-meeting-26/
END:VEVENT
BEGIN:VEVENT
DTSTART;TZID=America/Denver:20250511T170000
DTEND;TZID=America/Denver:20250511T180000
DTSTAMP:20260422T162431
CREATED:20231027T172507Z
LAST-MODIFIED:20250509T230831Z
UID:6366-1746982800-1746986400@www.olmcfssp.org
SUMMARY:Sung Vespers
DESCRIPTION:
URL:https://www.olmcfssp.org/calendar/sung-vespers-105/
END:VEVENT
BEGIN:VEVENT
DTSTART;TZID=America/Denver:20250512T180000
DTEND;TZID=America/Denver:20250512T190000
DTSTAMP:20260422T162431
CREATED:20231027T173152Z
LAST-MODIFIED:20250509T000836Z
UID:6926-1747072800-1747076400@www.olmcfssp.org
SUMMARY:Legion of Mary Meeting
DESCRIPTION:The legion exists to be a sign of Mary’s maternal love for the world and a means of enlisting all her children in the Church’s evangelizing work. It is at the disposal of the parish priest for any form of service deemed useful for the welfare of the Church.
URL:https://www.olmcfssp.org/calendar/legion-of-mary-meeting-234/
END:VEVENT
BEGIN:VEVENT
DTSTART;TZID=America/Denver:20250513T093000
DTEND;TZID=America/Denver:20250513T103000
DTSTAMP:20260422T162431
CREATED:20240110T185519Z
LAST-MODIFIED:20250509T230831Z
UID:8715-1747128600-1747132200@www.olmcfssp.org
SUMMARY:Holy Face Devotion Group
DESCRIPTION:His Holy Face Ministry’s mission is to bring the Face of God back into the world to breathe life into souls by making reparation for the sins committed against the majesty of God and the Catholic Church. Join us as a community in making public reparation before a 2nd class relic image of the Veil of St. Veronica on the second Tuesday or third Saturday of each month after the 8:30 AM mass. We also offer presentations on the Holy Face Devotion\, a Home Enthronement Program with the image\, and a Parish Enthronement Program to share with a wider audience.
URL:https://www.olmcfssp.org/calendar/holy-face-devotion-group-34/
END:VEVENT
BEGIN:VEVENT
DTSTART;TZID=America/Denver:20250513T093000
DTEND;TZID=America/Denver:20250513T110000
DTSTAMP:20260422T162431
CREATED:20231027T173406Z
LAST-MODIFIED:20231027T173406Z
UID:7073-1747128600-1747134000@www.olmcfssp.org
SUMMARY:Tuesday Morning Book Club
DESCRIPTION:The Tuesday morning book club meets to read and discuss a selected book that assists with spiritual growth and knowledge of our wonderful Catholic faith. All members of the parish are welcome to drop by and check us out.
URL:https://www.olmcfssp.org/calendar/tuesday-morning-book-club-119/
END:VEVENT
BEGIN:VEVENT
DTSTART;TZID=America/Denver:20250513T170000
DTEND;TZID=America/Denver:20250513T180000
DTSTAMP:20260422T162431
CREATED:20231027T172508Z
LAST-MODIFIED:20250509T230831Z
UID:6367-1747155600-1747159200@www.olmcfssp.org
SUMMARY:Shepherds of Christ Prayer Group
DESCRIPTION:
URL:https://www.olmcfssp.org/calendar/shepherds-of-christ-prayer-group-119/
END:VEVENT
BEGIN:VEVENT
DTSTART;TZID=America/Denver:20250514T190000
DTEND;TZID=America/Denver:20250514T203000
DTSTAMP:20260422T162431
CREATED:20231027T173638Z
LAST-MODIFIED:20250510T012335Z
UID:7213-1747249200-1747254600@www.olmcfssp.org
SUMMARY:Choir Practice
DESCRIPTION:
URL:https://www.olmcfssp.org/calendar/choir-practice-117/
END:VEVENT
BEGIN:VEVENT
DTSTART;TZID=America/Denver:20250515T093000
DTEND;TZID=America/Denver:20250515T103000
DTSTAMP:20260422T162431
CREATED:20231027T173152Z
LAST-MODIFIED:20250509T000836Z
UID:6927-1747301400-1747305000@www.olmcfssp.org
SUMMARY:Legion of Mary Meeting
DESCRIPTION:The legion exists to be a sign of Mary’s maternal love for the world and a means of enlisting all her children in the Church’s evangelizing work. It is at the disposal of the parish priest for any form of service deemed useful for the welfare of the Church.
URL:https://www.olmcfssp.org/calendar/legion-of-mary-meeting-235/
END:VEVENT
BEGIN:VEVENT
DTSTART;TZID=America/Denver:20250515T093000
DTEND;TZID=America/Denver:20250515T110000
DTSTAMP:20260422T162431
CREATED:20231027T174344Z
LAST-MODIFIED:20250510T002334Z
UID:7322-1747301400-1747306800@www.olmcfssp.org
SUMMARY:St. Therese Book Club
DESCRIPTION:Come and study the works of St. Therese as a group. All are welcome.
URL:https://www.olmcfssp.org/calendar/st-therese-book-club-27/
END:VEVENT
BEGIN:VEVENT
DTSTART;TZID=America/Denver:20250517T093000
DTEND;TZID=America/Denver:20250517T120000
DTSTAMP:20260422T162431
CREATED:20231110T192451Z
LAST-MODIFIED:20250517T025329Z
UID:8270-1747474200-1747483200@www.olmcfssp.org
SUMMARY:Altar and Rosary Society Meeting
DESCRIPTION:The Altar and Rosary Society is an organization of women who foster and spread devotion to the Holy Rosary\, maintain the cleanliness of the church sanctuary\, wash and iron altar linens\, and arrange flowers for the altar.
URL:https://www.olmcfssp.org/calendar/altar-and-rosary-society-meeting-20/
END:VEVENT
BEGIN:VEVENT
DTSTART;TZID=America/Denver:20250518T123000
DTEND;TZID=America/Denver:20250518T140000
DTSTAMP:20260422T162431
CREATED:20231027T173406Z
LAST-MODIFIED:20250517T005328Z
UID:7074-1747571400-1747576800@www.olmcfssp.org
SUMMARY:Creation Study Group
DESCRIPTION:This group is dedicated to studying the traditional Catholic teaching on creation and Genesis as believed and taught by the Doctors\, Fathers\, Councils and Popes for two thousand years. We explore various aspects of the creation/evolutionism debate and the effects of evolutionary thought on culture\, science and the Church. As Pope St Pius X said about Modernism\, that it is the “synthesis of all heresies.” And “the chief of their doctrines\, that of evolution.” \nAll are welcome to attend and contribute their experience and expertise.
URL:https://www.olmcfssp.org/calendar/creation-study-group-19/
END:VEVENT
BEGIN:VEVENT
DTSTART;TZID=America/Denver:20250518T140000
DTEND;TZID=America/Denver:20250518T170000
DTSTAMP:20260422T162431
CREATED:20231027T173152Z
LAST-MODIFIED:20250516T000831Z
UID:6928-1747576800-1747587600@www.olmcfssp.org
SUMMARY:Laeta Vita
DESCRIPTION:Leata Vita (Joyful Life) is a group for single women ages 18-35. The purpose of our group is to meet and grow in fellowship with other women who are in a similar season of life. We meet two times a month. The first meeting of the month consists of discussing a book as part of our book club and socializing with each other. The second meeting of the month consists of a fun outing or activity (and every now and then something charitable for the parish or some other organization)\, meant to give the members a chance to get out and have some fun.
URL:https://www.olmcfssp.org/calendar/laeta-vita-45/
END:VEVENT
BEGIN:VEVENT
DTSTART;TZID=America/Denver:20250518T170000
DTEND;TZID=America/Denver:20250518T180000
DTSTAMP:20260422T162431
CREATED:20231027T172508Z
LAST-MODIFIED:20250516T230828Z
UID:6368-1747587600-1747591200@www.olmcfssp.org
SUMMARY:Sung Vespers
DESCRIPTION:
URL:https://www.olmcfssp.org/calendar/sung-vespers-106/
END:VEVENT
BEGIN:VEVENT
DTSTART;TZID=America/Denver:20250519T180000
DTEND;TZID=America/Denver:20250519T190000
DTSTAMP:20260422T162431
CREATED:20231027T173152Z
LAST-MODIFIED:20250516T000831Z
UID:6929-1747677600-1747681200@www.olmcfssp.org
SUMMARY:Legion of Mary Meeting
DESCRIPTION:The legion exists to be a sign of Mary’s maternal love for the world and a means of enlisting all her children in the Church’s evangelizing work. It is at the disposal of the parish priest for any form of service deemed useful for the welfare of the Church.
URL:https://www.olmcfssp.org/calendar/legion-of-mary-meeting-236/
END:VEVENT
BEGIN:VEVENT
DTSTART;TZID=America/Denver:20250520T093000
DTEND;TZID=America/Denver:20250520T110000
DTSTAMP:20260422T162431
CREATED:20231027T173406Z
LAST-MODIFIED:20231027T173406Z
UID:7085-1747733400-1747738800@www.olmcfssp.org
SUMMARY:Tuesday Morning Book Club
DESCRIPTION:The Tuesday morning book club meets to read and discuss a selected book that assists with spiritual growth and knowledge of our wonderful Catholic faith. All members of the parish are welcome to drop by and check us out.
URL:https://www.olmcfssp.org/calendar/tuesday-morning-book-club-120/
END:VEVENT
BEGIN:VEVENT
DTSTART;TZID=America/Denver:20250520T170000
DTEND;TZID=America/Denver:20250520T180000
DTSTAMP:20260422T162431
CREATED:20231027T172508Z
LAST-MODIFIED:20250516T230828Z
UID:6369-1747760400-1747764000@www.olmcfssp.org
SUMMARY:Shepherds of Christ Prayer Group
DESCRIPTION:
URL:https://www.olmcfssp.org/calendar/shepherds-of-christ-prayer-group-120/
END:VEVENT
BEGIN:VEVENT
DTSTART;TZID=America/Denver:20250521T190000
DTEND;TZID=America/Denver:20250521T203000
DTSTAMP:20260422T162431
CREATED:20231027T173638Z
LAST-MODIFIED:20250517T012330Z
UID:7214-1747854000-1747859400@www.olmcfssp.org
SUMMARY:Choir Practice
DESCRIPTION:
URL:https://www.olmcfssp.org/calendar/choir-practice-118/
END:VEVENT
BEGIN:VEVENT
DTSTART;TZID=America/Denver:20250522T093000
DTEND;TZID=America/Denver:20250522T103000
DTSTAMP:20260422T162431
CREATED:20231027T173152Z
LAST-MODIFIED:20250516T000831Z
UID:6930-1747906200-1747909800@www.olmcfssp.org
SUMMARY:Legion of Mary Meeting
DESCRIPTION:The legion exists to be a sign of Mary’s maternal love for the world and a means of enlisting all her children in the Church’s evangelizing work. It is at the disposal of the parish priest for any form of service deemed useful for the welfare of the Church.
URL:https://www.olmcfssp.org/calendar/legion-of-mary-meeting-237/
END:VEVENT
END:VCALENDAR