BEGIN:VCALENDAR
VERSION:2.0
PRODID:-//Our Lady of Mt. Carmel - ECPv6.15.20//NONSGML v1.0//EN
CALSCALE:GREGORIAN
METHOD:PUBLISH
X-WR-CALNAME:Our Lady of Mt. Carmel
X-ORIGINAL-URL:https://www.olmcfssp.org
X-WR-CALDESC:Events for Our Lady of Mt. Carmel
REFRESH-INTERVAL;VALUE=DURATION:PT1H
X-Robots-Tag:noindex
X-PUBLISHED-TTL:PT1H
BEGIN:VTIMEZONE
TZID:America/Denver
BEGIN:DAYLIGHT
TZOFFSETFROM:-0700
TZOFFSETTO:-0600
TZNAME:MDT
DTSTART:20240310T090000
END:DAYLIGHT
BEGIN:STANDARD
TZOFFSETFROM:-0600
TZOFFSETTO:-0700
TZNAME:MST
DTSTART:20241103T080000
END:STANDARD
BEGIN:DAYLIGHT
TZOFFSETFROM:-0700
TZOFFSETTO:-0600
TZNAME:MDT
DTSTART:20250309T090000
END:DAYLIGHT
BEGIN:STANDARD
TZOFFSETFROM:-0600
TZOFFSETTO:-0700
TZNAME:MST
DTSTART:20251102T080000
END:STANDARD
BEGIN:DAYLIGHT
TZOFFSETFROM:-0700
TZOFFSETTO:-0600
TZNAME:MDT
DTSTART:20260308T090000
END:DAYLIGHT
BEGIN:STANDARD
TZOFFSETFROM:-0600
TZOFFSETTO:-0700
TZNAME:MST
DTSTART:20261101T080000
END:STANDARD
END:VTIMEZONE
BEGIN:VEVENT
DTSTART;TZID=America/Denver:20250806T190000
DTEND;TZID=America/Denver:20250806T203000
DTSTAMP:20260422T163703
CREATED:20231027T173641Z
LAST-MODIFIED:20250802T013827Z
UID:7225-1754506800-1754512200@www.olmcfssp.org
SUMMARY:Choir Practice
DESCRIPTION:
URL:https://www.olmcfssp.org/calendar/choir-practice-129/
END:VEVENT
BEGIN:VEVENT
DTSTART;TZID=America/Denver:20250806T183000
DTEND;TZID=America/Denver:20250806T203000
DTSTAMP:20260422T163703
CREATED:20231027T174345Z
LAST-MODIFIED:20250802T005332Z
UID:7329-1754505000-1754512200@www.olmcfssp.org
SUMMARY:Safety Team Meeting
DESCRIPTION:The purpose of the OLMC Safety Team is to provide a safe and secure environment for all parishioners and visitors. Primarily\, this is accomplished by the observation of people\, places and events and your assessment of situations and then to follow through with appropriate action.
URL:https://www.olmcfssp.org/calendar/safety-team-meeting-30/
END:VEVENT
BEGIN:VEVENT
DTSTART;TZID=America/Denver:20250805T170000
DTEND;TZID=America/Denver:20250805T180000
DTSTAMP:20260422T163703
CREATED:20231027T172514Z
LAST-MODIFIED:20250801T235330Z
UID:6400-1754413200-1754416800@www.olmcfssp.org
SUMMARY:Shepherds of Christ Prayer Group
DESCRIPTION:
URL:https://www.olmcfssp.org/calendar/shepherds-of-christ-prayer-group-131/
END:VEVENT
BEGIN:VEVENT
DTSTART;TZID=America/Denver:20250805T093000
DTEND;TZID=America/Denver:20250805T110000
DTSTAMP:20260422T163703
CREATED:20231027T173409Z
LAST-MODIFIED:20231027T173409Z
UID:7098-1754386200-1754391600@www.olmcfssp.org
SUMMARY:Tuesday Morning Book Club
DESCRIPTION:The Tuesday morning book club meets to read and discuss a selected book that assists with spiritual growth and knowledge of our wonderful Catholic faith. All members of the parish are welcome to drop by and check us out.
URL:https://www.olmcfssp.org/calendar/tuesday-morning-book-club-131/
END:VEVENT
BEGIN:VEVENT
DTSTART;TZID=America/Denver:20250804T180000
DTEND;TZID=America/Denver:20250804T190000
DTSTAMP:20260422T163703
CREATED:20231201T185410Z
LAST-MODIFIED:20250801T005326Z
UID:8558-1754330400-1754334000@www.olmcfssp.org
SUMMARY:Legion of Mary Meeting
DESCRIPTION:The legion exists to be a sign of Mary’s maternal love for the world and a means of enlisting all her children in the Church’s evangelizing work. It is at the disposal of the parish priest for any form of service deemed useful for the welfare of the Church.
URL:https://www.olmcfssp.org/calendar/legion-of-mary-meeting-258/
END:VEVENT
BEGIN:VEVENT
DTSTART;TZID=America/Denver:20250803T170000
DTEND;TZID=America/Denver:20250803T180000
DTSTAMP:20260422T163703
CREATED:20231027T172513Z
LAST-MODIFIED:20250801T235330Z
UID:6399-1754240400-1754244000@www.olmcfssp.org
SUMMARY:Sung Vespers
DESCRIPTION:
URL:https://www.olmcfssp.org/calendar/sung-vespers-117/
END:VEVENT
BEGIN:VEVENT
DTSTART;TZID=America/Denver:20250803T140000
DTEND;TZID=America/Denver:20250803T170000
DTSTAMP:20260422T163703
CREATED:20231124T185438Z
LAST-MODIFIED:20250801T005326Z
UID:8508-1754229600-1754240400@www.olmcfssp.org
SUMMARY:Laeta Vita
DESCRIPTION:Leata Vita (Joyful Life) is a group for single women ages 18-35. The purpose of our group is to meet and grow in fellowship with other women who are in a similar season of life. We meet two times a month. The first meeting of the month consists of discussing a book as part of our book club and socializing with each other. The second meeting of the month consists of a fun outing or activity (and every now and then something charitable for the parish or some other organization)\, meant to give the members a chance to get out and have some fun.
URL:https://www.olmcfssp.org/calendar/laeta-vita-50/
END:VEVENT
BEGIN:VEVENT
DTSTART;TZID=America/Denver:20250802T093000
DTEND;TZID=America/Denver:20250802T113000
DTSTAMP:20260422T163703
CREATED:20240110T230811Z
LAST-MODIFIED:20250802T033826Z
UID:8760-1754127000-1754134200@www.olmcfssp.org
SUMMARY:Confraternity of Christian Mothers
DESCRIPTION:All women aged 16 and up of all walks of life are invited to attend. Some of us are called to physical motherhood\, but we are all called to spiritual motherhood. 
URL:https://www.olmcfssp.org/calendar/confraternity-of-christian-mothers-74/
END:VEVENT
BEGIN:VEVENT
DTSTART;TZID=America/Denver:20250801T194500
DTEND;TZID=America/Denver:20250801T213000
DTSTAMP:20260422T163703
CREATED:20241214T003837Z
LAST-MODIFIED:20250802T012334Z
UID:11050-1754077500-1754083800@www.olmcfssp.org
SUMMARY:St. Gerard Majella Child Loss Support Group
DESCRIPTION:Are you feeling alone in your grief? Come find consolation with fellow moms. Whether you knew your child only moments or a lifetime\, a loss is a loss\, and you are most welcome. Join us after the 7pm Mass until 9:30pm. Refreshments provided. Any questions please call or text Angie Flees 720-936-5315.
URL:https://www.olmcfssp.org/calendar/st-gerard-majella-child-loss-support-group-8/
END:VEVENT
BEGIN:VEVENT
DTSTART;TZID=America/Denver:20250731T093000
DTEND;TZID=America/Denver:20250731T103000
DTSTAMP:20260422T163703
CREATED:20231124T185438Z
LAST-MODIFIED:20250725T003833Z
UID:8507-1753954200-1753957800@www.olmcfssp.org
SUMMARY:Legion of Mary Meeting
DESCRIPTION:The legion exists to be a sign of Mary’s maternal love for the world and a means of enlisting all her children in the Church’s evangelizing work. It is at the disposal of the parish priest for any form of service deemed useful for the welfare of the Church.
URL:https://www.olmcfssp.org/calendar/legion-of-mary-meeting-257/
END:VEVENT
BEGIN:VEVENT
DTSTART;TZID=America/Denver:20250730T190000
DTEND;TZID=America/Denver:20250730T203000
DTSTAMP:20260422T163703
CREATED:20231027T173641Z
LAST-MODIFIED:20250726T013829Z
UID:7224-1753902000-1753907400@www.olmcfssp.org
SUMMARY:Choir Practice
DESCRIPTION:
URL:https://www.olmcfssp.org/calendar/choir-practice-128/
END:VEVENT
BEGIN:VEVENT
DTSTART;TZID=America/Denver:20250729T170000
DTEND;TZID=America/Denver:20250729T180000
DTSTAMP:20260422T163703
CREATED:20231027T172513Z
LAST-MODIFIED:20250725T233831Z
UID:6398-1753808400-1753812000@www.olmcfssp.org
SUMMARY:Shepherds of Christ Prayer Group
DESCRIPTION:
URL:https://www.olmcfssp.org/calendar/shepherds-of-christ-prayer-group-130/
END:VEVENT
BEGIN:VEVENT
DTSTART;TZID=America/Denver:20250729T093000
DTEND;TZID=America/Denver:20250729T110000
DTSTAMP:20260422T163703
CREATED:20231027T173409Z
LAST-MODIFIED:20231027T173409Z
UID:7097-1753781400-1753786800@www.olmcfssp.org
SUMMARY:Tuesday Morning Book Club
DESCRIPTION:The Tuesday morning book club meets to read and discuss a selected book that assists with spiritual growth and knowledge of our wonderful Catholic faith. All members of the parish are welcome to drop by and check us out.
URL:https://www.olmcfssp.org/calendar/tuesday-morning-book-club-130/
END:VEVENT
BEGIN:VEVENT
DTSTART;TZID=America/Denver:20250728T180000
DTEND;TZID=America/Denver:20250728T190000
DTSTAMP:20260422T163703
CREATED:20231124T185438Z
LAST-MODIFIED:20250725T003833Z
UID:8506-1753725600-1753729200@www.olmcfssp.org
SUMMARY:Legion of Mary Meeting
DESCRIPTION:The legion exists to be a sign of Mary’s maternal love for the world and a means of enlisting all her children in the Church’s evangelizing work. It is at the disposal of the parish priest for any form of service deemed useful for the welfare of the Church.
URL:https://www.olmcfssp.org/calendar/legion-of-mary-meeting-256/
END:VEVENT
BEGIN:VEVENT
DTSTART;TZID=America/Denver:20250727T170000
DTEND;TZID=America/Denver:20250727T180000
DTSTAMP:20260422T163703
CREATED:20231027T172513Z
LAST-MODIFIED:20250725T233831Z
UID:6397-1753635600-1753639200@www.olmcfssp.org
SUMMARY:Sung Vespers
DESCRIPTION:
URL:https://www.olmcfssp.org/calendar/sung-vespers-116/
END:VEVENT
BEGIN:VEVENT
DTSTART;TZID=America/Denver:20250727T123000
DTEND;TZID=America/Denver:20250727T141500
DTSTAMP:20260422T163703
CREATED:20240712T220704Z
LAST-MODIFIED:20250725T003833Z
UID:9312-1753619400-1753625700@www.olmcfssp.org
SUMMARY:Carmel Rookies Chess Club
DESCRIPTION:Carmel Rookies Chess Club for players under 18. Players/parents must RSVP to Mr. Mudd at rdm3rdm3@gmail.com to reserve their spot as space is limited.
URL:https://www.olmcfssp.org/calendar/carmel-rookies-chess-club-64/
END:VEVENT
BEGIN:VEVENT
DTSTART;TZID=America/Denver:20250727T123000
DTEND;TZID=America/Denver:20250727T141500
DTSTAMP:20260422T163703
CREATED:20231117T185329Z
LAST-MODIFIED:20231215T185341Z
UID:8468-1753619400-1753625700@www.olmcfssp.org
SUMMARY:Carmel Rookies Chess Club
DESCRIPTION:Players must RSVP to Mr. Mudd at rdm3rdm3@gmail.com to reserve their spot as space is limited.
URL:https://www.olmcfssp.org/calendar/carmel-rookies-chess-club-53/
END:VEVENT
BEGIN:VEVENT
DTSTART;TZID=America/Denver:20250726T101500
DTEND;TZID=America/Denver:20250726T110000
DTSTAMP:20260422T163703
CREATED:20240712T215501Z
LAST-MODIFIED:20250726T035333Z
UID:9219-1753524900-1753527600@www.olmcfssp.org
SUMMARY:Planned Parenthood Prayer Vigil
DESCRIPTION:Please join us for our monthly parish prayer vigil at Planned Parenthood starting at 10:15 am. The facility is located at 7155 E 38th Ave. in Denver.
URL:https://www.olmcfssp.org/calendar/planned-parenthood-prayer-vigil-44/
END:VEVENT
BEGIN:VEVENT
DTSTART;TZID=America/Denver:20250724T093000
DTEND;TZID=America/Denver:20250724T103000
DTSTAMP:20260422T163703
CREATED:20231117T185329Z
LAST-MODIFIED:20250718T003829Z
UID:8467-1753349400-1753353000@www.olmcfssp.org
SUMMARY:Legion of Mary Meeting
DESCRIPTION:The legion exists to be a sign of Mary’s maternal love for the world and a means of enlisting all her children in the Church’s evangelizing work. It is at the disposal of the parish priest for any form of service deemed useful for the welfare of the Church.
URL:https://www.olmcfssp.org/calendar/legion-of-mary-meeting-255/
END:VEVENT
BEGIN:VEVENT
DTSTART;TZID=America/Denver:20250723T190000
DTEND;TZID=America/Denver:20250723T203000
DTSTAMP:20260422T163703
CREATED:20231027T173640Z
LAST-MODIFIED:20250719T013828Z
UID:7223-1753297200-1753302600@www.olmcfssp.org
SUMMARY:Choir Practice
DESCRIPTION:
URL:https://www.olmcfssp.org/calendar/choir-practice-127/
END:VEVENT
BEGIN:VEVENT
DTSTART;TZID=America/Denver:20250723T180000
DTEND;TZID=America/Denver:20250723T210000
DTSTAMP:20260422T163703
CREATED:20231117T185329Z
LAST-MODIFIED:20250718T003829Z
UID:8466-1753293600-1753304400@www.olmcfssp.org
SUMMARY:Hibernia Music Group
DESCRIPTION:An OLMC acoustic music group. We play traditional Irish\, Folk and Americana music. All are welcome to join us\, beginner or advanced\, Instrumentalist or Vocalist. Our goal is to sharpen our skills\, increase our musical knowledge\, have good Catholic fellowship\, and share our music.
URL:https://www.olmcfssp.org/calendar/hibernia-music-group-57/
END:VEVENT
BEGIN:VEVENT
DTSTART;TZID=America/Denver:20250722T170000
DTEND;TZID=America/Denver:20250722T180000
DTSTAMP:20260422T163703
CREATED:20231027T172513Z
LAST-MODIFIED:20250718T233832Z
UID:6396-1753203600-1753207200@www.olmcfssp.org
SUMMARY:Shepherds of Christ Prayer Group
DESCRIPTION:
URL:https://www.olmcfssp.org/calendar/shepherds-of-christ-prayer-group-129/
END:VEVENT
BEGIN:VEVENT
DTSTART;TZID=America/Denver:20250722T093000
DTEND;TZID=America/Denver:20250722T110000
DTSTAMP:20260422T163703
CREATED:20231027T173408Z
LAST-MODIFIED:20231027T173408Z
UID:7096-1753176600-1753182000@www.olmcfssp.org
SUMMARY:Tuesday Morning Book Club
DESCRIPTION:The Tuesday morning book club meets to read and discuss a selected book that assists with spiritual growth and knowledge of our wonderful Catholic faith. All members of the parish are welcome to drop by and check us out.
URL:https://www.olmcfssp.org/calendar/tuesday-morning-book-club-129/
END:VEVENT
BEGIN:VEVENT
DTSTART;TZID=America/Denver:20250721T180000
DTEND;TZID=America/Denver:20250721T190000
DTSTAMP:20260422T163703
CREATED:20231117T185329Z
LAST-MODIFIED:20250718T003829Z
UID:8465-1753120800-1753124400@www.olmcfssp.org
SUMMARY:Legion of Mary Meeting
DESCRIPTION:The legion exists to be a sign of Mary’s maternal love for the world and a means of enlisting all her children in the Church’s evangelizing work. It is at the disposal of the parish priest for any form of service deemed useful for the welfare of the Church.
URL:https://www.olmcfssp.org/calendar/legion-of-mary-meeting-254/
END:VEVENT
BEGIN:VEVENT
DTSTART;TZID=America/Denver:20250720T170000
DTEND;TZID=America/Denver:20250720T180000
DTSTAMP:20260422T163703
CREATED:20231027T172512Z
LAST-MODIFIED:20250718T233832Z
UID:6395-1753030800-1753034400@www.olmcfssp.org
SUMMARY:Sung Vespers
DESCRIPTION:
URL:https://www.olmcfssp.org/calendar/sung-vespers-115/
END:VEVENT
BEGIN:VEVENT
DTSTART;TZID=America/Denver:20250720T140000
DTEND;TZID=America/Denver:20250720T170000
DTSTAMP:20260422T163703
CREATED:20231110T183834Z
LAST-MODIFIED:20250718T003829Z
UID:8226-1753020000-1753030800@www.olmcfssp.org
SUMMARY:Laeta Vita
DESCRIPTION:Leata Vita (Joyful Life) is a group for single women ages 18-35. The purpose of our group is to meet and grow in fellowship with other women who are in a similar season of life. We meet two times a month. The first meeting of the month consists of discussing a book as part of our book club and socializing with each other. The second meeting of the month consists of a fun outing or activity (and every now and then something charitable for the parish or some other organization)\, meant to give the members a chance to get out and have some fun.
URL:https://www.olmcfssp.org/calendar/laeta-vita-49/
END:VEVENT
BEGIN:VEVENT
DTSTART;TZID=America/Denver:20250720T123000
DTEND;TZID=America/Denver:20250720T140000
DTSTAMP:20260422T163703
CREATED:20231027T173408Z
LAST-MODIFIED:20250719T012331Z
UID:7095-1753014600-1753020000@www.olmcfssp.org
SUMMARY:Creation Study Group
DESCRIPTION:This group is dedicated to studying the traditional Catholic teaching on creation and Genesis as believed and taught by the Doctors\, Fathers\, Councils and Popes for two thousand years. We explore various aspects of the creation/evolutionism debate and the effects of evolutionary thought on culture\, science and the Church. As Pope St Pius X said about Modernism\, that it is the “synthesis of all heresies.” And “the chief of their doctrines\, that of evolution.” \nAll are welcome to attend and contribute their experience and expertise.
URL:https://www.olmcfssp.org/calendar/creation-study-group-21/
END:VEVENT
BEGIN:VEVENT
DTSTART;TZID=America/Denver:20250719T093000
DTEND;TZID=America/Denver:20250719T120000
DTSTAMP:20260422T163703
CREATED:20231110T192503Z
LAST-MODIFIED:20250719T033830Z
UID:8274-1752917400-1752926400@www.olmcfssp.org
SUMMARY:Altar and Rosary Society Meeting
DESCRIPTION:The Altar and Rosary Society is an organization of women who foster and spread devotion to the Holy Rosary\, maintain the cleanliness of the church sanctuary\, wash and iron altar linens\, and arrange flowers for the altar.
URL:https://www.olmcfssp.org/calendar/altar-and-rosary-society-meeting-22/
END:VEVENT
BEGIN:VEVENT
DTSTART;TZID=America/Denver:20250717T093000
DTEND;TZID=America/Denver:20250717T110000
DTSTAMP:20260422T163703
CREATED:20231027T174345Z
LAST-MODIFIED:20250712T005335Z
UID:7328-1752744600-1752750000@www.olmcfssp.org
SUMMARY:St. Therese Book Club
DESCRIPTION:Come and study the works of St. Therese as a group. All are welcome.
URL:https://www.olmcfssp.org/calendar/st-therese-book-club-29/
END:VEVENT
BEGIN:VEVENT
DTSTART;TZID=America/Denver:20250717T093000
DTEND;TZID=America/Denver:20250717T103000
DTSTAMP:20260422T163703
CREATED:20231110T183833Z
LAST-MODIFIED:20250711T002329Z
UID:8225-1752744600-1752748200@www.olmcfssp.org
SUMMARY:Legion of Mary Meeting
DESCRIPTION:The legion exists to be a sign of Mary’s maternal love for the world and a means of enlisting all her children in the Church’s evangelizing work. It is at the disposal of the parish priest for any form of service deemed useful for the welfare of the Church.
URL:https://www.olmcfssp.org/calendar/legion-of-mary-meeting-253/
END:VEVENT
END:VCALENDAR