BEGIN:VCALENDAR
VERSION:2.0
PRODID:-//Our Lady of Mt. Carmel - ECPv6.15.20//NONSGML v1.0//EN
CALSCALE:GREGORIAN
METHOD:PUBLISH
X-WR-CALNAME:Our Lady of Mt. Carmel
X-ORIGINAL-URL:https://www.olmcfssp.org
X-WR-CALDESC:Events for Our Lady of Mt. Carmel
REFRESH-INTERVAL;VALUE=DURATION:PT1H
X-Robots-Tag:noindex
X-PUBLISHED-TTL:PT1H
BEGIN:VTIMEZONE
TZID:America/Denver
BEGIN:DAYLIGHT
TZOFFSETFROM:-0700
TZOFFSETTO:-0600
TZNAME:MDT
DTSTART:20260308T090000
END:DAYLIGHT
BEGIN:STANDARD
TZOFFSETFROM:-0600
TZOFFSETTO:-0700
TZNAME:MST
DTSTART:20261101T080000
END:STANDARD
BEGIN:DAYLIGHT
TZOFFSETFROM:-0700
TZOFFSETTO:-0600
TZNAME:MDT
DTSTART:20270314T090000
END:DAYLIGHT
BEGIN:STANDARD
TZOFFSETFROM:-0600
TZOFFSETTO:-0700
TZNAME:MST
DTSTART:20271107T080000
END:STANDARD
BEGIN:DAYLIGHT
TZOFFSETFROM:-0700
TZOFFSETTO:-0600
TZNAME:MDT
DTSTART:20280312T090000
END:DAYLIGHT
BEGIN:STANDARD
TZOFFSETFROM:-0600
TZOFFSETTO:-0700
TZNAME:MST
DTSTART:20281105T080000
END:STANDARD
END:VTIMEZONE
BEGIN:VEVENT
DTSTART;TZID=America/Denver:20270511T093000
DTEND;TZID=America/Denver:20270511T103000
DTSTAMP:20260422T165726
CREATED:20250516T230834Z
LAST-MODIFIED:20260418T022333Z
UID:12235-1810027800-1810031400@www.olmcfssp.org
SUMMARY:Holy Face Devotion Group
DESCRIPTION:His Holy Face Ministry’s mission is to bring the Face of God back into the world to breathe life into souls by making reparation for the sins committed against the majesty of God and the Catholic Church. Join us as a community in making public reparation before a 2nd class relic image of the Veil of St. Veronica on the second Tuesday or third Saturday of each month after the 8:30 AM mass. We also offer presentations on the Holy Face Devotion\, a Home Enthronement Program with the image\, and a Parish Enthronement Program to share with a wider audience.
URL:https://www.olmcfssp.org/calendar/holy-face-devotion-group-58/
END:VEVENT
BEGIN:VEVENT
DTSTART;TZID=America/Denver:20270511T093000
DTEND;TZID=America/Denver:20270511T110000
DTSTAMP:20260422T165726
CREATED:20250517T005331Z
LAST-MODIFIED:20260418T053835Z
UID:12244-1810027800-1810033200@www.olmcfssp.org
SUMMARY:Tuesday Morning Book Club
DESCRIPTION:The Tuesday morning book club meets to read and discuss a selected book that assists with spiritual growth and knowledge of our wonderful Catholic faith. All members of the parish are welcome to drop by and check us out.
URL:https://www.olmcfssp.org/calendar/tuesday-morning-book-club-222/
END:VEVENT
BEGIN:VEVENT
DTSTART;TZID=America/Denver:20270511T170000
DTEND;TZID=America/Denver:20270511T180000
DTSTAMP:20260422T165726
CREATED:20250516T230834Z
LAST-MODIFIED:20260418T022333Z
UID:12236-1810054800-1810058400@www.olmcfssp.org
SUMMARY:Shepherds of Christ Prayer Group
DESCRIPTION:
URL:https://www.olmcfssp.org/calendar/shepherds-of-christ-prayer-group-223/
END:VEVENT
BEGIN:VEVENT
DTSTART;TZID=America/Denver:20270512T190000
DTEND;TZID=America/Denver:20270512T203000
DTSTAMP:20260422T165726
CREATED:20250517T012332Z
LAST-MODIFIED:20260418T032329Z
UID:12249-1810148400-1810153800@www.olmcfssp.org
SUMMARY:Choir Practice
DESCRIPTION:
URL:https://www.olmcfssp.org/calendar/choir-practice-221/
END:VEVENT
BEGIN:VEVENT
DTSTART;TZID=America/Denver:20270513T093000
DTEND;TZID=America/Denver:20270513T103000
DTSTAMP:20260422T165726
CREATED:20250905T012336Z
LAST-MODIFIED:20260417T023832Z
UID:12938-1810200600-1810204200@www.olmcfssp.org
SUMMARY:Legion of Mary Meeting
DESCRIPTION:The legion exists to be a sign of Mary’s maternal love for the world and a means of enlisting all her children in the Church’s evangelizing work. It is at the disposal of the parish priest for any form of service deemed useful for the welfare of the Church.
URL:https://www.olmcfssp.org/calendar/legion-of-mary-meeting-443/
END:VEVENT
BEGIN:VEVENT
DTSTART;TZID=America/Denver:20270515T093000
DTEND;TZID=America/Denver:20270515T120000
DTSTAMP:20260422T165726
CREATED:20250517T025331Z
LAST-MODIFIED:20260418T055331Z
UID:12253-1810373400-1810382400@www.olmcfssp.org
SUMMARY:Altar and Rosary Society Meeting
DESCRIPTION:The Altar and Rosary Society is an organization of women who foster and spread devotion to the Holy Rosary\, maintain the cleanliness of the church sanctuary\, wash and iron altar linens\, and arrange flowers for the altar.
URL:https://www.olmcfssp.org/calendar/altar-and-rosary-society-meeting-44/
END:VEVENT
BEGIN:VEVENT
DTSTART;TZID=America/Denver:20270516T123000
DTEND;TZID=America/Denver:20270516T140000
DTSTAMP:20260422T165726
CREATED:20250517T005331Z
LAST-MODIFIED:20260418T053835Z
UID:12245-1810470600-1810476000@www.olmcfssp.org
SUMMARY:Creation Study Group
DESCRIPTION:This group is dedicated to studying the traditional Catholic teaching on creation and Genesis as believed and taught by the Doctors\, Fathers\, Councils and Popes for two thousand years. We explore various aspects of the creation/evolutionism debate and the effects of evolutionary thought on culture\, science and the Church. As Pope St Pius X said about Modernism\, that it is the “synthesis of all heresies.” And “the chief of their doctrines\, that of evolution.” \nAll are welcome to attend and contribute their experience and expertise.
URL:https://www.olmcfssp.org/calendar/creation-study-group-43/
END:VEVENT
BEGIN:VEVENT
DTSTART;TZID=America/Denver:20270516T170000
DTEND;TZID=America/Denver:20270516T180000
DTSTAMP:20260422T165726
CREATED:20250516T230834Z
LAST-MODIFIED:20260418T022333Z
UID:12237-1810486800-1810490400@www.olmcfssp.org
SUMMARY:Sung Vespers
DESCRIPTION:
URL:https://www.olmcfssp.org/calendar/sung-vespers-210/
END:VEVENT
BEGIN:VEVENT
DTSTART;TZID=America/Denver:20270517T180000
DTEND;TZID=America/Denver:20270517T190000
DTSTAMP:20260422T165726
CREATED:20250912T012340Z
LAST-MODIFIED:20260417T023832Z
UID:13050-1810576800-1810580400@www.olmcfssp.org
SUMMARY:Legion of Mary Meeting
DESCRIPTION:The legion exists to be a sign of Mary’s maternal love for the world and a means of enlisting all her children in the Church’s evangelizing work. It is at the disposal of the parish priest for any form of service deemed useful for the welfare of the Church.
URL:https://www.olmcfssp.org/calendar/legion-of-mary-meeting-444/
END:VEVENT
BEGIN:VEVENT
DTSTART;TZID=America/Denver:20270518T093000
DTEND;TZID=America/Denver:20270518T110000
DTSTAMP:20260422T165726
CREATED:20250524T005352Z
LAST-MODIFIED:20260418T053835Z
UID:12279-1810632600-1810638000@www.olmcfssp.org
SUMMARY:Tuesday Morning Book Club
DESCRIPTION:The Tuesday morning book club meets to read and discuss a selected book that assists with spiritual growth and knowledge of our wonderful Catholic faith. All members of the parish are welcome to drop by and check us out.
URL:https://www.olmcfssp.org/calendar/tuesday-morning-book-club-223/
END:VEVENT
BEGIN:VEVENT
DTSTART;TZID=America/Denver:20270518T170000
DTEND;TZID=America/Denver:20270518T180000
DTSTAMP:20260422T165726
CREATED:20250523T230833Z
LAST-MODIFIED:20260418T022333Z
UID:12272-1810659600-1810663200@www.olmcfssp.org
SUMMARY:Shepherds of Christ Prayer Group
DESCRIPTION:
URL:https://www.olmcfssp.org/calendar/shepherds-of-christ-prayer-group-224/
END:VEVENT
BEGIN:VEVENT
DTSTART;TZID=America/Denver:20270519T190000
DTEND;TZID=America/Denver:20270519T203000
DTSTAMP:20260422T165726
CREATED:20250524T013836Z
LAST-MODIFIED:20260418T032329Z
UID:12283-1810753200-1810758600@www.olmcfssp.org
SUMMARY:Choir Practice
DESCRIPTION:
URL:https://www.olmcfssp.org/calendar/choir-practice-222/
END:VEVENT
BEGIN:VEVENT
DTSTART;TZID=America/Denver:20270520T093000
DTEND;TZID=America/Denver:20270520T103000
DTSTAMP:20260422T165726
CREATED:20250912T012340Z
LAST-MODIFIED:20260417T023832Z
UID:13051-1810805400-1810809000@www.olmcfssp.org
SUMMARY:Legion of Mary Meeting
DESCRIPTION:The legion exists to be a sign of Mary’s maternal love for the world and a means of enlisting all her children in the Church’s evangelizing work. It is at the disposal of the parish priest for any form of service deemed useful for the welfare of the Church.
URL:https://www.olmcfssp.org/calendar/legion-of-mary-meeting-445/
END:VEVENT
BEGIN:VEVENT
DTSTART;TZID=America/Denver:20270520T093000
DTEND;TZID=America/Denver:20270520T110000
DTSTAMP:20260422T165726
CREATED:20250524T002328Z
LAST-MODIFIED:20260418T025330Z
UID:12275-1810805400-1810810800@www.olmcfssp.org
SUMMARY:St. Therese Book Club
DESCRIPTION:Come and study the works of St. Therese as a group. All are welcome.
URL:https://www.olmcfssp.org/calendar/st-therese-book-club-51/
END:VEVENT
BEGIN:VEVENT
DTSTART;TZID=America/Denver:20270522T101500
DTEND;TZID=America/Denver:20270522T110000
DTSTAMP:20260422T165726
CREATED:20250524T030839Z
LAST-MODIFIED:20260418T060827Z
UID:12288-1810980900-1810983600@www.olmcfssp.org
SUMMARY:Planned Parenthood Prayer Vigil
DESCRIPTION:Please join us for our monthly parish prayer vigil at Planned Parenthood starting at 10:15 am. The facility is located at 7155 E 38th Ave. in Denver.
URL:https://www.olmcfssp.org/calendar/planned-parenthood-prayer-vigil-66/
END:VEVENT
BEGIN:VEVENT
DTSTART;TZID=America/Denver:20270523T123000
DTEND;TZID=America/Denver:20270523T141500
DTSTAMP:20260422T165726
CREATED:20250912T012340Z
LAST-MODIFIED:20260417T023832Z
UID:13052-1811075400-1811081700@www.olmcfssp.org
SUMMARY:Carmel Rookies Chess Club
DESCRIPTION:Carmel Rookies Chess Club for players under 18. Players/parents must RSVP to Mr. Mudd at rdm3rdm3@gmail.com to reserve their spot as space is limited.
URL:https://www.olmcfssp.org/calendar/carmel-rookies-chess-club-86/
END:VEVENT
BEGIN:VEVENT
DTSTART;TZID=America/Denver:20270523T170000
DTEND;TZID=America/Denver:20270523T180000
DTSTAMP:20260422T165726
CREATED:20250523T230833Z
LAST-MODIFIED:20260418T022333Z
UID:12273-1811091600-1811095200@www.olmcfssp.org
SUMMARY:Sung Vespers
DESCRIPTION:
URL:https://www.olmcfssp.org/calendar/sung-vespers-211/
END:VEVENT
BEGIN:VEVENT
DTSTART;TZID=America/Denver:20270524T180000
DTEND;TZID=America/Denver:20270524T190000
DTSTAMP:20260422T165726
CREATED:20250919T013840Z
LAST-MODIFIED:20260417T023832Z
UID:13084-1811181600-1811185200@www.olmcfssp.org
SUMMARY:Legion of Mary Meeting
DESCRIPTION:The legion exists to be a sign of Mary’s maternal love for the world and a means of enlisting all her children in the Church’s evangelizing work. It is at the disposal of the parish priest for any form of service deemed useful for the welfare of the Church.
URL:https://www.olmcfssp.org/calendar/legion-of-mary-meeting-446/
END:VEVENT
BEGIN:VEVENT
DTSTART;TZID=America/Denver:20270525T093000
DTEND;TZID=America/Denver:20270525T110000
DTSTAMP:20260422T165726
CREATED:20250531T005332Z
LAST-MODIFIED:20260418T053835Z
UID:12311-1811237400-1811242800@www.olmcfssp.org
SUMMARY:Tuesday Morning Book Club
DESCRIPTION:The Tuesday morning book club meets to read and discuss a selected book that assists with spiritual growth and knowledge of our wonderful Catholic faith. All members of the parish are welcome to drop by and check us out.
URL:https://www.olmcfssp.org/calendar/tuesday-morning-book-club-224/
END:VEVENT
BEGIN:VEVENT
DTSTART;TZID=America/Denver:20270525T170000
DTEND;TZID=America/Denver:20270525T180000
DTSTAMP:20260422T165726
CREATED:20250530T230833Z
LAST-MODIFIED:20260418T022333Z
UID:12305-1811264400-1811268000@www.olmcfssp.org
SUMMARY:Shepherds of Christ Prayer Group
DESCRIPTION:
URL:https://www.olmcfssp.org/calendar/shepherds-of-christ-prayer-group-225/
END:VEVENT
BEGIN:VEVENT
DTSTART;TZID=America/Denver:20270526T180000
DTEND;TZID=America/Denver:20270526T210000
DTSTAMP:20260422T165726
CREATED:20250919T013840Z
LAST-MODIFIED:20260417T023832Z
UID:13085-1811354400-1811365200@www.olmcfssp.org
SUMMARY:Hibernia Music Group
DESCRIPTION:An OLMC acoustic music group. We play traditional Irish\, Folk and Americana music. All are welcome to join us\, beginner or advanced\, Instrumentalist or Vocalist. Our goal is to sharpen our skills\, increase our musical knowledge\, have good Catholic fellowship\, and share our music.
URL:https://www.olmcfssp.org/calendar/hibernia-music-group-101/
END:VEVENT
BEGIN:VEVENT
DTSTART;TZID=America/Denver:20270526T190000
DTEND;TZID=America/Denver:20270526T203000
DTSTAMP:20260422T165726
CREATED:20250531T013834Z
LAST-MODIFIED:20260418T032329Z
UID:12315-1811358000-1811363400@www.olmcfssp.org
SUMMARY:Choir Practice
DESCRIPTION:
URL:https://www.olmcfssp.org/calendar/choir-practice-223/
END:VEVENT
BEGIN:VEVENT
DTSTART;TZID=America/Denver:20270527T093000
DTEND;TZID=America/Denver:20270527T103000
DTSTAMP:20260422T165726
CREATED:20250919T013840Z
LAST-MODIFIED:20260417T023832Z
UID:13086-1811410200-1811413800@www.olmcfssp.org
SUMMARY:Legion of Mary Meeting
DESCRIPTION:The legion exists to be a sign of Mary’s maternal love for the world and a means of enlisting all her children in the Church’s evangelizing work. It is at the disposal of the parish priest for any form of service deemed useful for the welfare of the Church.
URL:https://www.olmcfssp.org/calendar/legion-of-mary-meeting-447/
END:VEVENT
BEGIN:VEVENT
DTSTART;TZID=America/Denver:20270530T170000
DTEND;TZID=America/Denver:20270530T180000
DTSTAMP:20260422T165726
CREATED:20250530T230833Z
LAST-MODIFIED:20260418T022333Z
UID:12306-1811696400-1811700000@www.olmcfssp.org
SUMMARY:Sung Vespers
DESCRIPTION:
URL:https://www.olmcfssp.org/calendar/sung-vespers-212/
END:VEVENT
BEGIN:VEVENT
DTSTART;TZID=America/Denver:20270531T180000
DTEND;TZID=America/Denver:20270531T190000
DTSTAMP:20260422T165726
CREATED:20250919T013841Z
LAST-MODIFIED:20260417T023832Z
UID:13087-1811786400-1811790000@www.olmcfssp.org
SUMMARY:Legion of Mary Meeting
DESCRIPTION:The legion exists to be a sign of Mary’s maternal love for the world and a means of enlisting all her children in the Church’s evangelizing work. It is at the disposal of the parish priest for any form of service deemed useful for the welfare of the Church.
URL:https://www.olmcfssp.org/calendar/legion-of-mary-meeting-448/
END:VEVENT
BEGIN:VEVENT
DTSTART;TZID=America/Denver:20270601T093000
DTEND;TZID=America/Denver:20270601T110000
DTSTAMP:20260422T165726
CREATED:20250607T010840Z
LAST-MODIFIED:20260418T053835Z
UID:12383-1811842200-1811847600@www.olmcfssp.org
SUMMARY:Tuesday Morning Book Club
DESCRIPTION:The Tuesday morning book club meets to read and discuss a selected book that assists with spiritual growth and knowledge of our wonderful Catholic faith. All members of the parish are welcome to drop by and check us out.
URL:https://www.olmcfssp.org/calendar/tuesday-morning-book-club-225/
END:VEVENT
BEGIN:VEVENT
DTSTART;TZID=America/Denver:20270601T170000
DTEND;TZID=America/Denver:20270601T180000
DTSTAMP:20260422T165726
CREATED:20250606T230838Z
LAST-MODIFIED:20260418T022333Z
UID:12376-1811869200-1811872800@www.olmcfssp.org
SUMMARY:Shepherds of Christ Prayer Group
DESCRIPTION:
URL:https://www.olmcfssp.org/calendar/shepherds-of-christ-prayer-group-226/
END:VEVENT
BEGIN:VEVENT
DTSTART;TZID=America/Denver:20270602T183000
DTEND;TZID=America/Denver:20270602T203000
DTSTAMP:20260422T165726
CREATED:20250607T003841Z
LAST-MODIFIED:20260418T025330Z
UID:12379-1811961000-1811968200@www.olmcfssp.org
SUMMARY:Safety Team Meeting
DESCRIPTION:The purpose of the OLMC Safety Team is to provide a safe and secure environment for all parishioners and visitors. Primarily\, this is accomplished by the observation of people\, places and events and your assessment of situations and then to follow through with appropriate action.
URL:https://www.olmcfssp.org/calendar/safety-team-meeting-52/
END:VEVENT
BEGIN:VEVENT
DTSTART;TZID=America/Denver:20270602T190000
DTEND;TZID=America/Denver:20270602T203000
DTSTAMP:20260422T165726
CREATED:20250607T013842Z
LAST-MODIFIED:20260418T032329Z
UID:12387-1811962800-1811968200@www.olmcfssp.org
SUMMARY:Choir Practice
DESCRIPTION:
URL:https://www.olmcfssp.org/calendar/choir-practice-224/
END:VEVENT
BEGIN:VEVENT
DTSTART;TZID=America/Denver:20270603T093000
DTEND;TZID=America/Denver:20270603T103000
DTSTAMP:20260422T165726
CREATED:20250926T013838Z
LAST-MODIFIED:20260417T023833Z
UID:13119-1812015000-1812018600@www.olmcfssp.org
SUMMARY:Legion of Mary Meeting
DESCRIPTION:The legion exists to be a sign of Mary’s maternal love for the world and a means of enlisting all her children in the Church’s evangelizing work. It is at the disposal of the parish priest for any form of service deemed useful for the welfare of the Church.
URL:https://www.olmcfssp.org/calendar/legion-of-mary-meeting-449/
END:VEVENT
END:VCALENDAR