BEGIN:VCALENDAR
VERSION:2.0
PRODID:-//Our Lady of Mt. Carmel - ECPv6.15.20//NONSGML v1.0//EN
CALSCALE:GREGORIAN
METHOD:PUBLISH
X-ORIGINAL-URL:https://www.olmcfssp.org
X-WR-CALDESC:Events for Our Lady of Mt. Carmel
REFRESH-INTERVAL;VALUE=DURATION:PT1H
X-Robots-Tag:noindex
X-PUBLISHED-TTL:PT1H
BEGIN:VTIMEZONE
TZID:America/Denver
BEGIN:DAYLIGHT
TZOFFSETFROM:-0700
TZOFFSETTO:-0600
TZNAME:MDT
DTSTART:20260308T090000
END:DAYLIGHT
BEGIN:STANDARD
TZOFFSETFROM:-0600
TZOFFSETTO:-0700
TZNAME:MST
DTSTART:20261101T080000
END:STANDARD
BEGIN:DAYLIGHT
TZOFFSETFROM:-0700
TZOFFSETTO:-0600
TZNAME:MDT
DTSTART:20270314T090000
END:DAYLIGHT
BEGIN:STANDARD
TZOFFSETFROM:-0600
TZOFFSETTO:-0700
TZNAME:MST
DTSTART:20271107T080000
END:STANDARD
BEGIN:DAYLIGHT
TZOFFSETFROM:-0700
TZOFFSETTO:-0600
TZNAME:MDT
DTSTART:20280312T090000
END:DAYLIGHT
BEGIN:STANDARD
TZOFFSETFROM:-0600
TZOFFSETTO:-0700
TZNAME:MST
DTSTART:20281105T080000
END:STANDARD
END:VTIMEZONE
BEGIN:VEVENT
DTSTART;TZID=America/Denver:20270411T123000
DTEND;TZID=America/Denver:20270411T140000
DTSTAMP:20260422T163349
CREATED:20250801T005332Z
LAST-MODIFIED:20260417T023832Z
UID:12668-1807446600-1807452000@www.olmcfssp.org
SUMMARY:Knights of Columbus Meeting
DESCRIPTION:As faithful Catholics\, we are called to be salt and light in this material world. As traditional Catholics within the Church Universal\, we are sometimes called\, in charity\, to bring more illumination and flavor to our fellow Catholics. Let us join with him in spreading the message within the Knights of Columbus.
URL:https://www.olmcfssp.org/calendar/knights-of-columbus-meeting-49/
END:VEVENT
BEGIN:VEVENT
DTSTART;TZID=America/Denver:20270411T170000
DTEND;TZID=America/Denver:20270411T180000
DTSTAMP:20260422T163349
CREATED:20250411T230840Z
LAST-MODIFIED:20260418T022333Z
UID:12000-1807462800-1807466400@www.olmcfssp.org
SUMMARY:Sung Vespers
DESCRIPTION:
URL:https://www.olmcfssp.org/calendar/sung-vespers-205/
END:VEVENT
BEGIN:VEVENT
DTSTART;TZID=America/Denver:20270412T180000
DTEND;TZID=America/Denver:20270412T190000
DTSTAMP:20260422T163349
CREATED:20250801T005332Z
LAST-MODIFIED:20260417T023832Z
UID:12669-1807552800-1807556400@www.olmcfssp.org
SUMMARY:Legion of Mary Meeting
DESCRIPTION:The legion exists to be a sign of Mary’s maternal love for the world and a means of enlisting all her children in the Church’s evangelizing work. It is at the disposal of the parish priest for any form of service deemed useful for the welfare of the Church.
URL:https://www.olmcfssp.org/calendar/legion-of-mary-meeting-434/
END:VEVENT
BEGIN:VEVENT
DTSTART;TZID=America/Denver:20270413T093000
DTEND;TZID=America/Denver:20270413T103000
DTSTAMP:20260422T163349
CREATED:20250418T230837Z
LAST-MODIFIED:20260418T022333Z
UID:12032-1807608600-1807612200@www.olmcfssp.org
SUMMARY:Holy Face Devotion Group
DESCRIPTION:His Holy Face Ministry’s mission is to bring the Face of God back into the world to breathe life into souls by making reparation for the sins committed against the majesty of God and the Catholic Church. Join us as a community in making public reparation before a 2nd class relic image of the Veil of St. Veronica on the second Tuesday or third Saturday of each month after the 8:30 AM mass. We also offer presentations on the Holy Face Devotion\, a Home Enthronement Program with the image\, and a Parish Enthronement Program to share with a wider audience.
URL:https://www.olmcfssp.org/calendar/holy-face-devotion-group-57/
END:VEVENT
BEGIN:VEVENT
DTSTART;TZID=America/Denver:20270413T093000
DTEND;TZID=America/Denver:20270413T110000
DTSTAMP:20260422T163349
CREATED:20250419T002632Z
LAST-MODIFIED:20260418T053835Z
UID:12041-1807608600-1807614000@www.olmcfssp.org
SUMMARY:Tuesday Morning Book Club
DESCRIPTION:The Tuesday morning book club meets to read and discuss a selected book that assists with spiritual growth and knowledge of our wonderful Catholic faith. All members of the parish are welcome to drop by and check us out.
URL:https://www.olmcfssp.org/calendar/tuesday-morning-book-club-218/
END:VEVENT
BEGIN:VEVENT
DTSTART;TZID=America/Denver:20270413T170000
DTEND;TZID=America/Denver:20270413T180000
DTSTAMP:20260422T163349
CREATED:20250418T230837Z
LAST-MODIFIED:20260418T022333Z
UID:12033-1807635600-1807639200@www.olmcfssp.org
SUMMARY:Shepherds of Christ Prayer Group
DESCRIPTION:
URL:https://www.olmcfssp.org/calendar/shepherds-of-christ-prayer-group-219/
END:VEVENT
BEGIN:VEVENT
DTSTART;TZID=America/Denver:20270414T190000
DTEND;TZID=America/Denver:20270414T203000
DTSTAMP:20260422T163349
CREATED:20250419T012335Z
LAST-MODIFIED:20260418T032329Z
UID:12048-1807729200-1807734600@www.olmcfssp.org
SUMMARY:Choir Practice
DESCRIPTION:
URL:https://www.olmcfssp.org/calendar/choir-practice-217/
END:VEVENT
BEGIN:VEVENT
DTSTART;TZID=America/Denver:20270415T093000
DTEND;TZID=America/Denver:20270415T103000
DTSTAMP:20260422T163349
CREATED:20250808T005348Z
LAST-MODIFIED:20260417T023832Z
UID:12694-1807781400-1807785000@www.olmcfssp.org
SUMMARY:Legion of Mary Meeting
DESCRIPTION:The legion exists to be a sign of Mary’s maternal love for the world and a means of enlisting all her children in the Church’s evangelizing work. It is at the disposal of the parish priest for any form of service deemed useful for the welfare of the Church.
URL:https://www.olmcfssp.org/calendar/legion-of-mary-meeting-435/
END:VEVENT
BEGIN:VEVENT
DTSTART;TZID=America/Denver:20270415T093000
DTEND;TZID=America/Denver:20270415T110000
DTSTAMP:20260422T163349
CREATED:20250419T002333Z
LAST-MODIFIED:20260418T025330Z
UID:12039-1807781400-1807786800@www.olmcfssp.org
SUMMARY:St. Therese Book Club
DESCRIPTION:Come and study the works of St. Therese as a group. All are welcome.
URL:https://www.olmcfssp.org/calendar/st-therese-book-club-50/
END:VEVENT
BEGIN:VEVENT
DTSTART;TZID=America/Denver:20270417T093000
DTEND;TZID=America/Denver:20270417T120000
DTSTAMP:20260422T163349
CREATED:20250419T023832Z
LAST-MODIFIED:20260418T055331Z
UID:12058-1807954200-1807963200@www.olmcfssp.org
SUMMARY:Altar and Rosary Society Meeting
DESCRIPTION:The Altar and Rosary Society is an organization of women who foster and spread devotion to the Holy Rosary\, maintain the cleanliness of the church sanctuary\, wash and iron altar linens\, and arrange flowers for the altar.
URL:https://www.olmcfssp.org/calendar/altar-and-rosary-society-meeting-43/
END:VEVENT
BEGIN:VEVENT
DTSTART;TZID=America/Denver:20270418T123000
DTEND;TZID=America/Denver:20270418T140000
DTSTAMP:20260422T163349
CREATED:20250419T002632Z
LAST-MODIFIED:20260418T053835Z
UID:12042-1808051400-1808056800@www.olmcfssp.org
SUMMARY:Creation Study Group
DESCRIPTION:This group is dedicated to studying the traditional Catholic teaching on creation and Genesis as believed and taught by the Doctors\, Fathers\, Councils and Popes for two thousand years. We explore various aspects of the creation/evolutionism debate and the effects of evolutionary thought on culture\, science and the Church. As Pope St Pius X said about Modernism\, that it is the “synthesis of all heresies.” And “the chief of their doctrines\, that of evolution.” \nAll are welcome to attend and contribute their experience and expertise.
URL:https://www.olmcfssp.org/calendar/creation-study-group-42/
END:VEVENT
BEGIN:VEVENT
DTSTART;TZID=America/Denver:20270418T170000
DTEND;TZID=America/Denver:20270418T180000
DTSTAMP:20260422T163349
CREATED:20250418T230837Z
LAST-MODIFIED:20260418T022333Z
UID:12034-1808067600-1808071200@www.olmcfssp.org
SUMMARY:Sung Vespers
DESCRIPTION:
URL:https://www.olmcfssp.org/calendar/sung-vespers-206/
END:VEVENT
BEGIN:VEVENT
DTSTART;TZID=America/Denver:20270419T180000
DTEND;TZID=America/Denver:20270419T190000
DTSTAMP:20260422T163349
CREATED:20250808T005348Z
LAST-MODIFIED:20260417T023832Z
UID:12696-1808157600-1808161200@www.olmcfssp.org
SUMMARY:Legion of Mary Meeting
DESCRIPTION:The legion exists to be a sign of Mary’s maternal love for the world and a means of enlisting all her children in the Church’s evangelizing work. It is at the disposal of the parish priest for any form of service deemed useful for the welfare of the Church.
URL:https://www.olmcfssp.org/calendar/legion-of-mary-meeting-436/
END:VEVENT
BEGIN:VEVENT
DTSTART;TZID=America/Denver:20270420T093000
DTEND;TZID=America/Denver:20270420T110000
DTSTAMP:20260422T163349
CREATED:20250426T003840Z
LAST-MODIFIED:20260418T053835Z
UID:12088-1808213400-1808218800@www.olmcfssp.org
SUMMARY:Tuesday Morning Book Club
DESCRIPTION:The Tuesday morning book club meets to read and discuss a selected book that assists with spiritual growth and knowledge of our wonderful Catholic faith. All members of the parish are welcome to drop by and check us out.
URL:https://www.olmcfssp.org/calendar/tuesday-morning-book-club-219/
END:VEVENT
BEGIN:VEVENT
DTSTART;TZID=America/Denver:20270420T170000
DTEND;TZID=America/Denver:20270420T180000
DTSTAMP:20260422T163349
CREATED:20250425T230833Z
LAST-MODIFIED:20260418T022333Z
UID:12083-1808240400-1808244000@www.olmcfssp.org
SUMMARY:Shepherds of Christ Prayer Group
DESCRIPTION:
URL:https://www.olmcfssp.org/calendar/shepherds-of-christ-prayer-group-220/
END:VEVENT
BEGIN:VEVENT
DTSTART;TZID=America/Denver:20270421T190000
DTEND;TZID=America/Denver:20270421T203000
DTSTAMP:20260422T163349
CREATED:20250426T012332Z
LAST-MODIFIED:20260418T032329Z
UID:12092-1808334000-1808339400@www.olmcfssp.org
SUMMARY:Choir Practice
DESCRIPTION:
URL:https://www.olmcfssp.org/calendar/choir-practice-218/
END:VEVENT
BEGIN:VEVENT
DTSTART;TZID=America/Denver:20270422T093000
DTEND;TZID=America/Denver:20270422T103000
DTSTAMP:20260422T163349
CREATED:20250815T010849Z
LAST-MODIFIED:20260417T023832Z
UID:12729-1808386200-1808389800@www.olmcfssp.org
SUMMARY:Legion of Mary Meeting
DESCRIPTION:The legion exists to be a sign of Mary’s maternal love for the world and a means of enlisting all her children in the Church’s evangelizing work. It is at the disposal of the parish priest for any form of service deemed useful for the welfare of the Church.
URL:https://www.olmcfssp.org/calendar/legion-of-mary-meeting-437/
END:VEVENT
BEGIN:VEVENT
DTSTART;TZID=America/Denver:20270424T101500
DTEND;TZID=America/Denver:20270424T110000
DTSTAMP:20260422T163349
CREATED:20250426T025407Z
LAST-MODIFIED:20260418T060827Z
UID:12103-1808561700-1808564400@www.olmcfssp.org
SUMMARY:Planned Parenthood Prayer Vigil
DESCRIPTION:Please join us for our monthly parish prayer vigil at Planned Parenthood starting at 10:15 am. The facility is located at 7155 E 38th Ave. in Denver.
URL:https://www.olmcfssp.org/calendar/planned-parenthood-prayer-vigil-65/
END:VEVENT
BEGIN:VEVENT
DTSTART;TZID=America/Denver:20270425T123000
DTEND;TZID=America/Denver:20270425T141500
DTSTAMP:20260422T163349
CREATED:20250815T010849Z
LAST-MODIFIED:20260417T023832Z
UID:12730-1808656200-1808662500@www.olmcfssp.org
SUMMARY:Carmel Rookies Chess Club
DESCRIPTION:Carmel Rookies Chess Club for players under 18. Players/parents must RSVP to Mr. Mudd at rdm3rdm3@gmail.com to reserve their spot as space is limited.
URL:https://www.olmcfssp.org/calendar/carmel-rookies-chess-club-85/
END:VEVENT
BEGIN:VEVENT
DTSTART;TZID=America/Denver:20270425T170000
DTEND;TZID=America/Denver:20270425T180000
DTSTAMP:20260422T163349
CREATED:20250425T230833Z
LAST-MODIFIED:20260418T022333Z
UID:12084-1808672400-1808676000@www.olmcfssp.org
SUMMARY:Sung Vespers
DESCRIPTION:
URL:https://www.olmcfssp.org/calendar/sung-vespers-207/
END:VEVENT
BEGIN:VEVENT
DTSTART;TZID=America/Denver:20270426T180000
DTEND;TZID=America/Denver:20270426T190000
DTSTAMP:20260422T163349
CREATED:20250815T010849Z
LAST-MODIFIED:20260417T023832Z
UID:12731-1808762400-1808766000@www.olmcfssp.org
SUMMARY:Legion of Mary Meeting
DESCRIPTION:The legion exists to be a sign of Mary’s maternal love for the world and a means of enlisting all her children in the Church’s evangelizing work. It is at the disposal of the parish priest for any form of service deemed useful for the welfare of the Church.
URL:https://www.olmcfssp.org/calendar/legion-of-mary-meeting-438/
END:VEVENT
BEGIN:VEVENT
DTSTART;TZID=America/Denver:20270427T093000
DTEND;TZID=America/Denver:20270427T110000
DTSTAMP:20260422T163349
CREATED:20250503T003831Z
LAST-MODIFIED:20260418T053835Z
UID:12127-1808818200-1808823600@www.olmcfssp.org
SUMMARY:Tuesday Morning Book Club
DESCRIPTION:The Tuesday morning book club meets to read and discuss a selected book that assists with spiritual growth and knowledge of our wonderful Catholic faith. All members of the parish are welcome to drop by and check us out.
URL:https://www.olmcfssp.org/calendar/tuesday-morning-book-club-220/
END:VEVENT
BEGIN:VEVENT
DTSTART;TZID=America/Denver:20270427T170000
DTEND;TZID=America/Denver:20270427T180000
DTSTAMP:20260422T163350
CREATED:20250502T230836Z
LAST-MODIFIED:20260418T022333Z
UID:12122-1808845200-1808848800@www.olmcfssp.org
SUMMARY:Shepherds of Christ Prayer Group
DESCRIPTION:
URL:https://www.olmcfssp.org/calendar/shepherds-of-christ-prayer-group-221/
END:VEVENT
BEGIN:VEVENT
DTSTART;TZID=America/Denver:20270428T180000
DTEND;TZID=America/Denver:20270428T210000
DTSTAMP:20260422T163350
CREATED:20250815T010849Z
LAST-MODIFIED:20260417T023832Z
UID:12732-1808935200-1808946000@www.olmcfssp.org
SUMMARY:Hibernia Music Group
DESCRIPTION:An OLMC acoustic music group. We play traditional Irish\, Folk and Americana music. All are welcome to join us\, beginner or advanced\, Instrumentalist or Vocalist. Our goal is to sharpen our skills\, increase our musical knowledge\, have good Catholic fellowship\, and share our music.
URL:https://www.olmcfssp.org/calendar/hibernia-music-group-99/
END:VEVENT
BEGIN:VEVENT
DTSTART;TZID=America/Denver:20270428T190000
DTEND;TZID=America/Denver:20270428T203000
DTSTAMP:20260422T163350
CREATED:20250503T012339Z
LAST-MODIFIED:20260418T032329Z
UID:12131-1808938800-1808944200@www.olmcfssp.org
SUMMARY:Choir Practice
DESCRIPTION:
URL:https://www.olmcfssp.org/calendar/choir-practice-219/
END:VEVENT
BEGIN:VEVENT
DTSTART;TZID=America/Denver:20270429T093000
DTEND;TZID=America/Denver:20270429T103000
DTSTAMP:20260422T163350
CREATED:20250822T012335Z
LAST-MODIFIED:20260417T023832Z
UID:12842-1808991000-1808994600@www.olmcfssp.org
SUMMARY:Legion of Mary Meeting
DESCRIPTION:The legion exists to be a sign of Mary’s maternal love for the world and a means of enlisting all her children in the Church’s evangelizing work. It is at the disposal of the parish priest for any form of service deemed useful for the welfare of the Church.
URL:https://www.olmcfssp.org/calendar/legion-of-mary-meeting-439/
END:VEVENT
BEGIN:VEVENT
DTSTART;TZID=America/Denver:20270501T093000
DTEND;TZID=America/Denver:20270501T113000
DTSTAMP:20260422T163350
CREATED:20250503T025329Z
LAST-MODIFIED:20260418T055331Z
UID:12134-1809163800-1809171000@www.olmcfssp.org
SUMMARY:Confraternity of Christian Mothers
DESCRIPTION:All women aged 16 and up of all walks of life are invited to attend. Some of us are called to physical motherhood\, but we are all called to spiritual motherhood. 
URL:https://www.olmcfssp.org/calendar/confraternity-of-christian-mothers-95/
END:VEVENT
BEGIN:VEVENT
DTSTART;TZID=America/Denver:20270502T170000
DTEND;TZID=America/Denver:20270502T180000
DTSTAMP:20260422T163350
CREATED:20250502T230836Z
LAST-MODIFIED:20260418T022333Z
UID:12123-1809277200-1809280800@www.olmcfssp.org
SUMMARY:Sung Vespers
DESCRIPTION:
URL:https://www.olmcfssp.org/calendar/sung-vespers-208/
END:VEVENT
BEGIN:VEVENT
DTSTART;TZID=America/Denver:20270503T180000
DTEND;TZID=America/Denver:20270503T190000
DTSTAMP:20260422T163350
CREATED:20250822T012335Z
LAST-MODIFIED:20260417T023832Z
UID:12844-1809367200-1809370800@www.olmcfssp.org
SUMMARY:Legion of Mary Meeting
DESCRIPTION:The legion exists to be a sign of Mary’s maternal love for the world and a means of enlisting all her children in the Church’s evangelizing work. It is at the disposal of the parish priest for any form of service deemed useful for the welfare of the Church.
URL:https://www.olmcfssp.org/calendar/legion-of-mary-meeting-440/
END:VEVENT
BEGIN:VEVENT
DTSTART;TZID=America/Denver:20270504T093000
DTEND;TZID=America/Denver:20270504T110000
DTSTAMP:20260422T163350
CREATED:20250510T005334Z
LAST-MODIFIED:20260418T053835Z
UID:12209-1809423000-1809428400@www.olmcfssp.org
SUMMARY:Tuesday Morning Book Club
DESCRIPTION:The Tuesday morning book club meets to read and discuss a selected book that assists with spiritual growth and knowledge of our wonderful Catholic faith. All members of the parish are welcome to drop by and check us out.
URL:https://www.olmcfssp.org/calendar/tuesday-morning-book-club-221/
END:VEVENT
END:VCALENDAR