BEGIN:VCALENDAR
VERSION:2.0
PRODID:-//Our Lady of Mt. Carmel - ECPv6.15.20//NONSGML v1.0//EN
CALSCALE:GREGORIAN
METHOD:PUBLISH
X-ORIGINAL-URL:https://www.olmcfssp.org
X-WR-CALDESC:Events for Our Lady of Mt. Carmel
REFRESH-INTERVAL;VALUE=DURATION:PT1H
X-Robots-Tag:noindex
X-PUBLISHED-TTL:PT1H
BEGIN:VTIMEZONE
TZID:America/Denver
BEGIN:DAYLIGHT
TZOFFSETFROM:-0700
TZOFFSETTO:-0600
TZNAME:MDT
DTSTART:20260308T090000
END:DAYLIGHT
BEGIN:STANDARD
TZOFFSETFROM:-0600
TZOFFSETTO:-0700
TZNAME:MST
DTSTART:20261101T080000
END:STANDARD
BEGIN:DAYLIGHT
TZOFFSETFROM:-0700
TZOFFSETTO:-0600
TZNAME:MDT
DTSTART:20270314T090000
END:DAYLIGHT
BEGIN:STANDARD
TZOFFSETFROM:-0600
TZOFFSETTO:-0700
TZNAME:MST
DTSTART:20271107T080000
END:STANDARD
BEGIN:DAYLIGHT
TZOFFSETFROM:-0700
TZOFFSETTO:-0600
TZNAME:MDT
DTSTART:20280312T090000
END:DAYLIGHT
BEGIN:STANDARD
TZOFFSETFROM:-0600
TZOFFSETTO:-0700
TZNAME:MST
DTSTART:20281105T080000
END:STANDARD
END:VTIMEZONE
BEGIN:VEVENT
DTSTART;TZID=America/Denver:20270622T170000
DTEND;TZID=America/Denver:20270622T180000
DTSTAMP:20260422T162146
CREATED:20250627T232335Z
LAST-MODIFIED:20260418T022333Z
UID:12482-1813683600-1813687200@www.olmcfssp.org
SUMMARY:Shepherds of Christ Prayer Group
DESCRIPTION:
URL:https://www.olmcfssp.org/calendar/shepherds-of-christ-prayer-group-229/
END:VEVENT
BEGIN:VEVENT
DTSTART;TZID=America/Denver:20270623T180000
DTEND;TZID=America/Denver:20270623T210000
DTSTAMP:20260422T162146
CREATED:20251017T015334Z
LAST-MODIFIED:20260417T023833Z
UID:13278-1813773600-1813784400@www.olmcfssp.org
SUMMARY:Hibernia Music Group
DESCRIPTION:An OLMC acoustic music group. We play traditional Irish\, Folk and Americana music. All are welcome to join us\, beginner or advanced\, Instrumentalist or Vocalist. Our goal is to sharpen our skills\, increase our musical knowledge\, have good Catholic fellowship\, and share our music.
URL:https://www.olmcfssp.org/calendar/hibernia-music-group-103/
END:VEVENT
BEGIN:VEVENT
DTSTART;TZID=America/Denver:20270623T190000
DTEND;TZID=America/Denver:20270623T203000
DTSTAMP:20260422T162146
CREATED:20250628T013845Z
LAST-MODIFIED:20260418T032329Z
UID:12493-1813777200-1813782600@www.olmcfssp.org
SUMMARY:Choir Practice
DESCRIPTION:
URL:https://www.olmcfssp.org/calendar/choir-practice-227/
END:VEVENT
BEGIN:VEVENT
DTSTART;TZID=America/Denver:20270624T093000
DTEND;TZID=America/Denver:20270624T103000
DTSTAMP:20260422T162146
CREATED:20251017T015334Z
LAST-MODIFIED:20260417T023833Z
UID:13279-1813829400-1813833000@www.olmcfssp.org
SUMMARY:Legion of Mary Meeting
DESCRIPTION:The legion exists to be a sign of Mary’s maternal love for the world and a means of enlisting all her children in the Church’s evangelizing work. It is at the disposal of the parish priest for any form of service deemed useful for the welfare of the Church.
URL:https://www.olmcfssp.org/calendar/legion-of-mary-meeting-455/
END:VEVENT
BEGIN:VEVENT
DTSTART;TZID=America/Denver:20270626T101500
DTEND;TZID=America/Denver:20270626T110000
DTSTAMP:20260422T162146
CREATED:20250628T030851Z
LAST-MODIFIED:20260418T060827Z
UID:12496-1814004900-1814007600@www.olmcfssp.org
SUMMARY:Planned Parenthood Prayer Vigil
DESCRIPTION:Please join us for our monthly parish prayer vigil at Planned Parenthood starting at 10:15 am. The facility is located at 7155 E 38th Ave. in Denver.
URL:https://www.olmcfssp.org/calendar/planned-parenthood-prayer-vigil-67/
END:VEVENT
BEGIN:VEVENT
DTSTART;TZID=America/Denver:20270627T120000
DTEND;TZID=America/Denver:20270627T143000
DTSTAMP:20260422T162146
CREATED:20250628T032330Z
LAST-MODIFIED:20260418T055331Z
UID:12498-1814097600-1814106600@www.olmcfssp.org
SUMMARY:Adult Chess Club
DESCRIPTION:For players 18 and over. Players must RSVP to Mr. Mudd at rdm3rdm3@gmail.com to reserve their spot as space is limited.
URL:https://www.olmcfssp.org/calendar/adult-chess-club-12/
END:VEVENT
BEGIN:VEVENT
DTSTART;TZID=America/Denver:20270627T123000
DTEND;TZID=America/Denver:20270627T141500
DTSTAMP:20260422T162146
CREATED:20251017T015334Z
LAST-MODIFIED:20260417T023833Z
UID:13280-1814099400-1814105700@www.olmcfssp.org
SUMMARY:Carmel Rookies Chess Club
DESCRIPTION:Carmel Rookies Chess Club for players under 18. Players/parents must RSVP to Mr. Mudd at rdm3rdm3@gmail.com to reserve their spot as space is limited.
URL:https://www.olmcfssp.org/calendar/carmel-rookies-chess-club-87/
END:VEVENT
BEGIN:VEVENT
DTSTART;TZID=America/Denver:20270627T170000
DTEND;TZID=America/Denver:20270627T180000
DTSTAMP:20260422T162146
CREATED:20250627T232335Z
LAST-MODIFIED:20260418T022333Z
UID:12483-1814115600-1814119200@www.olmcfssp.org
SUMMARY:Sung Vespers
DESCRIPTION:
URL:https://www.olmcfssp.org/calendar/sung-vespers-216/
END:VEVENT
BEGIN:VEVENT
DTSTART;TZID=America/Denver:20270628T180000
DTEND;TZID=America/Denver:20270628T190000
DTSTAMP:20260422T162146
CREATED:20251017T015334Z
LAST-MODIFIED:20260417T023833Z
UID:13281-1814205600-1814209200@www.olmcfssp.org
SUMMARY:Legion of Mary Meeting
DESCRIPTION:The legion exists to be a sign of Mary’s maternal love for the world and a means of enlisting all her children in the Church’s evangelizing work. It is at the disposal of the parish priest for any form of service deemed useful for the welfare of the Church.
URL:https://www.olmcfssp.org/calendar/legion-of-mary-meeting-456/
END:VEVENT
BEGIN:VEVENT
DTSTART;TZID=America/Denver:20270629T093000
DTEND;TZID=America/Denver:20270629T110000
DTSTAMP:20260422T162146
CREATED:20250705T012334Z
LAST-MODIFIED:20260418T053835Z
UID:12515-1814261400-1814266800@www.olmcfssp.org
SUMMARY:Tuesday Morning Book Club
DESCRIPTION:The Tuesday morning book club meets to read and discuss a selected book that assists with spiritual growth and knowledge of our wonderful Catholic faith. All members of the parish are welcome to drop by and check us out.
URL:https://www.olmcfssp.org/calendar/tuesday-morning-book-club-229/
END:VEVENT
BEGIN:VEVENT
DTSTART;TZID=America/Denver:20270629T170000
DTEND;TZID=America/Denver:20270629T180000
DTSTAMP:20260422T162146
CREATED:20250704T232338Z
LAST-MODIFIED:20260418T022333Z
UID:12510-1814288400-1814292000@www.olmcfssp.org
SUMMARY:Shepherds of Christ Prayer Group
DESCRIPTION:
URL:https://www.olmcfssp.org/calendar/shepherds-of-christ-prayer-group-230/
END:VEVENT
BEGIN:VEVENT
DTSTART;TZID=America/Denver:20270630T190000
DTEND;TZID=America/Denver:20270630T203000
DTSTAMP:20260422T162146
CREATED:20250705T013832Z
LAST-MODIFIED:20260418T032329Z
UID:12519-1814382000-1814387400@www.olmcfssp.org
SUMMARY:Choir Practice
DESCRIPTION:
URL:https://www.olmcfssp.org/calendar/choir-practice-228/
END:VEVENT
BEGIN:VEVENT
DTSTART;TZID=America/Denver:20270701T093000
DTEND;TZID=America/Denver:20270701T103000
DTSTAMP:20260422T162146
CREATED:20251024T015336Z
LAST-MODIFIED:20260417T023833Z
UID:13325-1814434200-1814437800@www.olmcfssp.org
SUMMARY:Legion of Mary Meeting
DESCRIPTION:The legion exists to be a sign of Mary’s maternal love for the world and a means of enlisting all her children in the Church’s evangelizing work. It is at the disposal of the parish priest for any form of service deemed useful for the welfare of the Church.
URL:https://www.olmcfssp.org/calendar/legion-of-mary-meeting-457/
END:VEVENT
BEGIN:VEVENT
DTSTART;TZID=America/Denver:20270703T093000
DTEND;TZID=America/Denver:20270703T113000
DTSTAMP:20260422T162146
CREATED:20250705T032506Z
LAST-MODIFIED:20260418T055331Z
UID:12524-1814607000-1814614200@www.olmcfssp.org
SUMMARY:Confraternity of Christian Mothers
DESCRIPTION:All women aged 16 and up of all walks of life are invited to attend. Some of us are called to physical motherhood\, but we are all called to spiritual motherhood. 
URL:https://www.olmcfssp.org/calendar/confraternity-of-christian-mothers-97/
END:VEVENT
BEGIN:VEVENT
DTSTART;TZID=America/Denver:20270704T170000
DTEND;TZID=America/Denver:20270704T180000
DTSTAMP:20260422T162146
CREATED:20250704T232338Z
LAST-MODIFIED:20260418T022333Z
UID:12511-1814720400-1814724000@www.olmcfssp.org
SUMMARY:Sung Vespers
DESCRIPTION:
URL:https://www.olmcfssp.org/calendar/sung-vespers-217/
END:VEVENT
BEGIN:VEVENT
DTSTART;TZID=America/Denver:20270705T180000
DTEND;TZID=America/Denver:20270705T190000
DTSTAMP:20260422T162146
CREATED:20251024T015336Z
LAST-MODIFIED:20260417T023833Z
UID:13327-1814810400-1814814000@www.olmcfssp.org
SUMMARY:Legion of Mary Meeting
DESCRIPTION:The legion exists to be a sign of Mary’s maternal love for the world and a means of enlisting all her children in the Church’s evangelizing work. It is at the disposal of the parish priest for any form of service deemed useful for the welfare of the Church.
URL:https://www.olmcfssp.org/calendar/legion-of-mary-meeting-458/
END:VEVENT
BEGIN:VEVENT
DTSTART;TZID=America/Denver:20270706T093000
DTEND;TZID=America/Denver:20270706T110000
DTSTAMP:20260422T162146
CREATED:20250712T012335Z
LAST-MODIFIED:20260418T053835Z
UID:12548-1814866200-1814871600@www.olmcfssp.org
SUMMARY:Tuesday Morning Book Club
DESCRIPTION:The Tuesday morning book club meets to read and discuss a selected book that assists with spiritual growth and knowledge of our wonderful Catholic faith. All members of the parish are welcome to drop by and check us out.
URL:https://www.olmcfssp.org/calendar/tuesday-morning-book-club-230/
END:VEVENT
BEGIN:VEVENT
DTSTART;TZID=America/Denver:20270706T170000
DTEND;TZID=America/Denver:20270706T180000
DTSTAMP:20260422T162146
CREATED:20250711T233843Z
LAST-MODIFIED:20260418T022333Z
UID:12540-1814893200-1814896800@www.olmcfssp.org
SUMMARY:Shepherds of Christ Prayer Group
DESCRIPTION:
URL:https://www.olmcfssp.org/calendar/shepherds-of-christ-prayer-group-231/
END:VEVENT
BEGIN:VEVENT
DTSTART;TZID=America/Denver:20270707T183000
DTEND;TZID=America/Denver:20270707T203000
DTSTAMP:20260422T162146
CREATED:20250712T005337Z
LAST-MODIFIED:20260418T025330Z
UID:12543-1814985000-1814992200@www.olmcfssp.org
SUMMARY:Safety Team Meeting
DESCRIPTION:The purpose of the OLMC Safety Team is to provide a safe and secure environment for all parishioners and visitors. Primarily\, this is accomplished by the observation of people\, places and events and your assessment of situations and then to follow through with appropriate action.
URL:https://www.olmcfssp.org/calendar/safety-team-meeting-53/
END:VEVENT
BEGIN:VEVENT
DTSTART;TZID=America/Denver:20270707T190000
DTEND;TZID=America/Denver:20270707T203000
DTSTAMP:20260422T162146
CREATED:20250712T013832Z
LAST-MODIFIED:20260418T032329Z
UID:12551-1814986800-1814992200@www.olmcfssp.org
SUMMARY:Choir Practice
DESCRIPTION:
URL:https://www.olmcfssp.org/calendar/choir-practice-229/
END:VEVENT
BEGIN:VEVENT
DTSTART;TZID=America/Denver:20270708T093000
DTEND;TZID=America/Denver:20270708T103000
DTSTAMP:20260422T162147
CREATED:20251024T015336Z
LAST-MODIFIED:20260417T023833Z
UID:13328-1815039000-1815042600@www.olmcfssp.org
SUMMARY:Legion of Mary Meeting
DESCRIPTION:The legion exists to be a sign of Mary’s maternal love for the world and a means of enlisting all her children in the Church’s evangelizing work. It is at the disposal of the parish priest for any form of service deemed useful for the welfare of the Church.
URL:https://www.olmcfssp.org/calendar/legion-of-mary-meeting-459/
END:VEVENT
BEGIN:VEVENT
DTSTART;TZID=America/Denver:20270710T093000
DTEND;TZID=America/Denver:20270710T113000
DTSTAMP:20260422T162147
CREATED:20250712T033838Z
LAST-MODIFIED:20260418T055331Z
UID:12556-1815211800-1815219000@www.olmcfssp.org
SUMMARY:Holy Name Society Meeting
DESCRIPTION:The Holy Name Society is an organization of men striving to grow in holiness. The group is open to all men of the parish over the age of 18. Meetings include Mass\, the recitation of the Holy Rosary\, breakfast and a spiritual talk.
URL:https://www.olmcfssp.org/calendar/holy-name-society-meeting-51/
END:VEVENT
BEGIN:VEVENT
DTSTART;TZID=America/Denver:20270710T093000
DTEND;TZID=America/Denver:20270710T130000
DTSTAMP:20260422T162147
CREATED:20250712T005337Z
LAST-MODIFIED:20260418T025330Z
UID:12544-1815211800-1815224400@www.olmcfssp.org
SUMMARY:St. Teresa of Jesus Association
DESCRIPTION:A formation in the spirituality of St. Teresa of Jesus within a Study Group composed of men and women over the age of 25 years. This formation includes daily Mass\, Lectio Divina\, Divine Office and the living a life of apostolic endeavors: ministering to our families and the world.  The members endeavor to give glory to God\, to honor our Blessed Lady of Carmel and to aid our Holy Mother the Church by their prayers.
URL:https://www.olmcfssp.org/calendar/st-teresa-of-jesus-association-52/
END:VEVENT
BEGIN:VEVENT
DTSTART;TZID=America/Denver:20270710T130000
DTEND;TZID=America/Denver:20270710T160000
DTSTAMP:20260422T162147
CREATED:20251031T020836Z
LAST-MODIFIED:20260417T023833Z
UID:13364-1815224400-1815235200@www.olmcfssp.org
SUMMARY:Hibernia Music Group
DESCRIPTION:An OLMC acoustic music group. We play traditional Irish\, Folk and Americana music. All are welcome to join us\, beginner or advanced\, Instrumentalist or Vocalist. Our goal is to sharpen our skills\, increase our musical knowledge\, have good Catholic fellowship\, and share our music.
URL:https://www.olmcfssp.org/calendar/hibernia-music-group-104/
END:VEVENT
BEGIN:VEVENT
DTSTART;TZID=America/Denver:20270711T123000
DTEND;TZID=America/Denver:20270711T140000
DTSTAMP:20260422T162147
CREATED:20251031T020836Z
LAST-MODIFIED:20260417T023833Z
UID:13365-1815309000-1815314400@www.olmcfssp.org
SUMMARY:Knights of Columbus Meeting
DESCRIPTION:As faithful Catholics\, we are called to be salt and light in this material world. As traditional Catholics within the Church Universal\, we are sometimes called\, in charity\, to bring more illumination and flavor to our fellow Catholics. Let us join with him in spreading the message within the Knights of Columbus.
URL:https://www.olmcfssp.org/calendar/knights-of-columbus-meeting-52/
END:VEVENT
BEGIN:VEVENT
DTSTART;TZID=America/Denver:20270711T170000
DTEND;TZID=America/Denver:20270711T180000
DTSTAMP:20260422T162147
CREATED:20250711T233843Z
LAST-MODIFIED:20260418T022333Z
UID:12541-1815325200-1815328800@www.olmcfssp.org
SUMMARY:Sung Vespers
DESCRIPTION:
URL:https://www.olmcfssp.org/calendar/sung-vespers-218/
END:VEVENT
BEGIN:VEVENT
DTSTART;TZID=America/Denver:20270712T180000
DTEND;TZID=America/Denver:20270712T190000
DTSTAMP:20260422T162147
CREATED:20251031T020836Z
LAST-MODIFIED:20260417T023833Z
UID:13366-1815415200-1815418800@www.olmcfssp.org
SUMMARY:Legion of Mary Meeting
DESCRIPTION:The legion exists to be a sign of Mary’s maternal love for the world and a means of enlisting all her children in the Church’s evangelizing work. It is at the disposal of the parish priest for any form of service deemed useful for the welfare of the Church.
URL:https://www.olmcfssp.org/calendar/legion-of-mary-meeting-460/
END:VEVENT
BEGIN:VEVENT
DTSTART;TZID=America/Denver:20270713T093000
DTEND;TZID=America/Denver:20270713T103000
DTSTAMP:20260422T162147
CREATED:20250718T233838Z
LAST-MODIFIED:20260418T022333Z
UID:12577-1815471000-1815474600@www.olmcfssp.org
SUMMARY:Holy Face Devotion Group
DESCRIPTION:His Holy Face Ministry’s mission is to bring the Face of God back into the world to breathe life into souls by making reparation for the sins committed against the majesty of God and the Catholic Church. Join us as a community in making public reparation before a 2nd class relic image of the Veil of St. Veronica on the second Tuesday or third Saturday of each month after the 8:30 AM mass. We also offer presentations on the Holy Face Devotion\, a Home Enthronement Program with the image\, and a Parish Enthronement Program to share with a wider audience.
URL:https://www.olmcfssp.org/calendar/holy-face-devotion-group-60/
END:VEVENT
BEGIN:VEVENT
DTSTART;TZID=America/Denver:20270713T093000
DTEND;TZID=America/Denver:20270713T110000
DTSTAMP:20260422T162147
CREATED:20250719T012335Z
LAST-MODIFIED:20260418T053835Z
UID:12586-1815471000-1815476400@www.olmcfssp.org
SUMMARY:Tuesday Morning Book Club
DESCRIPTION:The Tuesday morning book club meets to read and discuss a selected book that assists with spiritual growth and knowledge of our wonderful Catholic faith. All members of the parish are welcome to drop by and check us out.
URL:https://www.olmcfssp.org/calendar/tuesday-morning-book-club-231/
END:VEVENT
BEGIN:VEVENT
DTSTART;TZID=America/Denver:20270713T170000
DTEND;TZID=America/Denver:20270713T180000
DTSTAMP:20260422T162147
CREATED:20250718T233838Z
LAST-MODIFIED:20260418T022333Z
UID:12578-1815498000-1815501600@www.olmcfssp.org
SUMMARY:Shepherds of Christ Prayer Group
DESCRIPTION:
URL:https://www.olmcfssp.org/calendar/shepherds-of-christ-prayer-group-232/
END:VEVENT
END:VCALENDAR