BEGIN:VCALENDAR
VERSION:2.0
PRODID:-//Our Lady of Mt. Carmel - ECPv6.15.20//NONSGML v1.0//EN
CALSCALE:GREGORIAN
METHOD:PUBLISH
X-ORIGINAL-URL:https://www.olmcfssp.org
X-WR-CALDESC:Events for Our Lady of Mt. Carmel
REFRESH-INTERVAL;VALUE=DURATION:PT1H
X-Robots-Tag:noindex
X-PUBLISHED-TTL:PT1H
BEGIN:VTIMEZONE
TZID:America/Denver
BEGIN:DAYLIGHT
TZOFFSETFROM:-0700
TZOFFSETTO:-0600
TZNAME:MDT
DTSTART:20250309T090000
END:DAYLIGHT
BEGIN:STANDARD
TZOFFSETFROM:-0600
TZOFFSETTO:-0700
TZNAME:MST
DTSTART:20251102T080000
END:STANDARD
BEGIN:DAYLIGHT
TZOFFSETFROM:-0700
TZOFFSETTO:-0600
TZNAME:MDT
DTSTART:20260308T090000
END:DAYLIGHT
BEGIN:STANDARD
TZOFFSETFROM:-0600
TZOFFSETTO:-0700
TZNAME:MST
DTSTART:20261101T080000
END:STANDARD
BEGIN:DAYLIGHT
TZOFFSETFROM:-0700
TZOFFSETTO:-0600
TZNAME:MDT
DTSTART:20270314T090000
END:DAYLIGHT
BEGIN:STANDARD
TZOFFSETFROM:-0600
TZOFFSETTO:-0700
TZNAME:MST
DTSTART:20271107T080000
END:STANDARD
END:VTIMEZONE
BEGIN:VEVENT
DTSTART;TZID=America/Denver:20260630T170000
DTEND;TZID=America/Denver:20260630T180000
DTSTAMP:20260420T124405
CREATED:20240712T215018Z
LAST-MODIFIED:20260418T022330Z
UID:9182-1782838800-1782842400@www.olmcfssp.org
SUMMARY:Shepherds of Christ Prayer Group
DESCRIPTION:
URL:https://www.olmcfssp.org/calendar/shepherds-of-christ-prayer-group-178/
END:VEVENT
BEGIN:VEVENT
DTSTART;TZID=America/Denver:20260701T183000
DTEND;TZID=America/Denver:20260701T203000
DTSTAMP:20260420T124405
CREATED:20240712T221457Z
LAST-MODIFIED:20260418T025329Z
UID:9541-1782930600-1782937800@www.olmcfssp.org
SUMMARY:Safety Team Meeting
DESCRIPTION:The purpose of the OLMC Safety Team is to provide a safe and secure environment for all parishioners and visitors. Primarily\, this is accomplished by the observation of people\, places and events and your assessment of situations and then to follow through with appropriate action.
URL:https://www.olmcfssp.org/calendar/safety-team-meeting-41/
END:VEVENT
BEGIN:VEVENT
DTSTART;TZID=America/Denver:20260701T190000
DTEND;TZID=America/Denver:20260701T203000
DTSTAMP:20260420T124405
CREATED:20240712T221258Z
LAST-MODIFIED:20260418T032328Z
UID:9517-1782932400-1782937800@www.olmcfssp.org
SUMMARY:Choir Practice
DESCRIPTION:
URL:https://www.olmcfssp.org/calendar/choir-practice-176/
END:VEVENT
BEGIN:VEVENT
DTSTART;TZID=America/Denver:20260702T093000
DTEND;TZID=America/Denver:20260702T103000
DTSTAMP:20260420T124405
CREATED:20241026T015405Z
LAST-MODIFIED:20260417T023829Z
UID:10625-1782984600-1782988200@www.olmcfssp.org
SUMMARY:Legion of Mary Meeting
DESCRIPTION:The legion exists to be a sign of Mary’s maternal love for the world and a means of enlisting all her children in the Church’s evangelizing work. It is at the disposal of the parish priest for any form of service deemed useful for the welfare of the Church.
URL:https://www.olmcfssp.org/calendar/legion-of-mary-meeting-353/
END:VEVENT
BEGIN:VEVENT
DTSTART;TZID=America/Denver:20260704T093000
DTEND;TZID=America/Denver:20260704T113000
DTSTAMP:20260420T124405
CREATED:20240712T215741Z
LAST-MODIFIED:20260418T055330Z
UID:9289-1783157400-1783164600@www.olmcfssp.org
SUMMARY:Confraternity of Christian Mothers
DESCRIPTION:All women aged 16 and up of all walks of life are invited to attend. Some of us are called to physical motherhood\, but we are all called to spiritual motherhood. 
URL:https://www.olmcfssp.org/calendar/confraternity-of-christian-mothers-85/
END:VEVENT
BEGIN:VEVENT
DTSTART;TZID=America/Denver:20260705T140000
DTEND;TZID=America/Denver:20260705T170000
DTSTAMP:20260420T124405
CREATED:20241026T015405Z
LAST-MODIFIED:20260417T023829Z
UID:10626-1783260000-1783270800@www.olmcfssp.org
SUMMARY:Laeta Vita
DESCRIPTION:Leata Vita (Joyful Life) is a group for single women ages 18-35. The purpose of our group is to meet and grow in fellowship with other women who are in a similar season of life. We meet two times a month. The first meeting of the month consists of discussing a book as part of our book club and socializing with each other. The second meeting of the month consists of a fun outing or activity (and every now and then something charitable for the parish or some other organization)\, meant to give the members a chance to get out and have some fun.
URL:https://www.olmcfssp.org/calendar/laeta-vita-73/
END:VEVENT
BEGIN:VEVENT
DTSTART;TZID=America/Denver:20260705T170000
DTEND;TZID=America/Denver:20260705T180000
DTSTAMP:20260420T124405
CREATED:20240712T215018Z
LAST-MODIFIED:20260418T022330Z
UID:9183-1783270800-1783274400@www.olmcfssp.org
SUMMARY:Sung Vespers
DESCRIPTION:
URL:https://www.olmcfssp.org/calendar/sung-vespers-165/
END:VEVENT
BEGIN:VEVENT
DTSTART;TZID=America/Denver:20260706T180000
DTEND;TZID=America/Denver:20260706T190000
DTSTAMP:20260420T124405
CREATED:20241026T015405Z
LAST-MODIFIED:20260417T023829Z
UID:10627-1783360800-1783364400@www.olmcfssp.org
SUMMARY:Legion of Mary Meeting
DESCRIPTION:The legion exists to be a sign of Mary’s maternal love for the world and a means of enlisting all her children in the Church’s evangelizing work. It is at the disposal of the parish priest for any form of service deemed useful for the welfare of the Church.
URL:https://www.olmcfssp.org/calendar/legion-of-mary-meeting-354/
END:VEVENT
BEGIN:VEVENT
DTSTART;TZID=America/Denver:20260707T093000
DTEND;TZID=America/Denver:20260707T110000
DTSTAMP:20260420T124405
CREATED:20240712T221129Z
LAST-MODIFIED:20260418T053833Z
UID:9484-1783416600-1783422000@www.olmcfssp.org
SUMMARY:Tuesday Morning Book Club
DESCRIPTION:The Tuesday morning book club meets to read and discuss a selected book that assists with spiritual growth and knowledge of our wonderful Catholic faith. All members of the parish are welcome to drop by and check us out.
URL:https://www.olmcfssp.org/calendar/tuesday-morning-book-club-178/
END:VEVENT
BEGIN:VEVENT
DTSTART;TZID=America/Denver:20260707T170000
DTEND;TZID=America/Denver:20260707T180000
DTSTAMP:20260420T124405
CREATED:20240712T215018Z
LAST-MODIFIED:20260418T022330Z
UID:9184-1783443600-1783447200@www.olmcfssp.org
SUMMARY:Shepherds of Christ Prayer Group
DESCRIPTION:
URL:https://www.olmcfssp.org/calendar/shepherds-of-christ-prayer-group-179/
END:VEVENT
BEGIN:VEVENT
DTSTART;TZID=America/Denver:20260708T190000
DTEND;TZID=America/Denver:20260708T203000
DTSTAMP:20260420T124405
CREATED:20240712T221258Z
LAST-MODIFIED:20260418T032328Z
UID:9518-1783537200-1783542600@www.olmcfssp.org
SUMMARY:Choir Practice
DESCRIPTION:
URL:https://www.olmcfssp.org/calendar/choir-practice-177/
END:VEVENT
BEGIN:VEVENT
DTSTART;TZID=America/Denver:20260709T093000
DTEND;TZID=America/Denver:20260709T103000
DTSTAMP:20260420T124405
CREATED:20241026T015405Z
LAST-MODIFIED:20260417T023829Z
UID:10628-1783589400-1783593000@www.olmcfssp.org
SUMMARY:Legion of Mary Meeting
DESCRIPTION:The legion exists to be a sign of Mary’s maternal love for the world and a means of enlisting all her children in the Church’s evangelizing work. It is at the disposal of the parish priest for any form of service deemed useful for the welfare of the Church.
URL:https://www.olmcfssp.org/calendar/legion-of-mary-meeting-355/
END:VEVENT
BEGIN:VEVENT
DTSTART;TZID=America/Denver:20260711T093000
DTEND;TZID=America/Denver:20260711T113000
DTSTAMP:20260420T124405
CREATED:20240712T215741Z
LAST-MODIFIED:20260418T055330Z
UID:9290-1783762200-1783769400@www.olmcfssp.org
SUMMARY:Holy Name Society Meeting
DESCRIPTION:The Holy Name Society is an organization of men striving to grow in holiness. The group is open to all men of the parish over the age of 18. Meetings include Mass\, the recitation of the Holy Rosary\, breakfast and a spiritual talk.
URL:https://www.olmcfssp.org/calendar/holy-name-society-meeting-39/
END:VEVENT
BEGIN:VEVENT
DTSTART;TZID=America/Denver:20260711T093000
DTEND;TZID=America/Denver:20260711T130000
DTSTAMP:20260420T124405
CREATED:20240712T221457Z
LAST-MODIFIED:20260418T025329Z
UID:9542-1783762200-1783774800@www.olmcfssp.org
SUMMARY:St. Teresa of Jesus Association
DESCRIPTION:A formation in the spirituality of St. Teresa of Jesus within a Study Group composed of men and women over the age of 25 years. This formation includes daily Mass\, Lectio Divina\, Divine Office and the living a life of apostolic endeavors: ministering to our families and the world.  The members endeavor to give glory to God\, to honor our Blessed Lady of Carmel and to aid our Holy Mother the Church by their prayers.
URL:https://www.olmcfssp.org/calendar/st-teresa-of-jesus-association-40/
END:VEVENT
BEGIN:VEVENT
DTSTART;TZID=America/Denver:20260711T130000
DTEND;TZID=America/Denver:20260711T160000
DTSTAMP:20260420T124405
CREATED:20241102T015922Z
LAST-MODIFIED:20260417T023829Z
UID:10652-1783774800-1783785600@www.olmcfssp.org
SUMMARY:Hibernia Music Group
DESCRIPTION:An OLMC acoustic music group. We play traditional Irish\, Folk and Americana music. All are welcome to join us\, beginner or advanced\, Instrumentalist or Vocalist. Our goal is to sharpen our skills\, increase our musical knowledge\, have good Catholic fellowship\, and share our music.
URL:https://www.olmcfssp.org/calendar/hibernia-music-group-80/
END:VEVENT
BEGIN:VEVENT
DTSTART;TZID=America/Denver:20260712T123000
DTEND;TZID=America/Denver:20260712T140000
DTSTAMP:20260420T124405
CREATED:20241102T015923Z
LAST-MODIFIED:20260417T023829Z
UID:10653-1783859400-1783864800@www.olmcfssp.org
SUMMARY:Knights of Columbus Meeting
DESCRIPTION:As faithful Catholics\, we are called to be salt and light in this material world. As traditional Catholics within the Church Universal\, we are sometimes called\, in charity\, to bring more illumination and flavor to our fellow Catholics. Let us join with him in spreading the message within the Knights of Columbus.
URL:https://www.olmcfssp.org/calendar/knights-of-columbus-meeting-40/
END:VEVENT
BEGIN:VEVENT
DTSTART;TZID=America/Denver:20260712T170000
DTEND;TZID=America/Denver:20260712T180000
DTSTAMP:20260420T124405
CREATED:20240712T215018Z
LAST-MODIFIED:20260418T022331Z
UID:9185-1783875600-1783879200@www.olmcfssp.org
SUMMARY:Sung Vespers
DESCRIPTION:
URL:https://www.olmcfssp.org/calendar/sung-vespers-166/
END:VEVENT
BEGIN:VEVENT
DTSTART;TZID=America/Denver:20260713T180000
DTEND;TZID=America/Denver:20260713T190000
DTSTAMP:20260420T124405
CREATED:20241102T015923Z
LAST-MODIFIED:20260417T023829Z
UID:10654-1783965600-1783969200@www.olmcfssp.org
SUMMARY:Legion of Mary Meeting
DESCRIPTION:The legion exists to be a sign of Mary’s maternal love for the world and a means of enlisting all her children in the Church’s evangelizing work. It is at the disposal of the parish priest for any form of service deemed useful for the welfare of the Church.
URL:https://www.olmcfssp.org/calendar/legion-of-mary-meeting-356/
END:VEVENT
BEGIN:VEVENT
DTSTART;TZID=America/Denver:20260714T093000
DTEND;TZID=America/Denver:20260714T103000
DTSTAMP:20260420T124405
CREATED:20240719T215342Z
LAST-MODIFIED:20260418T022331Z
UID:9622-1784021400-1784025000@www.olmcfssp.org
SUMMARY:Holy Face Devotion Group
DESCRIPTION:His Holy Face Ministry’s mission is to bring the Face of God back into the world to breathe life into souls by making reparation for the sins committed against the majesty of God and the Catholic Church. Join us as a community in making public reparation before a 2nd class relic image of the Veil of St. Veronica on the second Tuesday or third Saturday of each month after the 8:30 AM mass. We also offer presentations on the Holy Face Devotion\, a Home Enthronement Program with the image\, and a Parish Enthronement Program to share with a wider audience.
URL:https://www.olmcfssp.org/calendar/holy-face-devotion-group-48/
END:VEVENT
BEGIN:VEVENT
DTSTART;TZID=America/Denver:20260714T093000
DTEND;TZID=America/Denver:20260714T110000
DTSTAMP:20260420T124405
CREATED:20240719T221049Z
LAST-MODIFIED:20260418T053834Z
UID:9841-1784021400-1784026800@www.olmcfssp.org
SUMMARY:Tuesday Morning Book Club
DESCRIPTION:The Tuesday morning book club meets to read and discuss a selected book that assists with spiritual growth and knowledge of our wonderful Catholic faith. All members of the parish are welcome to drop by and check us out.
URL:https://www.olmcfssp.org/calendar/tuesday-morning-book-club-179/
END:VEVENT
BEGIN:VEVENT
DTSTART;TZID=America/Denver:20260714T170000
DTEND;TZID=America/Denver:20260714T180000
DTSTAMP:20260420T124405
CREATED:20240719T215342Z
LAST-MODIFIED:20260418T022331Z
UID:9623-1784048400-1784052000@www.olmcfssp.org
SUMMARY:Shepherds of Christ Prayer Group
DESCRIPTION:
URL:https://www.olmcfssp.org/calendar/shepherds-of-christ-prayer-group-180/
END:VEVENT
BEGIN:VEVENT
DTSTART;TZID=America/Denver:20260715T190000
DTEND;TZID=America/Denver:20260715T203000
DTSTAMP:20260420T124405
CREATED:20240719T221010Z
LAST-MODIFIED:20260418T032328Z
UID:9803-1784142000-1784147400@www.olmcfssp.org
SUMMARY:Choir Practice
DESCRIPTION:
URL:https://www.olmcfssp.org/calendar/choir-practice-178/
END:VEVENT
BEGIN:VEVENT
DTSTART;TZID=America/Denver:20260716T093000
DTEND;TZID=America/Denver:20260716T103000
DTSTAMP:20260420T124405
CREATED:20241109T032333Z
LAST-MODIFIED:20260417T023829Z
UID:10724-1784194200-1784197800@www.olmcfssp.org
SUMMARY:Legion of Mary Meeting
DESCRIPTION:The legion exists to be a sign of Mary’s maternal love for the world and a means of enlisting all her children in the Church’s evangelizing work. It is at the disposal of the parish priest for any form of service deemed useful for the welfare of the Church.
URL:https://www.olmcfssp.org/calendar/legion-of-mary-meeting-357/
END:VEVENT
BEGIN:VEVENT
DTSTART;TZID=America/Denver:20260716T093000
DTEND;TZID=America/Denver:20260716T110000
DTSTAMP:20260420T124405
CREATED:20240719T222349Z
LAST-MODIFIED:20260418T025329Z
UID:9866-1784194200-1784199600@www.olmcfssp.org
SUMMARY:St. Therese Book Club
DESCRIPTION:Come and study the works of St. Therese as a group. All are welcome.
URL:https://www.olmcfssp.org/calendar/st-therese-book-club-41/
END:VEVENT
BEGIN:VEVENT
DTSTART;TZID=America/Denver:20260718T093000
DTEND;TZID=America/Denver:20260718T120000
DTSTAMP:20260420T124405
CREATED:20240719T220849Z
LAST-MODIFIED:20260418T055330Z
UID:9657-1784367000-1784376000@www.olmcfssp.org
SUMMARY:Altar and Rosary Society Meeting
DESCRIPTION:The Altar and Rosary Society is an organization of women who foster and spread devotion to the Holy Rosary\, maintain the cleanliness of the church sanctuary\, wash and iron altar linens\, and arrange flowers for the altar.
URL:https://www.olmcfssp.org/calendar/altar-and-rosary-society-meeting-34/
END:VEVENT
BEGIN:VEVENT
DTSTART;TZID=America/Denver:20260719T123000
DTEND;TZID=America/Denver:20260719T140000
DTSTAMP:20260420T124405
CREATED:20240719T221049Z
LAST-MODIFIED:20260418T053834Z
UID:9842-1784464200-1784469600@www.olmcfssp.org
SUMMARY:Creation Study Group
DESCRIPTION:This group is dedicated to studying the traditional Catholic teaching on creation and Genesis as believed and taught by the Doctors\, Fathers\, Councils and Popes for two thousand years. We explore various aspects of the creation/evolutionism debate and the effects of evolutionary thought on culture\, science and the Church. As Pope St Pius X said about Modernism\, that it is the “synthesis of all heresies.” And “the chief of their doctrines\, that of evolution.” \nAll are welcome to attend and contribute their experience and expertise.
URL:https://www.olmcfssp.org/calendar/creation-study-group-33/
END:VEVENT
BEGIN:VEVENT
DTSTART;TZID=America/Denver:20260719T140000
DTEND;TZID=America/Denver:20260719T170000
DTSTAMP:20260420T124405
CREATED:20241109T032334Z
LAST-MODIFIED:20260417T023829Z
UID:10725-1784469600-1784480400@www.olmcfssp.org
SUMMARY:Laeta Vita
DESCRIPTION:Leata Vita (Joyful Life) is a group for single women ages 18-35. The purpose of our group is to meet and grow in fellowship with other women who are in a similar season of life. We meet two times a month. The first meeting of the month consists of discussing a book as part of our book club and socializing with each other. The second meeting of the month consists of a fun outing or activity (and every now and then something charitable for the parish or some other organization)\, meant to give the members a chance to get out and have some fun.
URL:https://www.olmcfssp.org/calendar/laeta-vita-74/
END:VEVENT
BEGIN:VEVENT
DTSTART;TZID=America/Denver:20260719T170000
DTEND;TZID=America/Denver:20260719T180000
DTSTAMP:20260420T124405
CREATED:20240719T215342Z
LAST-MODIFIED:20260418T022331Z
UID:9624-1784480400-1784484000@www.olmcfssp.org
SUMMARY:Sung Vespers
DESCRIPTION:
URL:https://www.olmcfssp.org/calendar/sung-vespers-167/
END:VEVENT
BEGIN:VEVENT
DTSTART;TZID=America/Denver:20260720T180000
DTEND;TZID=America/Denver:20260720T190000
DTSTAMP:20260420T124405
CREATED:20241109T032334Z
LAST-MODIFIED:20260417T023829Z
UID:10726-1784570400-1784574000@www.olmcfssp.org
SUMMARY:Legion of Mary Meeting
DESCRIPTION:The legion exists to be a sign of Mary’s maternal love for the world and a means of enlisting all her children in the Church’s evangelizing work. It is at the disposal of the parish priest for any form of service deemed useful for the welfare of the Church.
URL:https://www.olmcfssp.org/calendar/legion-of-mary-meeting-358/
END:VEVENT
BEGIN:VEVENT
DTSTART;TZID=America/Denver:20260721T093000
DTEND;TZID=America/Denver:20260721T110000
DTSTAMP:20260420T124405
CREATED:20240726T230849Z
LAST-MODIFIED:20260418T053834Z
UID:9907-1784626200-1784631600@www.olmcfssp.org
SUMMARY:Tuesday Morning Book Club
DESCRIPTION:The Tuesday morning book club meets to read and discuss a selected book that assists with spiritual growth and knowledge of our wonderful Catholic faith. All members of the parish are welcome to drop by and check us out.
URL:https://www.olmcfssp.org/calendar/tuesday-morning-book-club-180/
END:VEVENT
END:VCALENDAR