BEGIN:VCALENDAR
VERSION:2.0
PRODID:-//Our Lady of Mt. Carmel - ECPv6.15.20//NONSGML v1.0//EN
CALSCALE:GREGORIAN
METHOD:PUBLISH
X-ORIGINAL-URL:https://www.olmcfssp.org
X-WR-CALDESC:Events for Our Lady of Mt. Carmel
REFRESH-INTERVAL;VALUE=DURATION:PT1H
X-Robots-Tag:noindex
X-PUBLISHED-TTL:PT1H
BEGIN:VTIMEZONE
TZID:America/Denver
BEGIN:DAYLIGHT
TZOFFSETFROM:-0700
TZOFFSETTO:-0600
TZNAME:MDT
DTSTART:20250309T090000
END:DAYLIGHT
BEGIN:STANDARD
TZOFFSETFROM:-0600
TZOFFSETTO:-0700
TZNAME:MST
DTSTART:20251102T080000
END:STANDARD
BEGIN:DAYLIGHT
TZOFFSETFROM:-0700
TZOFFSETTO:-0600
TZNAME:MDT
DTSTART:20260308T090000
END:DAYLIGHT
BEGIN:STANDARD
TZOFFSETFROM:-0600
TZOFFSETTO:-0700
TZNAME:MST
DTSTART:20261101T080000
END:STANDARD
BEGIN:DAYLIGHT
TZOFFSETFROM:-0700
TZOFFSETTO:-0600
TZNAME:MDT
DTSTART:20270314T090000
END:DAYLIGHT
BEGIN:STANDARD
TZOFFSETFROM:-0600
TZOFFSETTO:-0700
TZNAME:MST
DTSTART:20271107T080000
END:STANDARD
END:VTIMEZONE
BEGIN:VEVENT
DTSTART;TZID=America/Denver:20260420T180000
DTEND;TZID=America/Denver:20260420T190000
DTSTAMP:20260420T221038
CREATED:20240809T235920Z
LAST-MODIFIED:20260417T023829Z
UID:10022-1776708000-1776711600@www.olmcfssp.org
SUMMARY:Legion of Mary Meeting
DESCRIPTION:The legion exists to be a sign of Mary’s maternal love for the world and a means of enlisting all her children in the Church’s evangelizing work. It is at the disposal of the parish priest for any form of service deemed useful for the welfare of the Church.
URL:https://www.olmcfssp.org/calendar/legion-of-mary-meeting-332/
END:VEVENT
BEGIN:VEVENT
DTSTART;TZID=America/Denver:20260421T093000
DTEND;TZID=America/Denver:20260421T110000
DTSTAMP:20260420T221038
CREATED:20240712T221126Z
LAST-MODIFIED:20260418T053833Z
UID:9471-1776763800-1776769200@www.olmcfssp.org
SUMMARY:Tuesday Morning Book Club
DESCRIPTION:The Tuesday morning book club meets to read and discuss a selected book that assists with spiritual growth and knowledge of our wonderful Catholic faith. All members of the parish are welcome to drop by and check us out.
URL:https://www.olmcfssp.org/calendar/tuesday-morning-book-club-167/
END:VEVENT
BEGIN:VEVENT
DTSTART;TZID=America/Denver:20260421T170000
DTEND;TZID=America/Denver:20260421T180000
DTSTAMP:20260420T221038
CREATED:20240712T215017Z
LAST-MODIFIED:20260418T022330Z
UID:9160-1776790800-1776794400@www.olmcfssp.org
SUMMARY:Shepherds of Christ Prayer Group
DESCRIPTION:
URL:https://www.olmcfssp.org/calendar/shepherds-of-christ-prayer-group-168/
END:VEVENT
BEGIN:VEVENT
DTSTART;TZID=America/Denver:20260422T180000
DTEND;TZID=America/Denver:20260422T210000
DTSTAMP:20260420T221038
CREATED:20240817T000857Z
LAST-MODIFIED:20260417T023829Z
UID:10058-1776880800-1776891600@www.olmcfssp.org
SUMMARY:Hibernia Music Group
DESCRIPTION:An OLMC acoustic music group. We play traditional Irish\, Folk and Americana music. All are welcome to join us\, beginner or advanced\, Instrumentalist or Vocalist. Our goal is to sharpen our skills\, increase our musical knowledge\, have good Catholic fellowship\, and share our music.
URL:https://www.olmcfssp.org/calendar/hibernia-music-group-75/
END:VEVENT
BEGIN:VEVENT
DTSTART;TZID=America/Denver:20260422T190000
DTEND;TZID=America/Denver:20260422T203000
DTSTAMP:20260420T221038
CREATED:20240712T221257Z
LAST-MODIFIED:20260418T032328Z
UID:9507-1776884400-1776889800@www.olmcfssp.org
SUMMARY:Choir Practice
DESCRIPTION:
URL:https://www.olmcfssp.org/calendar/choir-practice-166/
END:VEVENT
BEGIN:VEVENT
DTSTART;TZID=America/Denver:20260423T093000
DTEND;TZID=America/Denver:20260423T103000
DTSTAMP:20260420T221038
CREATED:20240817T000857Z
LAST-MODIFIED:20260417T023829Z
UID:10059-1776936600-1776940200@www.olmcfssp.org
SUMMARY:Legion of Mary Meeting
DESCRIPTION:The legion exists to be a sign of Mary’s maternal love for the world and a means of enlisting all her children in the Church’s evangelizing work. It is at the disposal of the parish priest for any form of service deemed useful for the welfare of the Church.
URL:https://www.olmcfssp.org/calendar/legion-of-mary-meeting-333/
END:VEVENT
BEGIN:VEVENT
DTSTART;TZID=America/Denver:20260425T101500
DTEND;TZID=America/Denver:20260425T110000
DTSTAMP:20260420T221038
CREATED:20240712T215504Z
LAST-MODIFIED:20260418T060827Z
UID:9238-1777112100-1777114800@www.olmcfssp.org
SUMMARY:Planned Parenthood Prayer Vigil
DESCRIPTION:Please join us for our monthly parish prayer vigil at Planned Parenthood starting at 10:15 am. The facility is located at 7155 E 38th Ave. in Denver.
URL:https://www.olmcfssp.org/calendar/planned-parenthood-prayer-vigil-53/
END:VEVENT
BEGIN:VEVENT
DTSTART;TZID=America/Denver:20260426T123000
DTEND;TZID=America/Denver:20260426T141500
DTSTAMP:20260420T221038
CREATED:20240817T000857Z
LAST-MODIFIED:20260417T023829Z
UID:10060-1777206600-1777212900@www.olmcfssp.org
SUMMARY:Carmel Rookies Chess Club
DESCRIPTION:Carmel Rookies Chess Club for players under 18. Players/parents must RSVP to Mr. Mudd at rdm3rdm3@gmail.com to reserve their spot as space is limited.
URL:https://www.olmcfssp.org/calendar/carmel-rookies-chess-club-73/
END:VEVENT
BEGIN:VEVENT
DTSTART;TZID=America/Denver:20260426T170000
DTEND;TZID=America/Denver:20260426T180000
DTSTAMP:20260420T221038
CREATED:20240712T215017Z
LAST-MODIFIED:20260418T022330Z
UID:9161-1777222800-1777226400@www.olmcfssp.org
SUMMARY:Sung Vespers
DESCRIPTION:
URL:https://www.olmcfssp.org/calendar/sung-vespers-155/
END:VEVENT
BEGIN:VEVENT
DTSTART;TZID=America/Denver:20260427T180000
DTEND;TZID=America/Denver:20260427T190000
DTSTAMP:20260420T221038
CREATED:20240817T000857Z
LAST-MODIFIED:20260417T023829Z
UID:10061-1777312800-1777316400@www.olmcfssp.org
SUMMARY:Legion of Mary Meeting
DESCRIPTION:The legion exists to be a sign of Mary’s maternal love for the world and a means of enlisting all her children in the Church’s evangelizing work. It is at the disposal of the parish priest for any form of service deemed useful for the welfare of the Church.
URL:https://www.olmcfssp.org/calendar/legion-of-mary-meeting-334/
END:VEVENT
BEGIN:VEVENT
DTSTART;TZID=America/Denver:20260428T093000
DTEND;TZID=America/Denver:20260428T110000
DTSTAMP:20260420T221038
CREATED:20240712T221126Z
LAST-MODIFIED:20260418T053833Z
UID:9472-1777368600-1777374000@www.olmcfssp.org
SUMMARY:Tuesday Morning Book Club
DESCRIPTION:The Tuesday morning book club meets to read and discuss a selected book that assists with spiritual growth and knowledge of our wonderful Catholic faith. All members of the parish are welcome to drop by and check us out.
URL:https://www.olmcfssp.org/calendar/tuesday-morning-book-club-168/
END:VEVENT
BEGIN:VEVENT
DTSTART;TZID=America/Denver:20260428T170000
DTEND;TZID=America/Denver:20260428T180000
DTSTAMP:20260420T221038
CREATED:20240712T215017Z
LAST-MODIFIED:20260418T022330Z
UID:9162-1777395600-1777399200@www.olmcfssp.org
SUMMARY:Shepherds of Christ Prayer Group
DESCRIPTION:
URL:https://www.olmcfssp.org/calendar/shepherds-of-christ-prayer-group-169/
END:VEVENT
BEGIN:VEVENT
DTSTART;TZID=America/Denver:20260429T190000
DTEND;TZID=America/Denver:20260429T203000
DTSTAMP:20260420T221038
CREATED:20240712T221257Z
LAST-MODIFIED:20260418T032328Z
UID:9508-1777489200-1777494600@www.olmcfssp.org
SUMMARY:Choir Practice
DESCRIPTION:
URL:https://www.olmcfssp.org/calendar/choir-practice-167/
END:VEVENT
BEGIN:VEVENT
DTSTART;TZID=America/Denver:20260430T093000
DTEND;TZID=America/Denver:20260430T103000
DTSTAMP:20260420T221038
CREATED:20240824T000903Z
LAST-MODIFIED:20260417T023829Z
UID:10103-1777541400-1777545000@www.olmcfssp.org
SUMMARY:Legion of Mary Meeting
DESCRIPTION:The legion exists to be a sign of Mary’s maternal love for the world and a means of enlisting all her children in the Church’s evangelizing work. It is at the disposal of the parish priest for any form of service deemed useful for the welfare of the Church.
URL:https://www.olmcfssp.org/calendar/legion-of-mary-meeting-335/
END:VEVENT
END:VCALENDAR