BEGIN:VCALENDAR
VERSION:2.0
PRODID:-//Our Lady of Mt. Carmel - ECPv6.15.20//NONSGML v1.0//EN
CALSCALE:GREGORIAN
METHOD:PUBLISH
X-ORIGINAL-URL:https://www.olmcfssp.org
X-WR-CALDESC:Events for Our Lady of Mt. Carmel
REFRESH-INTERVAL;VALUE=DURATION:PT1H
X-Robots-Tag:noindex
X-PUBLISHED-TTL:PT1H
BEGIN:VTIMEZONE
TZID:America/Denver
BEGIN:DAYLIGHT
TZOFFSETFROM:-0700
TZOFFSETTO:-0600
TZNAME:MDT
DTSTART:20250309T090000
END:DAYLIGHT
BEGIN:STANDARD
TZOFFSETFROM:-0600
TZOFFSETTO:-0700
TZNAME:MST
DTSTART:20251102T080000
END:STANDARD
BEGIN:DAYLIGHT
TZOFFSETFROM:-0700
TZOFFSETTO:-0600
TZNAME:MDT
DTSTART:20260308T090000
END:DAYLIGHT
BEGIN:STANDARD
TZOFFSETFROM:-0600
TZOFFSETTO:-0700
TZNAME:MST
DTSTART:20261101T080000
END:STANDARD
BEGIN:DAYLIGHT
TZOFFSETFROM:-0700
TZOFFSETTO:-0600
TZNAME:MDT
DTSTART:20270314T090000
END:DAYLIGHT
BEGIN:STANDARD
TZOFFSETFROM:-0600
TZOFFSETTO:-0700
TZNAME:MST
DTSTART:20271107T080000
END:STANDARD
END:VTIMEZONE
BEGIN:VEVENT
DTSTART;TZID=America/Denver:20260614T123000
DTEND;TZID=America/Denver:20260614T140000
DTSTAMP:20260420T105703
CREATED:20241005T012438Z
LAST-MODIFIED:20260417T023828Z
UID:10516-1781440200-1781445600@www.olmcfssp.org
SUMMARY:Knights of Columbus Meeting
DESCRIPTION:As faithful Catholics\, we are called to be salt and light in this material world. As traditional Catholics within the Church Universal\, we are sometimes called\, in charity\, to bring more illumination and flavor to our fellow Catholics. Let us join with him in spreading the message within the Knights of Columbus.
URL:https://www.olmcfssp.org/calendar/knights-of-columbus-meeting-39/
END:VEVENT
BEGIN:VEVENT
DTSTART;TZID=America/Denver:20260614T170000
DTEND;TZID=America/Denver:20260614T180000
DTSTAMP:20260420T105703
CREATED:20240712T215018Z
LAST-MODIFIED:20260418T022330Z
UID:9177-1781456400-1781460000@www.olmcfssp.org
SUMMARY:Sung Vespers
DESCRIPTION:
URL:https://www.olmcfssp.org/calendar/sung-vespers-162/
END:VEVENT
BEGIN:VEVENT
DTSTART;TZID=America/Denver:20260615T180000
DTEND;TZID=America/Denver:20260615T190000
DTSTAMP:20260420T105703
CREATED:20241005T012438Z
LAST-MODIFIED:20260417T023828Z
UID:10517-1781546400-1781550000@www.olmcfssp.org
SUMMARY:Legion of Mary Meeting
DESCRIPTION:The legion exists to be a sign of Mary’s maternal love for the world and a means of enlisting all her children in the Church’s evangelizing work. It is at the disposal of the parish priest for any form of service deemed useful for the welfare of the Church.
URL:https://www.olmcfssp.org/calendar/legion-of-mary-meeting-348/
END:VEVENT
BEGIN:VEVENT
DTSTART;TZID=America/Denver:20260616T093000
DTEND;TZID=America/Denver:20260616T110000
DTSTAMP:20260420T105703
CREATED:20240712T221128Z
LAST-MODIFIED:20260418T053833Z
UID:9480-1781602200-1781607600@www.olmcfssp.org
SUMMARY:Tuesday Morning Book Club
DESCRIPTION:The Tuesday morning book club meets to read and discuss a selected book that assists with spiritual growth and knowledge of our wonderful Catholic faith. All members of the parish are welcome to drop by and check us out.
URL:https://www.olmcfssp.org/calendar/tuesday-morning-book-club-175/
END:VEVENT
BEGIN:VEVENT
DTSTART;TZID=America/Denver:20260616T170000
DTEND;TZID=America/Denver:20260616T180000
DTSTAMP:20260420T105703
CREATED:20240712T215018Z
LAST-MODIFIED:20260418T022330Z
UID:9178-1781629200-1781632800@www.olmcfssp.org
SUMMARY:Shepherds of Christ Prayer Group
DESCRIPTION:
URL:https://www.olmcfssp.org/calendar/shepherds-of-christ-prayer-group-176/
END:VEVENT
BEGIN:VEVENT
DTSTART;TZID=America/Denver:20260617T190000
DTEND;TZID=America/Denver:20260617T203000
DTSTAMP:20260420T105703
CREATED:20240712T221258Z
LAST-MODIFIED:20260418T032328Z
UID:9515-1781722800-1781728200@www.olmcfssp.org
SUMMARY:Choir Practice
DESCRIPTION:
URL:https://www.olmcfssp.org/calendar/choir-practice-174/
END:VEVENT
BEGIN:VEVENT
DTSTART;TZID=America/Denver:20260618T093000
DTEND;TZID=America/Denver:20260618T103000
DTSTAMP:20260420T105703
CREATED:20241012T013840Z
LAST-MODIFIED:20260417T023828Z
UID:10552-1781775000-1781778600@www.olmcfssp.org
SUMMARY:Legion of Mary Meeting
DESCRIPTION:The legion exists to be a sign of Mary’s maternal love for the world and a means of enlisting all her children in the Church’s evangelizing work. It is at the disposal of the parish priest for any form of service deemed useful for the welfare of the Church.
URL:https://www.olmcfssp.org/calendar/legion-of-mary-meeting-349/
END:VEVENT
BEGIN:VEVENT
DTSTART;TZID=America/Denver:20260618T093000
DTEND;TZID=America/Denver:20260618T110000
DTSTAMP:20260420T105703
CREATED:20240712T221457Z
LAST-MODIFIED:20260418T025329Z
UID:9540-1781775000-1781780400@www.olmcfssp.org
SUMMARY:St. Therese Book Club
DESCRIPTION:Come and study the works of St. Therese as a group. All are welcome.
URL:https://www.olmcfssp.org/calendar/st-therese-book-club-40/
END:VEVENT
BEGIN:VEVENT
DTSTART;TZID=America/Denver:20260620T093000
DTEND;TZID=America/Denver:20260620T120000
DTSTAMP:20260420T105703
CREATED:20240712T215740Z
LAST-MODIFIED:20260418T055330Z
UID:9287-1781947800-1781956800@www.olmcfssp.org
SUMMARY:Altar and Rosary Society Meeting
DESCRIPTION:The Altar and Rosary Society is an organization of women who foster and spread devotion to the Holy Rosary\, maintain the cleanliness of the church sanctuary\, wash and iron altar linens\, and arrange flowers for the altar.
URL:https://www.olmcfssp.org/calendar/altar-and-rosary-society-meeting-33/
END:VEVENT
BEGIN:VEVENT
DTSTART;TZID=America/Denver:20260621T123000
DTEND;TZID=America/Denver:20260621T140000
DTSTAMP:20260420T105703
CREATED:20240712T221129Z
LAST-MODIFIED:20260418T053833Z
UID:9481-1782045000-1782050400@www.olmcfssp.org
SUMMARY:Creation Study Group
DESCRIPTION:This group is dedicated to studying the traditional Catholic teaching on creation and Genesis as believed and taught by the Doctors\, Fathers\, Councils and Popes for two thousand years. We explore various aspects of the creation/evolutionism debate and the effects of evolutionary thought on culture\, science and the Church. As Pope St Pius X said about Modernism\, that it is the “synthesis of all heresies.” And “the chief of their doctrines\, that of evolution.” \nAll are welcome to attend and contribute their experience and expertise.
URL:https://www.olmcfssp.org/calendar/creation-study-group-32/
END:VEVENT
BEGIN:VEVENT
DTSTART;TZID=America/Denver:20260621T140000
DTEND;TZID=America/Denver:20260621T170000
DTSTAMP:20260420T105703
CREATED:20241012T013840Z
LAST-MODIFIED:20260417T023829Z
UID:10553-1782050400-1782061200@www.olmcfssp.org
SUMMARY:Laeta Vita
DESCRIPTION:Leata Vita (Joyful Life) is a group for single women ages 18-35. The purpose of our group is to meet and grow in fellowship with other women who are in a similar season of life. We meet two times a month. The first meeting of the month consists of discussing a book as part of our book club and socializing with each other. The second meeting of the month consists of a fun outing or activity (and every now and then something charitable for the parish or some other organization)\, meant to give the members a chance to get out and have some fun.
URL:https://www.olmcfssp.org/calendar/laeta-vita-72/
END:VEVENT
BEGIN:VEVENT
DTSTART;TZID=America/Denver:20260621T170000
DTEND;TZID=America/Denver:20260621T180000
DTSTAMP:20260420T105703
CREATED:20240712T215018Z
LAST-MODIFIED:20260418T022330Z
UID:9179-1782061200-1782064800@www.olmcfssp.org
SUMMARY:Sung Vespers
DESCRIPTION:
URL:https://www.olmcfssp.org/calendar/sung-vespers-163/
END:VEVENT
BEGIN:VEVENT
DTSTART;TZID=America/Denver:20260622T180000
DTEND;TZID=America/Denver:20260622T190000
DTSTAMP:20260420T105703
CREATED:20241012T013840Z
LAST-MODIFIED:20260417T023829Z
UID:10554-1782151200-1782154800@www.olmcfssp.org
SUMMARY:Legion of Mary Meeting
DESCRIPTION:The legion exists to be a sign of Mary’s maternal love for the world and a means of enlisting all her children in the Church’s evangelizing work. It is at the disposal of the parish priest for any form of service deemed useful for the welfare of the Church.
URL:https://www.olmcfssp.org/calendar/legion-of-mary-meeting-350/
END:VEVENT
BEGIN:VEVENT
DTSTART;TZID=America/Denver:20260623T093000
DTEND;TZID=America/Denver:20260623T110000
DTSTAMP:20260420T105703
CREATED:20240712T221129Z
LAST-MODIFIED:20260418T053833Z
UID:9482-1782207000-1782212400@www.olmcfssp.org
SUMMARY:Tuesday Morning Book Club
DESCRIPTION:The Tuesday morning book club meets to read and discuss a selected book that assists with spiritual growth and knowledge of our wonderful Catholic faith. All members of the parish are welcome to drop by and check us out.
URL:https://www.olmcfssp.org/calendar/tuesday-morning-book-club-176/
END:VEVENT
BEGIN:VEVENT
DTSTART;TZID=America/Denver:20260623T170000
DTEND;TZID=America/Denver:20260623T180000
DTSTAMP:20260420T105703
CREATED:20240712T215018Z
LAST-MODIFIED:20260418T022330Z
UID:9180-1782234000-1782237600@www.olmcfssp.org
SUMMARY:Shepherds of Christ Prayer Group
DESCRIPTION:
URL:https://www.olmcfssp.org/calendar/shepherds-of-christ-prayer-group-177/
END:VEVENT
BEGIN:VEVENT
DTSTART;TZID=America/Denver:20260624T180000
DTEND;TZID=America/Denver:20260624T210000
DTSTAMP:20260420T105703
CREATED:20241019T013841Z
LAST-MODIFIED:20260417T023829Z
UID:10590-1782324000-1782334800@www.olmcfssp.org
SUMMARY:Hibernia Music Group
DESCRIPTION:An OLMC acoustic music group. We play traditional Irish\, Folk and Americana music. All are welcome to join us\, beginner or advanced\, Instrumentalist or Vocalist. Our goal is to sharpen our skills\, increase our musical knowledge\, have good Catholic fellowship\, and share our music.
URL:https://www.olmcfssp.org/calendar/hibernia-music-group-79/
END:VEVENT
BEGIN:VEVENT
DTSTART;TZID=America/Denver:20260624T190000
DTEND;TZID=America/Denver:20260624T203000
DTSTAMP:20260420T105703
CREATED:20240712T221258Z
LAST-MODIFIED:20260418T032328Z
UID:9516-1782327600-1782333000@www.olmcfssp.org
SUMMARY:Choir Practice
DESCRIPTION:
URL:https://www.olmcfssp.org/calendar/choir-practice-175/
END:VEVENT
BEGIN:VEVENT
DTSTART;TZID=America/Denver:20260625T093000
DTEND;TZID=America/Denver:20260625T103000
DTSTAMP:20260420T105703
CREATED:20241019T013841Z
LAST-MODIFIED:20260417T023829Z
UID:10591-1782379800-1782383400@www.olmcfssp.org
SUMMARY:Legion of Mary Meeting
DESCRIPTION:The legion exists to be a sign of Mary’s maternal love for the world and a means of enlisting all her children in the Church’s evangelizing work. It is at the disposal of the parish priest for any form of service deemed useful for the welfare of the Church.
URL:https://www.olmcfssp.org/calendar/legion-of-mary-meeting-351/
END:VEVENT
BEGIN:VEVENT
DTSTART;TZID=America/Denver:20260627T101500
DTEND;TZID=America/Denver:20260627T110000
DTSTAMP:20260420T105703
CREATED:20240712T215504Z
LAST-MODIFIED:20260418T060827Z
UID:9240-1782555300-1782558000@www.olmcfssp.org
SUMMARY:Planned Parenthood Prayer Vigil
DESCRIPTION:Please join us for our monthly parish prayer vigil at Planned Parenthood starting at 10:15 am. The facility is located at 7155 E 38th Ave. in Denver.
URL:https://www.olmcfssp.org/calendar/planned-parenthood-prayer-vigil-55/
END:VEVENT
BEGIN:VEVENT
DTSTART;TZID=America/Denver:20260628T120000
DTEND;TZID=America/Denver:20260628T143000
DTSTAMP:20260420T105703
CREATED:20240712T215741Z
LAST-MODIFIED:20260418T055330Z
UID:9288-1782648000-1782657000@www.olmcfssp.org
SUMMARY:Adult Chess Club
DESCRIPTION:For players 18 and over. Players must RSVP to Mr. Mudd at rdm3rdm3@gmail.com to reserve their spot as space is limited.
URL:https://www.olmcfssp.org/calendar/adult-chess-club-8/
END:VEVENT
BEGIN:VEVENT
DTSTART;TZID=America/Denver:20260628T123000
DTEND;TZID=America/Denver:20260628T141500
DTSTAMP:20260420T105703
CREATED:20241019T013841Z
LAST-MODIFIED:20260417T023829Z
UID:10592-1782649800-1782656100@www.olmcfssp.org
SUMMARY:Carmel Rookies Chess Club
DESCRIPTION:Carmel Rookies Chess Club for players under 18. Players/parents must RSVP to Mr. Mudd at rdm3rdm3@gmail.com to reserve their spot as space is limited.
URL:https://www.olmcfssp.org/calendar/carmel-rookies-chess-club-75/
END:VEVENT
BEGIN:VEVENT
DTSTART;TZID=America/Denver:20260628T170000
DTEND;TZID=America/Denver:20260628T180000
DTSTAMP:20260420T105703
CREATED:20240712T215018Z
LAST-MODIFIED:20260418T022330Z
UID:9181-1782666000-1782669600@www.olmcfssp.org
SUMMARY:Sung Vespers
DESCRIPTION:
URL:https://www.olmcfssp.org/calendar/sung-vespers-164/
END:VEVENT
BEGIN:VEVENT
DTSTART;TZID=America/Denver:20260629T180000
DTEND;TZID=America/Denver:20260629T190000
DTSTAMP:20260420T105703
CREATED:20241019T013841Z
LAST-MODIFIED:20260417T023829Z
UID:10593-1782756000-1782759600@www.olmcfssp.org
SUMMARY:Legion of Mary Meeting
DESCRIPTION:The legion exists to be a sign of Mary’s maternal love for the world and a means of enlisting all her children in the Church’s evangelizing work. It is at the disposal of the parish priest for any form of service deemed useful for the welfare of the Church.
URL:https://www.olmcfssp.org/calendar/legion-of-mary-meeting-352/
END:VEVENT
BEGIN:VEVENT
DTSTART;TZID=America/Denver:20260630T093000
DTEND;TZID=America/Denver:20260630T110000
DTSTAMP:20260420T105703
CREATED:20240712T221129Z
LAST-MODIFIED:20260418T053833Z
UID:9483-1782811800-1782817200@www.olmcfssp.org
SUMMARY:Tuesday Morning Book Club
DESCRIPTION:The Tuesday morning book club meets to read and discuss a selected book that assists with spiritual growth and knowledge of our wonderful Catholic faith. All members of the parish are welcome to drop by and check us out.
URL:https://www.olmcfssp.org/calendar/tuesday-morning-book-club-177/
END:VEVENT
BEGIN:VEVENT
DTSTART;TZID=America/Denver:20260630T170000
DTEND;TZID=America/Denver:20260630T180000
DTSTAMP:20260420T105703
CREATED:20240712T215018Z
LAST-MODIFIED:20260418T022330Z
UID:9182-1782838800-1782842400@www.olmcfssp.org
SUMMARY:Shepherds of Christ Prayer Group
DESCRIPTION:
URL:https://www.olmcfssp.org/calendar/shepherds-of-christ-prayer-group-178/
END:VEVENT
BEGIN:VEVENT
DTSTART;TZID=America/Denver:20260701T183000
DTEND;TZID=America/Denver:20260701T203000
DTSTAMP:20260420T105703
CREATED:20240712T221457Z
LAST-MODIFIED:20260418T025329Z
UID:9541-1782930600-1782937800@www.olmcfssp.org
SUMMARY:Safety Team Meeting
DESCRIPTION:The purpose of the OLMC Safety Team is to provide a safe and secure environment for all parishioners and visitors. Primarily\, this is accomplished by the observation of people\, places and events and your assessment of situations and then to follow through with appropriate action.
URL:https://www.olmcfssp.org/calendar/safety-team-meeting-41/
END:VEVENT
BEGIN:VEVENT
DTSTART;TZID=America/Denver:20260701T190000
DTEND;TZID=America/Denver:20260701T203000
DTSTAMP:20260420T105703
CREATED:20240712T221258Z
LAST-MODIFIED:20260418T032328Z
UID:9517-1782932400-1782937800@www.olmcfssp.org
SUMMARY:Choir Practice
DESCRIPTION:
URL:https://www.olmcfssp.org/calendar/choir-practice-176/
END:VEVENT
BEGIN:VEVENT
DTSTART;TZID=America/Denver:20260702T093000
DTEND;TZID=America/Denver:20260702T103000
DTSTAMP:20260420T105703
CREATED:20241026T015405Z
LAST-MODIFIED:20260417T023829Z
UID:10625-1782984600-1782988200@www.olmcfssp.org
SUMMARY:Legion of Mary Meeting
DESCRIPTION:The legion exists to be a sign of Mary’s maternal love for the world and a means of enlisting all her children in the Church’s evangelizing work. It is at the disposal of the parish priest for any form of service deemed useful for the welfare of the Church.
URL:https://www.olmcfssp.org/calendar/legion-of-mary-meeting-353/
END:VEVENT
BEGIN:VEVENT
DTSTART;TZID=America/Denver:20260704T093000
DTEND;TZID=America/Denver:20260704T113000
DTSTAMP:20260420T105703
CREATED:20240712T215741Z
LAST-MODIFIED:20260418T055330Z
UID:9289-1783157400-1783164600@www.olmcfssp.org
SUMMARY:Confraternity of Christian Mothers
DESCRIPTION:All women aged 16 and up of all walks of life are invited to attend. Some of us are called to physical motherhood\, but we are all called to spiritual motherhood. 
URL:https://www.olmcfssp.org/calendar/confraternity-of-christian-mothers-85/
END:VEVENT
BEGIN:VEVENT
DTSTART;TZID=America/Denver:20260705T140000
DTEND;TZID=America/Denver:20260705T170000
DTSTAMP:20260420T105703
CREATED:20241026T015405Z
LAST-MODIFIED:20260417T023829Z
UID:10626-1783260000-1783270800@www.olmcfssp.org
SUMMARY:Laeta Vita
DESCRIPTION:Leata Vita (Joyful Life) is a group for single women ages 18-35. The purpose of our group is to meet and grow in fellowship with other women who are in a similar season of life. We meet two times a month. The first meeting of the month consists of discussing a book as part of our book club and socializing with each other. The second meeting of the month consists of a fun outing or activity (and every now and then something charitable for the parish or some other organization)\, meant to give the members a chance to get out and have some fun.
URL:https://www.olmcfssp.org/calendar/laeta-vita-73/
END:VEVENT
END:VCALENDAR